Workbook
Name chuong_pl_2_name: 'Cay LN ke khai'!$A$2
Name chuong_pl_2_name: 'PL II. CAY LAM NGHIEP'!$A$2

Sheet Cay LN ke khai
A1: ỦY BAN NHÂN DÂN ……………….
A2: TỔNG HỢP ĐỀ XUẤT HỖ TRỢ ĐỐI VỚI LÂM NGHIỆP BỊ THIỆT HẠI DO BÃO SỐ 10 NĂM 2025
A3: (Từ ngày.... tháng.... năm ……. đến ngày ….. tháng.... năm....)
A5: TT | B5: Thôn | C5: Tổng giá trị thiệt hại (triệu đồng) | D5: Thiệt hại trên 70% | F5: Thiệt hại từ 30% đến 70% | H5: Kinh phí hỗ trợ | K5: Số QĐ hỗ trợ
D6: Diện tích cây rừng, cây lâm sản ngoài gỗ trồng trên đất lâm nghiệp mới trồng đến 1/2 chu kỳ khai thác (ha) | E6: Diện tích cây rừng, cây lâm sản ngoài gỗ trồng trên đất lâm nghiệp trên 1/2 chu kỳ khai thác, diện tích rừng trồng gỗ lớn trên 03 năm tuổi (ha) | F6: Diện tích cây rừng, cây lâm sản ngoài gỗ trồng trên đất lâm nghiệp mới trồng đến 1/2 chu kỳ khai thác (ha) | G6: Diện tích cây rừng, cây lâm sản ngoài gỗ trồng trên đất lâm nghiệp trên 1/2 chu kỳ khai thác, diện tích rừng trồng gỗ lớn trên 03 năm tuổi (ha) | H6: Tổng NSNN hỗ trợ (triệu đồng) | I6: NSTW (triệu đồng) | J6: NSĐP đảm bảo (triệu đồng)
A7: 1 | B7: Hoa Đông | C7: =D7*50+E7*70 -> 10985.5 | D7: =+SUMIFS(HOAĐÔNG!G6:G98,HOAĐÔNG!H6:H98,"<30") -> 32.6 | E7: =SUMIFS(HOAĐÔNG!G6:G98,HOAĐÔNG!H6:H98,">=30") -> 133.65 | H7: =D7*8+E7*15 -> 2265.55 | I7: =0.8*H7 -> 1812.44 | J7: =0.2*H7 -> 453.11 | L7: =E7+D7 -> 166.25 | M7: 163.35 | N7: =M7-L7 -> -2.9
A8: 2 | B8: Hoa Trung | C8: =D8*50+E8*70 -> 10495 | D8: =SUMIFS('HOA TRUNG'!G6:G130,'HOA TRUNG'!H6:H130,"<30") -> 48.55 | E8: =SUMIFS('HOA TRUNG'!G6:G130,'HOA TRUNG'!H6:H130,">=30") -> 115.25 | H8: =D8*8+E8*15 -> 2117.15 | I8: =0.8*H8 -> 1693.72 | J8: =0.2*H8 -> 423.43 | L8: =E8+D8 -> 163.8 | M8: 140.2 | N8: =M8-L8 -> -23.6
A9: 3 | B9: Hoa Tân | C9: =D9*50+E9*70 -> 11069.3 | D9: =SUMIFS('HOA TÂN'!G6:G197,'HOA TÂN'!H6:H197,"<30") -> 75.912 | E9: =SUMIFS('HOA TÂN'!G6:G197,'HOA TÂN'!H6:H197,">=30") -> 103.91 | H9: =D9*8+E9*15 -> 2165.946 | I9: =0.8*H9 -> 1732.7568 | J9: =0.2*H9 -> 433.1892 | L9: =E9+D9 -> 179.822 | M9: 147 | N9: =M9-L9 -> -32.822
A10: 4 | B10: Hoa Thắng | C10: =D10*50+E10*70 -> 9400.205 | D10: =SUMIFS('Hoa Thang'!G6:G195,'Hoa Thang'!H6:H195,"<30") -> 76.4241 | E10: =SUMIFS('Hoa Thang'!G6:G195,'Hoa Thang'!H6:H195,">=30") -> 79.7 | H10: =D10*8+E10*15 -> 1806.8928 | I10: =0.8*H10 -> 1445.5142 | J10: =0.2*H10 -> 361.37856 | L10: =E10+D10 -> 156.1241 | M10: 126.09 | N10: =M10-L10 -> -30.0341
A11: 5 | B11: Hoa Tiến | C11: =D11*50+E11*70 -> 23275.5 | D11: =SUMIFS('HOA TIẾN'!G6:G114,'HOA TIẾN'!H6:H114,"<30") -> 92.9 | E11: =SUMIFS('HOA TIẾN'!G6:G114,'HOA TIẾN'!H6:H114,">=30") -> 266.15 | H11: =D11*8+E11*15 -> 4735.45 | I11: =0.8*H11 -> 3788.36 | J11: =0.2*H11 -> 947.09 | L11: =E11+D11 -> 359.05 | M11: 283.69 | N11: =M11-L11 -> -75.36
A12: 6 | B12: Hoa Sơn | C12: =D12*50+E12*70 -> 15501.8 | D12: =SUMIFS('HOA SƠN'!G6:G77,'HOA SƠN'!H6:H77,"<30") -> 50.7 | E12: =SUMIFS('HOA SƠN'!G6:G77,'HOA SƠN'!H6:H77,">=30") -> 185.24 | H12: =D12*8+E12*15 -> 3184.2 | I12: =0.8*H12 -> 2547.36 | J12: =0.2*H12 -> 636.84 | L12: =E12+D12 -> 235.94 | M12: 263.09 | N12: =M12-L12 -> 27.15
A13: 7 | B13: Xuân Thọ | C13: =D13*50+E13*70 -> 1132 | D13: =SUMIFS('XUÂN THỌ'!G6:G33,'XUÂN THỌ'!H6:H33,"<30") -> 2.2 | E13: =SUMIFS('XUÂN THỌ'!G6:G33,'XUÂN THỌ'!H6:H33,">=30") -> 14.6 | H13: =D13*8+E13*15 -> 236.6 | I13: =0.8*H13 -> 189.28 | J13: =0.2*H13 -> 47.32 | L13: =E13+D13 -> 16.8 | M13: 16.8 | N13: =M13-L13 -> 0
A14: 8 | B14: Tấn Sơn | C14: =D14*50+E14*70 -> 20236 | D14: =SUMIFS('TẤN SƠN'!G6:G113,'TẤN SƠN'!H6:H113,">30") -> 106.87 | E14: =SUMIFS('TẤN SƠN'!G6:G113,'TẤN SƠN'!H6:H113,"<=30") -> 212.75 | H14: =D14*8+E14*15 -> 4046.21 | I14: =0.8*H14 -> 3236.968 | J14: =0.2*H14 -> 809.242 | L14: =E14+D14 -> 319.62 | M14: 319.82 | N14: =M14-L14 -> 0.2
A15: 9 | B15: Đông Văn | C15: =D15*50+E15*70 -> 14134.6 | D15: =SUMIFS('ĐÔNG VĂN'!G6:G116,'ĐÔNG VĂN'!H6:H116,"<30") -> 14.2 | E15: =SUMIFS('ĐÔNG VĂN'!G6:G116,'ĐÔNG VĂN'!H6:H116,">=30") -> 191.78 | H15: =D15*8+E15*15 -> 2990.3 | I15: =0.8*H15 -> 2392.24 | J15: =0.2*H15 -> 598.06 | L15: =E15+D15 -> 205.98 | M15: 235.79 | N15: =M15-L15 -> 29.81
A16: 10 | B16: Tân Thắng | C16: =D16*50+E16*70 -> 3174.3 | D16: =SUMIFS('TÂN THẮNG'!G6:G63,'TÂN THẮNG'!H6:H63,"<30") -> 21.22 | E16: =SUMIFS('TÂN THẮNG'!G6:G63,'TÂN THẮNG'!H6:H63,">=30") -> 30.19 | H16: =D16*8+E16*15 -> 622.61 | I16: =0.8*H16 -> 498.088 | J16: =0.2*H16 -> 124.522 | L16: =E16+D16 -> 51.41 | M16: 52.83 | N16: =M16-L16 -> 1.42
A17: 11 | B17: Xuân Dục | C17: =D17*50+E17*70 -> 5713 | D17: =SUMIFS('XUÂN DỤC'!G6:G65,'XUÂN DỤC'!H6:H65,"<30") -> 26.9 | E17: =SUMIFS('XUÂN DỤC'!G6:G65,'XUÂN DỤC'!H6:H65,">=30") -> 62.4 | H17: =D17*8+E17*15 -> 1151.2 | I17: =0.8*H17 -> 920.96 | J17: =0.2*H17 -> 230.24 | L17: =E17+D17 -> 89.3 | M17: 88.53 | N17: =M17-L17 -> -0.77
A18: 12 | B18: Trung Đức | C18: =D18*50+E18*70 -> 14032.3 | D18: =SUMIFS('TRUNG ĐỨC'!G6:G191,'TRUNG ĐỨC'!H6:H191,"<30") -> 93.55 | E18: =SUMIFS('TRUNG ĐỨC'!G6:G191,'TRUNG ĐỨC'!H6:H191,">=30") -> 133.64 | H18: =D18*8+E18*15 -> 2753 | I18: =0.8*H18 -> 2202.4 | J18: =0.2*H18 -> 550.6 | L18: =E18+D18 -> 227.19 | M18: 252.19 | N18: =M18-L18 -> 25
A19: 13 | B19: Trường Lạc | C19: =D19*50+E19*70 -> 6825.5 | D19: =SUMIFS('TRƯỜNG LẠC'!G6:G69,'TRƯỜNG LẠC'!H6:H69,"<30") -> 20.24 | E19: =SUMIFS('TRƯỜNG LẠC'!G6:G69,'TRƯỜNG LẠC'!H6:H69,">=30") -> 83.05 | H19: =D19*8+E19*15 -> 1407.67 | I19: =0.8*H19 -> 1126.136 | J19: =0.2*H19 -> 281.534 | L19: =E19+D19 -> 103.29 | M19: 63.49 | N19: =M19-L19 -> -39.8
A20: 14 | B20: Trung Thượng | C20: =D20*50+E20*70 -> 28845 | D20: =SUMIFS('TRUNG THƯỢNG'!G6:G154,'TRUNG THƯỢNG'!H6:H154,"<30") -> 78.64 | E20: =SUMIFS('TRUNG THƯỢNG'!G6:G154,'TRUNG THƯỢNG'!H6:H154,">=30") -> 355.9 | H20: =D20*8+E20*15 -> 5967.62 | I20: =0.8*H20 -> 4774.096 | J20: =0.2*H20 -> 1193.524 | L20: =E20+D20 -> 434.54 | M20: 387.4 | N20: =M20-L20 -> -47.14
B21: Tổng: | C21: =SUM(C7:C20) -> 174820.01 | D21: =SUM(D7:D20) -> 740.9061 | E21: =SUM(E7:E20) -> 1968.21 | H21: =SUM(H7:H20) -> 35450.399 | I21: =SUM(I7:I20) -> 28360.319 | J21: =SUM(J7:J20) -> 7090.0798 | L21: =SUM(L7:L20) -> 2709.1161 | M21: =SUM(M7:M20) -> 2540.27 | N21: =M21-L21 -> -168.8461
E24: =E21+D21 -> 2709.1161

Sheet PHU LUC I. TH cay trong 
A1: ỦY BAN NHÂN DÂN XÃ KỲ HOA
A2: PHỤ LỤC I: DANH SÁCH NIÊM YẾT CÔNG KHAI ĐỐI TƯỢNG HỖ TRỢ, MỨC ĐỘ THIỆT HẠI, ĐỊNH MỨC HỖ TRỢ VÀ KINH PHÍ HỖ TRỢ DỰ KIẾN KHÔI PHỤC SẢN XUẤT NÔNG NGHIỆP ĐỐI VỚI CÂY TRỒNG BỊ THIỆT HẠI DO BÃO SỐ 5, số 10 NĂM 2025 CÁC HỘ DÂN THÔN TẤN SƠN (CŨ) ĐỢT I
A3: (Kèm theo Thông báo số 181/TB-UBND ngày 30 tháng 7 năm 2026 của UBND xã Kỳ Hoa )
AB4: ĐVT: Triệu đồng
A5: T T | B5: Họ và tên chủ hộ | C5: Thiệt hại trên 70% diện tích (ha) | T5: Thiệt hại từ 30% đến 70% diện tích (ha) | AF5: Tổng kinh phí hỗ trợ (triệu đồng)
C6: Diện tích lúa | F6: Diện tích mạ | G6: Cây hàng năm khác (ha) | H6: Diện tích lúa sau gieo trên 45 ngày (ha) | I6: Định mức hỗ trợ | J6: Thành tiền | K6: Cây hàng năm khác | T6: Diện tích lúa sau gieo trên 45 ngày (ha) | U6: Định mức hỗ trợ | V6: Thành tiền | W6: Cây hàng năm khác
C7: Sau gieo trồng từ 01 đến 10 ngày | D7: Sau gieo trồng từ 10 đến 45 ngày | E7: Sau gieo trồng trên 45 ngày | G7: Giai đoạn cây con (gieo trồng đến 1/3 thời gian sinh trưởng) | K7: Giai đoạn cây con (gieo trồng đến 1/3 thời gian sinh trưởng) | L7: Định mức hỗ trợ | M7: Thành tiền | N7: Giai đoạn cây đang phát triển (trên 1/3 đến 2/3 thời gian sinh trưởng) | O7: Định mức hỗ trợ | P7: Thành tiền | Q7: Giai đoạn cận thu hoạch (trên 2/3 thời gian sinh trưởng) | R7: Định mức hỗ trợ | S7: Thành tiền | W7: Giai đoạn cây con (gieo trồng đến 1/3 thời gian sinh trưởng) | X7: Định mức hỗ trợ | Y7: Thành tiền | Z7: Giai đoạn cây đang phát triển (trên 1/3 đến 2/3 thời gian sinh trưởng) | AA7: Định mức hỗ trợ | AB7: Thành tiền | AC7: Giai đoạn cận thu hoạch (trên 2/3 thời gian sinh trưởng) | AD7: Định mức hỗ trợ | AE7: Thành tiền
A8: A | B8: B | H8: 1 | I8: 2 | J8: 3=1*2 | K8: 4 | L8: 5 | M8: 6=4*5 | N8: 7 | O8: 8 | P8: 9=7*8 | Q8: 10 | R8: 11 | S8: 12=10*11 | T8: 13 | U8: 14 | V8: 15=13*14 | W8: 16 | X8: 17 | Y8: 18=16*17 | Z8: 19 | AA8: 20 | AB8: 21=19*20 | AC8: 22 | AD8: 23 | AE8: 24=22*23 | AF8: 25=3+6+9+12+15+18+21+24
A9: 1 | B9: Nguyễn Văn Hà | H9: =500/10000 -> 0.05 | I9: 10 | J9: =H9*I9 -> 0.5 | L9: 6 | M9: =K9*L9 -> 0 | O9: 10 | P9: =N9*O9 -> 0 | R9: 15 | U9: 5 | X9: 3 | Y9: =W9*X9 -> 0 | AA9: 5 | AB9: =Z9*AA9 -> 0 | AD9: 7.5 | AE9: =AC9*AD9 -> 0 | AF9: =J9+M9+P9+S9+V9+Y9+AB9+AE9 -> 0.5
A10: 2 | B10: Hoàng Văn Huề | H10: =252.5/10000 -> 0.02525 | I10: 10 | J10: =H10*I10 -> 0.2525 | L10: 6 | M10: =K10*L10 -> 0 | O10: 10 | P10: =N10*O10 -> 0 | R10: 15 | S10: =Q10*R10 -> 0 | U10: 5 | X10: 3 | Y10: =W10*X10 -> 0 | AA10: 5 | AB10: =Z10*AA10 -> 0 | AD10: 7.5 | AF10: =J10+M10+P10+S10+V10+Y10+AB10+AE10 -> 0.2525
A11: 3 | B11: Nguyễn Văn Thắng | H11: =1331.6/10000 -> 0.13316 | I11: 10 | J11: =H11*I11 -> 1.3316 | L11: 6 | M11: =K11*L11 -> 0 | O11: 10 | P11: =N11*O11 -> 0 | R11: 15 | S11: =Q11*R11 -> 0 | U11: 5 | X11: 3 | Y11: =W11*X11 -> 0 | AA11: 5 | AB11: =Z11*AA11 -> 0 | AD11: 7.5 | AF11: =J11+M11+P11+S11+V11+Y11+AB11+AE11 -> 1.3316
A12: 4 | B12: Võ Xuân Danh | H12: =537.4/10000 -> 0.05374 | I12: 10 | J12: =H12*I12 -> 0.5374 | L12: 6 | M12: =K12*L12 -> 0 | O12: 10 | P12: =N12*O12 -> 0 | R12: 15 | U12: 5 | X12: 3 | Y12: =W12*X12 -> 0 | AA12: 5 | AB12: =Z12*AA12 -> 0 | AD12: 7.5 | AF12: =J12+M12+P12+S12+V12+Y12+AB12+AE12 -> 0.5374
A13: 5 | B13: Võ Văn Mỵ | H13: =600/10000 -> 0.06 | I13: 10 | J13: =H13*I13 -> 0.6 | L13: 6 | M13: =K13*L13 -> 0 | O13: 10 | P13: =N13*O13 -> 0 | R13: 15 | S13: =Q13*R13 -> 0 | U13: 5 | X13: 3 | Y13: =W13*X13 -> 0 | AA13: 5 | AB13: =Z13*AA13 -> 0 | AD13: 7.5 | AF13: =J13+M13+P13+S13+V13+Y13+AB13+AE13 -> 0.6
A14: 6 | B14: Võ Văn Toàn | H14: =1000/10000 -> 0.1 | I14: 10 | J14: =H14*I14 -> 1 | L14: 6 | M14: =K14*L14 -> 0 | O14: 10 | P14: =N14*O14 -> 0 | R14: 15 | S14: =Q14*R14 -> 0 | U14: 5 | X14: 3 | Y14: =W14*X14 -> 0 | AA14: 5 | AB14: =Z14*AA14 -> 0 | AD14: 7.5 | AF14: =J14+M14+P14+S14+V14+Y14+AB14+AE14 -> 1
A15: 7 | B15: Nguyễn Thị Văn | H15: =300/10000 -> 0.03 | I15: 10 | J15: =H15*I15 -> 0.3 | L15: 6 | M15: =K15*L15 -> 0 | O15: 10 | P15: =N15*O15 -> 0 | R15: 15 | U15: 5 | X15: 3 | Y15: =W15*X15 -> 0 | AA15: 5 | AB15: =Z15*AA15 -> 0 | AD15: 7.5 | AF15: =J15+M15+P15+S15+V15+Y15+AB15+AE15 -> 0.3
A16: 8 | B16: Hoàng Văn Toàn | H16: =1500/10000 -> 0.15 | I16: 10 | J16: =H16*I16 -> 1.5 | L16: 6 | M16: =K16*L16 -> 0 | O16: 10 | P16: =N16*O16 -> 0 | R16: 15 | S16: =Q16*R16 -> 0 | U16: 5 | X16: 3 | Y16: =W16*X16 -> 0 | AA16: 5 | AB16: =Z16*AA16 -> 0 | AD16: 7.5 | AF16: =J16+M16+P16+S16+V16+Y16+AB16+AE16 -> 1.5
A17: 9 | B17: Phạm Thị Chiến | H17: =1135.8/10000 -> 0.11358 | I17: 10 | J17: =H17*I17 -> 1.1358 | L17: 6 | M17: =K17*L17 -> 0 | O17: 10 | P17: =N17*O17 -> 0 | R17: 15 | U17: 5 | X17: 3 | Y17: =W17*X17 -> 0 | AA17: 5 | AB17: =Z17*AA17 -> 0 | AD17: 7.5 | AF17: =J17+M17+P17+S17+V17+Y17+AB17+AE17 -> 1.1358
A18: 10 | B18: Nguyễn Văn Hoàn | H18: =2570/10000 -> 0.257 | I18: 10 | J18: =H18*I18 -> 2.57 | L18: 6 | M18: =K18*L18 -> 0 | O18: 10 | P18: =N18*O18 -> 0 | R18: 15 | U18: 5 | X18: 3 | Y18: =W18*X18 -> 0 | AA18: 5 | AB18: =Z18*AA18 -> 0 | AD18: 7.5 | AF18: =J18+M18+P18+S18+V18+Y18+AB18+AE18 -> 2.57
A19: 11 | B19: Nguyễn Văn Thắng | H19: =351.6/10000 -> 0.03516 | I19: 10 | J19: =H19*I19 -> 0.3516 | L19: 6 | M19: =K19*L19 -> 0 | O19: 10 | P19: =N19*O19 -> 0 | R19: 15 | U19: 5 | X19: 3 | Y19: =W19*X19 -> 0 | AA19: 5 | AB19: =Z19*AA19 -> 0 | AD19: 7.5 | AF19: =J19+M19+P19+S19+V19+Y19+AB19+AE19 -> 0.3516
A20: 12 | B20: Thái Hữu Biểu | H20: =830/10000 -> 0.083 | I20: 10 | J20: =H20*I20 -> 0.83 | L20: 6 | M20: =K20*L20 -> 0 | O20: 10 | P20: =N20*O20 -> 0 | R20: 15 | U20: 5 | X20: 3 | Y20: =W20*X20 -> 0 | AA20: 5 | AB20: =Z20*AA20 -> 0 | AD20: 7.5 | AF20: =J20+M20+P20+S20+V20+Y20+AB20+AE20 -> 0.83
A21: 13 | B21: Nguyễn Văn Tiến | H21: =630.8/10000 -> 0.06308 | I21: 10 | J21: =H21*I21 -> 0.6308 | L21: 6 | M21: =K21*L21 -> 0 | O21: 10 | P21: =N21*O21 -> 0 | R21: 15 | S21: =Q21*R21 -> 0 | U21: 5 | X21: 3 | Y21: =W21*X21 -> 0 | AA21: 5 | AB21: =Z21*AA21 -> 0 | AD21: 7.5 | AF21: =J21+M21+P21+S21+V21+Y21+AB21+AE21 -> 0.6308
A22: 14 | B22: Thái Hữu Biểu | H22: =833/10000 -> 0.0833 | I22: 10 | J22: =H22*I22 -> 0.833 | L22: 6 | M22: =K22*L22 -> 0 | O22: 10 | P22: =N22*O22 -> 0 | R22: 15 | U22: 5 | X22: 3 | Y22: =W22*X22 -> 0 | AA22: 5 | AB22: =Z22*AA22 -> 0 | AD22: 7.5 | AF22: =J22+M22+P22+S22+V22+Y22+AB22+AE22 -> 0.833
A23: 15 | B23: Thái Thị Lương | H23: =500/10000 -> 0.05 | I23: 10 | J23: =H23*I23 -> 0.5 | L23: 6 | M23: =K23*L23 -> 0 | O23: 10 | P23: =N23*O23 -> 0 | R23: 15 | U23: 5 | X23: 3 | Y23: =W23*X23 -> 0 | AA23: 5 | AB23: =Z23*AA23 -> 0 | AD23: 7.5 | AF23: =J23+M23+P23+S23+V23+Y23+AB23+AE23 -> 0.5
A24: 16 | B24: Nguyễn Tiến Hựu | H24: =1000/10000 -> 0.1 | I24: 10 | J24: =H24*I24 -> 1 | L24: 6 | M24: =K24*L24 -> 0 | O24: 10 | P24: =N24*O24 -> 0 | R24: 15 | U24: 5 | X24: 3 | Y24: =W24*X24 -> 0 | AA24: 5 | AB24: =Z24*AA24 -> 0 | AD24: 7.5 | AF24: =J24+M24+P24+S24+V24+Y24+AB24+AE24 -> 1
A25: 17 | B25: Nguyễn Cao Kỳ | H25: =1000/10000 -> 0.1 | I25: 10 | J25: =H25*I25 -> 1 | L25: 6 | M25: =K25*L25 -> 0 | O25: 10 | P25: =N25*O25 -> 0 | R25: 15 | U25: 5 | X25: 3 | Y25: =W25*X25 -> 0 | AA25: 5 | AB25: =Z25*AA25 -> 0 | AD25: 7.5 | AF25: =J25+M25+P25+S25+V25+Y25+AB25+AE25 -> 1
A26: 18 | B26: Hoàng Xuân Hùng | H26: =1500/10000 -> 0.15 | I26: 10 | J26: =H26*I26 -> 1.5 | L26: 6 | M26: =K26*L26 -> 0 | O26: 10 | P26: =N26*O26 -> 0 | R26: 15 | U26: 5 | X26: 3 | Y26: =W26*X26 -> 0 | AA26: 5 | AB26: =Z26*AA26 -> 0 | AD26: 7.5 | AF26: =J26+M26+P26+S26+V26+Y26+AB26+AE26 -> 1.5
A27: 19 | B27: Nguyễn Văn Lộc | H27: =3000/10000 -> 0.3 | I27: 10 | J27: =H27*I27 -> 3 | L27: 6 | M27: =K27*L27 -> 0 | O27: 10 | P27: =N27*O27 -> 0 | R27: 15 | S27: =Q27*R27 -> 0 | U27: 5 | X27: 3 | Y27: =W27*X27 -> 0 | AA27: 5 | AB27: =Z27*AA27 -> 0 | AD27: 7.5 | AF27: =J27+M27+P27+S27+V27+Y27+AB27+AE27 -> 3
A28: 20 | B28: Nguyễn Văn Duân | H28: =1546.7/10000 -> 0.15467 | I28: 10 | J28: =H28*I28 -> 1.5467 | L28: 6 | M28: =K28*L28 -> 0 | O28: 10 | P28: =N28*O28 -> 0 | R28: 15 | U28: 5 | X28: 3 | Y28: =W28*X28 -> 0 | AA28: 5 | AB28: =Z28*AA28 -> 0 | AD28: 7.5 | AF28: =J28+M28+P28+S28+V28+Y28+AB28+AE28 -> 1.5467
A29: 21 | B29: Nguyễn Văn Thìn | H29: =1500/10000 -> 0.15 | I29: 10 | J29: =H29*I29 -> 1.5 | L29: 6 | M29: =K29*L29 -> 0 | O29: 10 | P29: =N29*O29 -> 0 | R29: 15 | U29: 5 | X29: 3 | Y29: =W29*X29 -> 0 | AA29: 5 | AB29: =Z29*AA29 -> 0 | AD29: 7.5 | AF29: =J29+M29+P29+S29+V29+Y29+AB29+AE29 -> 1.5
B30: Tổng cộng: | H30: =SUM(H9:H29) -> 2.24194 | J30: =SUM(J9:J29) -> 22.4194 | M30: =SUM(M9:M29) -> 0 | P30: =SUM(P9:P29) -> 0 | Q30: =SUM(Q9:Q29) -> 0 | S30: =SUM(S9:S29) -> 0 | W30: =SUM(W9:W29) -> 0 | Y30: =SUM(Y9:Y29) -> 0 | AB30: =SUM(AB9:AB29) -> 0 | AC30: =SUM(AC9:AC29) -> 0 | AE30: =SUM(AE9:AE29) -> 0 | AF30: =SUM(AF9:AF29) -> 22.4194
H32: TỔ TRƯỞNG TỔ PHÚC TRA | Z32: TM. BAN CÁN SỰ
Z33: THÔN TRƯỞNG
H38: Trần Công An | Z38: Nguyễn Văn Minh

Sheet PL II. CAY LAM NGHIEP
A1: ỦY BAN NHÂN DÂN XÃ KỲ HOA | G1: CỘNG HÒA XÃ HỘI CHỦ NGHĨA VIỆT NAM Độc lập - Tự do - Hạnh Phúc
A2: PHỤ LỤC II: DANH SÁCH NIÊM YẾT CÔNG KHAI ĐỐI TƯỢNG HỖ TRỢ, MỨC ĐỘ THIỆT HẠI, ĐỊNH MỨC HỖ TRỢ VÀ KINH PHÍ HỖ TRỢ DỰ KIẾN ĐỐI VỚI LÂM NGHIỆP BỊ THIỆT HẠI DO BÃO SỐ 5, SỐ 10 NĂM 2025 CÁC HỘ DÂN THÔN TẤN SƠN (CŨ) ĐỢT I
A3: (Kèm theo thông báo số 181/TB-UBND ngày 30 tháng 7 năm 2026 của UBND xã Kỳ Hoa)
M4: ĐVT: Triệu đồng
A5: TT | B5: Họ và tên chủ hộ | C5: Thiệt hại trên 70% | I5: Thiệt hại từ 30% đến 70% | O5: Tổng kinh phí hỗ trợ (Triệu đồng) | P5: GHI CHÚ
C6: Diện tích cây rừng, cây lâm sản ngoài gỗ trồng trên đất lâm nghiệp mới trồng đến 1/2 chu kỳ khai thác (ha) | D6: Định mức hỗ trợ | E6: Thành tiền | F6: Diện tích cây rừng, cây lâm sản ngoài gỗ trồng trên đất lâm nghiệp trên 1/2 chu kỳ khai thác, diện tích rừng trồng gỗ lớn trên 03 năm tuổi (ha) | G6: Định mức hỗ trợ | H6: Thành tiền | I6: Diện tích cây rừng, cây lâm sản ngoài gỗ trồng trên đất lâm nghiệp mới trồng đến 1/2 chu kỳ khai thác (ha) | J6: Định mức hỗ trợ | K6: Thành tiền | L6: Diện tích cây rừng, cây lâm sản ngoài gỗ trồng trên đất lâm nghiệp trên 1/2 chu kỳ khai thác, diện tích rừng trồng gỗ lớn trên 03 năm tuổi (ha) | M6: Định mức hỗ trợ | N6: Thành tiền
A7: A | B7: B | C7: 1 | D7: 2 | E7: 3=1*2 | F7: 4 | G7: 5 | H7: 6=4*5 | I7: 7 | J7: 8 | K7: 9=7*8 | L7: 10 | M7: 11 | N7: 12=10*11 | O7: 13=3+6+9+12
A8: 1 | B8: Nguyễn Tiến Phúc | D8: 8 | E8: =C8*D8 -> 0 | F8: 5 | G8: 15 | H8: =F8*G8 -> 75 | J8: 4 | K8: =I8*J8 -> 0 | M8: 7.5 | N8: =L8*M8 -> 0 | O8: =E8+H8+K8+N8 -> 75 | P8: Đã có GCNQSD Đ
A9: 3 | B9: Trương Văn Hứng | D9: 8 | E9: =C9*D9 -> 0 | F9: 2 | G9: 15 | H9: =F9*G9 -> 30 | J9: 4 | K9: =I9*J9 -> 0 | M9: 7.5 | N9: =L9*M9 -> 0 | O9: =E9+H9+K9+N9 -> 30 | P9: Đã có GCNQSD Đ
A10: 4 | B10: Thái Hữu Tiến | D10: 8 | E10: =C10*D10 -> 0 | F10: 6.4 | G10: 15 | H10: =F10*G10 -> 96 | J10: 4 | K10: =I10*J10 -> 0 | M10: 7.5 | N10: =L10*M10 -> 0 | O10: =E10+H10+K10+N10 -> 96 | P10: Đã có GCNQSD Đ
A11: 5 | B11: Đặng Thị Thúy | C11: 2.3 | D11: 8 | E11: =C11*D11 -> 18.4 | G11: 15 | H11: =F11*G11 -> 0 | J11: 4 | K11: =I11*J11 -> 0 | M11: 7.5 | N11: =L11*M11 -> 0 | O11: =E11+H11+K11+N11 -> 18.4 | P11: Đã có GCNQSD Đ
A12: 6 | B12: Hoàng Xuân Hùng | D12: 8 | E12: =C12*D12 -> 0 | F12: 1 | G12: 15 | H12: =F12*G12 -> 15 | J12: 4 | K12: =I12*J12 -> 0 | M12: 7.5 | N12: =L12*M12 -> 0 | O12: =E12+H12+K12+N12 -> 15 | P12: Đã có GCNQSD Đ
A13: 7 | B13: Lê Đình Sáng | D13: 8 | E13: =C13*D13 -> 0 | F13: 6 | G13: 15 | H13: =F13*G13 -> 90 | J13: 4 | K13: =I13*J13 -> 0 | M13: 7.5 | N13: =L13*M13 -> 0 | O13: =E13+H13+K13+N13 -> 90 | P13: Đã có GCNQSD Đ
A14: 8 | B14: Hoàng Văn Lợi | C14: 1 | D14: 8 | E14: =C14*D14 -> 8 | G14: 15 | H14: =F14*G14 -> 0 | J14: 4 | K14: =I14*J14 -> 0 | M14: 7.5 | N14: =L14*M14 -> 0 | O14: =E14+H14+K14+N14 -> 8 | P14: Đã có GCNQSD Đ
A15: 9 | B15: Nguyễn Hồng Thắng | D15: 8 | E15: =C15*D15 -> 0 | F15: 5 | G15: 15 | H15: =F15*G15 -> 75 | J15: 4 | K15: =I15*J15 -> 0 | M15: 7.5 | N15: =L15*M15 -> 0 | O15: =E15+H15+K15+N15 -> 75 | P15: Đã có GCNQSD Đ
A16: 10 | B16: Nguyễn Thị Quế | D16: 8 | E16: =C16*D16 -> 0 | F16: 1.5 | G16: 15 | H16: =F16*G16 -> 22.5 | J16: 4 | K16: =I16*J16 -> 0 | M16: 7.5 | N16: =L16*M16 -> 0 | O16: =E16+H16+K16+N16 -> 22.5 | P16: Đã có GCNQSD Đ
A17: 11 | B17: Lê Đình Thạch | D17: 8 | E17: =C17*D17 -> 0 | F17: 17.7 | G17: 15 | H17: =F17*G17 -> 265.5 | J17: 4 | K17: =I17*J17 -> 0 | M17: 7.5 | N17: =L17*M17 -> 0 | O17: =E17+H17+K17+N17 -> 265.5 | P17: Đã có GCNQSD Đ
A18: 12 | B18: Nguyễn Văn Thanh | D18: 8 | E18: =C18*D18 -> 0 | F18: 2.4 | G18: 15 | H18: =F18*G18 -> 36 | J18: 4 | K18: =I18*J18 -> 0 | M18: 7.5 | N18: =L18*M18 -> 0 | O18: =E18+H18+K18+N18 -> 36 | P18: Đã có GCNQSD Đ
A19: 13 | B19: Nguyễn Văn Tiến | C19: 4.45 | D19: 8 | E19: =C19*D19 -> 35.6 | G19: 15 | H19: =F19*G19 -> 0 | J19: 4 | K19: =I19*J19 -> 0 | M19: 7.5 | N19: =L19*M19 -> 0 | O19: =E19+H19+K19+N19 -> 35.6 | P19: Đã có GCNQSD Đ
A20: 14 | B20: Nguyễn Văn Huê | D20: 8 | E20: =C20*D20 -> 0 | F20: 3 | G20: 15 | H20: =F20*G20 -> 45 | J20: 4 | K20: =I20*J20 -> 0 | M20: 7.5 | N20: =L20*M20 -> 0 | O20: =E20+H20+K20+N20 -> 45 | P20: Đã có GCNQSD Đ
A21: 15 | B21: Nguyễ Quốc Việt | C21: 1.6 | D21: 8 | E21: =C21*D21 -> 12.8 | F21: 4 | G21: 15 | H21: =F21*G21 -> 60 | J21: 4 | K21: =I21*J21 -> 0 | M21: 7.5 | N21: =L21*M21 -> 0 | O21: =E21+H21+K21+N21 -> 72.8 | P21: Đã có GCNQSD Đ
A22: 16 | B22: Lê Thị Hoa | D22: 8 | E22: =C22*D22 -> 0 | F22: 1.3 | G22: 15 | H22: =F22*G22 -> 19.5 | J22: 4 | K22: =I22*J22 -> 0 | M22: 7.5 | N22: =L22*M22 -> 0 | O22: =E22+H22+K22+N22 -> 19.5 | P22: Đã có GCNQSD Đ
A23: 17 | B23: Phan Thị Hoa | D23: 8 | E23: =C23*D23 -> 0 | F23: 7.3 | G23: 15 | H23: =F23*G23 -> 109.5 | J23: 4 | K23: =I23*J23 -> 0 | M23: 7.5 | N23: =L23*M23 -> 0 | O23: =E23+H23+K23+N23 -> 109.5 | P23: Đã có GCNQSD Đ
A24: 18 | B24: Thái Xuân Danh | D24: 8 | E24: =C24*D24 -> 0 | F24: 1.3 | G24: 15 | H24: =F24*G24 -> 19.5 | J24: 4 | K24: =I24*J24 -> 0 | M24: 7.5 | N24: =L24*M24 -> 0 | O24: =E24+H24+K24+N24 -> 19.5 | P24: Đã có GCNQSD Đ
A25: 19 | B25: Nguyễn Văn Thìn | D25: 8 | E25: =C25*D25 -> 0 | F25: 1.12 | G25: 15 | H25: =F25*G25 -> 16.8 | J25: 4 | K25: =I25*J25 -> 0 | M25: 7.5 | N25: =L25*M25 -> 0 | O25: =E25+H25+K25+N25 -> 16.8 | P25: Đã có GCNQSD Đ
A26: 20 | B26: Nguyễn Văn Việt | D26: 8 | E26: =C26*D26 -> 0 | F26: 2.7 | G26: 15 | H26: =F26*G26 -> 40.5 | J26: 4 | K26: =I26*J26 -> 0 | M26: 7.5 | N26: =L26*M26 -> 0 | O26: =E26+H26+K26+N26 -> 40.5 | P26: Đã có GCNQSD Đ
A27: 21 | B27: Nguyễn Đức Thắng | C27: 0.9 | D27: 8 | E27: =C27*D27 -> 7.2 | G27: 15 | H27: =F27*G27 -> 0 | J27: 4 | K27: =I27*J27 -> 0 | M27: 7.5 | N27: =L27*M27 -> 0 | O27: =E27+H27+K27+N27 -> 7.2 | P27: Đã có GCNQSD Đ
A28: 22 | B28: Nguyễn Đức Cửu | D28: 8 | E28: =C28*D28 -> 0 | F28: 1.1 | G28: 15 | H28: =F28*G28 -> 16.5 | J28: 4 | K28: =I28*J28 -> 0 | M28: 7.5 | N28: =L28*M28 -> 0 | O28: =E28+H28+K28+N28 -> 16.5 | P28: Đã có GCNQSD Đ
A29: 23 | B29: Nguyễn Văn Lộc | D29: 8 | E29: =C29*D29 -> 0 | F29: 13.3 | G29: 15 | H29: =F29*G29 -> 199.5 | J29: 4 | K29: =I29*J29 -> 0 | M29: 7.5 | N29: =L29*M29 -> 0 | O29: =E29+H29+K29+N29 -> 199.5 | P29: Đã có GCNQSD Đ
A30: 24 | B30: Đào Văn Bình | D30: 8 | E30: =C30*D30 -> 0 | F30: 0.86 | G30: 15 | H30: =F30*G30 -> 12.9 | J30: 4 | K30: =I30*J30 -> 0 | M30: 7.5 | N30: =L30*M30 -> 0 | O30: =E30+H30+K30+N30 -> 12.9 | P30: Đã có GCNQSD Đ
A31: 25 | B31: Nguyễn Văn Duân | C31: 3 | D31: 8 | E31: =C31*D31 -> 24 | G31: 15 | H31: =F31*G31 -> 0 | J31: 4 | K31: =I31*J31 -> 0 | M31: 7.5 | N31: =L31*M31 -> 0 | O31: =E31+H31+K31+N31 -> 24 | P31: Đã có GCNQSD Đ
A32: 26 | B32: Lể Văn Cử | D32: 8 | E32: =C32*D32 -> 0 | F32: 0.67 | G32: 15 | H32: =F32*G32 -> 10.05 | J32: 4 | K32: =I32*J32 -> 0 | M32: 7.5 | N32: =L32*M32 -> 0 | O32: =E32+H32+K32+N32 -> 10.05 | P32: Đã có GCNQSD Đ
A33: 27 | B33: Nguyễn Văn Ngụ | C33: 8.8 | D33: 8 | E33: =C33*D33 -> 70.4 | G33: 15 | H33: =F33*G33 -> 0 | J33: 4 | K33: =I33*J33 -> 0 | M33: 7.5 | N33: =L33*M33 -> 0 | O33: =E33+H33+K33+N33 -> 70.4 | P33: Đã có GCNQSD Đ
A34: 28 | B34: Nguyễn Tiến Phúc | D34: 8 | E34: =C34*D34 -> 0 | F34: 1.68 | G34: 15 | H34: =F34*G34 -> 25.2 | J34: 4 | K34: =I34*J34 -> 0 | M34: 7.5 | N34: =L34*M34 -> 0 | O34: =E34+H34+K34+N34 -> 25.2 | P34: Đã có GCNQSD Đ
A35: 29 | B35: Nguyễn Khánh Dư | C35: 2.54 | D35: 8 | E35: =C35*D35 -> 20.32 | F35: 1.1 | G35: 15 | H35: =F35*G35 -> 16.5 | J35: 4 | K35: =I35*J35 -> 0 | M35: 7.5 | N35: =L35*M35 -> 0 | O35: =E35+H35+K35+N35 -> 36.82 | P35: Đã có GCNQSD Đ
A36: 30 | B36: Nguyễn Văn Đoài | C36: 1 | D36: 8 | E36: =C36*D36 -> 8 | G36: 15 | H36: =F36*G36 -> 0 | J36: 4 | K36: =I36*J36 -> 0 | M36: 7.5 | N36: =L36*M36 -> 0 | O36: =E36+H36+K36+N36 -> 8 | P36: Đã có GCNQSD Đ
A37: 31 | B37: Phan Văn Xuân | C37: 1 | D37: 8 | E37: =C37*D37 -> 8 | G37: 15 | H37: =F37*G37 -> 0 | J37: 4 | K37: =I37*J37 -> 0 | L37: Trích đo | M37: 7.5 | N37: 0
A38: 32 | B38: Hoàng Đức Thắng | D38: 8 | E38: =C38*D38 -> 0 | F38: 1.81 | G38: 15 | H38: =F38*G38 -> 27.15 | J38: 4 | K38: =I38*J38 -> 0 | M38: 7.5 | N38: =L38*M38 -> 0 | O38: =E38+H38+K38+N38 -> 27.15 | P38: Đã có GCNQSD Đ
B39: Hoàng Đức Thắng | D39: 8 | E39: =C39*D39 -> 0 | F39: 1.78 | G39: 15 | H39: =F39*G39 -> 26.7 | J39: 4 | K39: =I39*J39 -> 0 | L39: Trích đo | M39: 7.5 | N39: 0
A40: 33 | B40: Phan Văn Thỏa | C40: 1.42 | D40: 8 | E40: =C40*D40 -> 11.36 | G40: 15 | H40: =F40*G40 -> 0 | J40: 4 | K40: =I40*J40 -> 0 | M40: 7.5 | N40: =L40*M40 -> 0 | O40: =E40+H40+K40+N40 -> 11.36 | P40: Đã có GCNQSD Đ
...

Sheet TH cay trong
A1: T T | B1: Địa phương (tỉnh, huyện, xã) | C1: Tổng giá trị thiệt hại | D1: Thiệt hại trên 70% diện tích | O1: Thiệt hại từ 30% đến 70% diện tích | Z1: Kinh phí hỗ trợ | AC1: Số QĐ hỗ trợ
D2: Diện tích lúa | G2: Diện tích mạ | H2: Cây hàng năm khác (ha) | K2: Cây trồng lâu năm | O2: Diện tích lúa | R2: Diện tích mạ | S2: Cây hàng năm khác | V2: Cây trồng lâu năm | Z2: Tổng NSNN hỗ trợ | AA2: NSTW | AB2: NSĐP đảm bảo
D3: Sau gieo trồng từ 01 đến 10 ngày | E3: Sau gieo trồng từ 10 đến 45 ngày | F3: Sau gieo trồng trên 45 ngày | H3: Giai đoạn cây con (gieo trồng đến 1/3 thời gian sinh trưởng) | I3: Giai đoạn cây đang phát triển (trên 1/3 đến 2/3 thời gian sinh trưởng) | J3: Giai đoạn cận thu hoạch (trên 2/3 thời gian sinh trưởng) | K3: Vườn cây ở thời kỳ kiến thiết cơ bản | L3: Vườn cây ở thời kỳ kinh doanh thiệt hại đến năng suất thu hoạch nhưng cây không chết | M3: Vườn cây ở thời kỳ kinh doanh thiệt hại làm chết cây hoặc đánh giá là cây không còn khả năng phục hồi trở lại trạng thái bình thường; vườn cây đầu dòng ở giai đoạn được khai thác vật liệu nhân giống | N3: Cây giống trong giai đoạn vườn ươm được nhân giống từ nguồn vật liệu khai thác từ cây đầu dòng; vườn cây đầu dòng | O3: Sau gieo trồng từ 01 đến 10 ngày | P3: Sau gieo trồng từ 10 đến 45 ngày | Q3: Sau gieo trồng trên 45 ngày | S3: Giai đoạn cây con (gieo trồng đến 1/3 thời gian sinh trưởng) | T3: Giai đoạn cây đang phát triển (trên 1/3 đến 2/3 thời gian sinh trưởng) | U3: Giai đoạn cận thu hoạch (trên 2/3 thời gian sinh trưởng) | V3: Vườn cây ở thời kỳ kiến thiết cơ bản | W3: Vườn cây ở thời kỳ kinh doanh thiệt hại đến năng suất thu hoạch nhưng cây không chết | X3: Vườn cây ở thời kỳ kinh doanh thiệt hại làm chết cây hoặc đánh giá là cây không còn khả năng phục hồi trở lại trạng thái bình thường; vườn cây đầu dòng ở giai đoạn được khai thác vật liệu nhân giống | Y3: Cây giống trong giai đoạn vườn ươm được nhân giống từ nguồn vật liệu khai thác từ cây đầu dòng; vườn cây đầu dòng
C4: tr.đồng | D4: (ha) | E4: (ha) | F4: (ha) | G4: (ha) | H4: (ha) | I4: (ha) | J4: (ha) | K4: (ha) | L4: (ha) | M4: (ha) | N4: (ha) | O4: (ha) | P4: (ha) | Q4: (ha) | R4: (ha) | S4: (ha) | T4: (ha) | U4: (ha) | V4: (ha) | W4: (ha) | X4: (ha) | Y4: (ha) | Z4: tr.đồng | AA4: tr.đồng | AB4: tr.đồng
A5: 1 | B5: Hoa Đông | C5: =I5*70*0.8+T5*70*0.5 -> 91 | I5: =HOAĐÔNG!J99/10000 -> 1.3 | L5: =HOAĐÔNG!N99/10000 -> 2.887 | T5: =HOAĐÔNG!K99/10000 -> 0.52 | W5: =HOAĐÔNG!O99/10000 -> 0.01
A6: 2 | B6: Hoa Trung | C6: =I6*70*0.8+T6*70*0.5 -> 89.95 | I6: ='HOA TRUNG'!J131/10000 -> 0.65 | L6: ='HOA TRUNG'!N131/10000 -> 0.24 | T6: ='HOA TRUNG'!K131/10000 -> 1.53 | W6: ='HOA TRUNG'!O131/10000 -> 0.83
A7: 3 | B7: Hoa Tân | C7: =I7*70*0.8+T7*70*0.5 -> 40.0575 | I7: ='HOA TÂN'!J198/10000 -> 0.6925 | L7: ='HOA TÂN'!N198/10000 -> 0.9874 | T7: ='HOA TÂN'!K198/10000 -> 0.0365 | W7: ='HOA TÂN'!O198/10000 -> 0.0352
A8: 4 | B8: Hoa Thắng | C8: =I8*70*0.8+T8*70*0.5 -> 191.59 | I8: ='Hoa Thang'!J197/10000 -> 3.355 | L8: ='Hoa Thang'!N197/10000 -> 1.866 | T8: ='Hoa Thang'!K197/10000 -> 0.106 | W8: ='Hoa Thang'!O197/10000 -> 1.28
A9: 5 | B9: Hoa Tiến | C9: =I9*70*0.8+T9*70*0.5 -> 22.4 | I9: ='HOA TIẾN'!J115/10000 -> 0.4 | L9: ='HOA TIẾN'!N115/10000 -> 1.905 | T9: ='HOA TIẾN'!K115/10000 -> 0 | W9: ='HOA TIẾN'!O115/10000 -> 0.15
A10: 6 | B10: Hoa Sơn | C10: =I10*70*0.8+T10*70*0.5 -> 73.08 | I10: ='HOA SƠN'!J78/10000 -> 1.305 | L10: ='HOA SƠN'!N78/10000 -> 2.345 | T10: ='HOA SƠN'!K78/10000 -> 0 | W10: ='HOA SƠN'!O78 -> 0
A11: 7 | B11: Xuân Thọ | C11: =I11*70*0.8+T11*70*0.5 -> 9.968 | I11: ='XUÂN THỌ'!J36/10000 -> 0.178 | L11: ='XUÂN THỌ'!N36/10000 -> 0.03 | W11: ='XUÂN THỌ'!O36/10000 -> 0.03
A12: 8 | B12: Tấn Sơn | C12: =I12*70*0.8+T12*70*0.5 -> 38.864 | I12: ='TẤN SƠN'!J116/10000 -> 0.694 | L12: ='TẤN SƠN'!N116/10000 -> 3.5648 | W12: ='TẤN SƠN'!O116 -> 0
A13: 9 | B13: Đông Văn | C13: =I13*70*0.8+T13*70*0.5 -> 17.71 | I13: ='ĐÔNG VĂN'!J118/10000 -> 0.31 | L13: ='ĐÔNG VĂN'!N118/10000 -> 1.537 | T13: ='ĐÔNG VĂN'!K118/10000 -> 0.01 | W13: ='ĐÔNG VĂN'!O118 -> 0
A14: 10 | B14: Tân Thắng | C14: =I14*70*0.8+T14*70*0.5 -> 0 | I14: ='TÂN THẮNG'!J64 -> 0 | L14: ='TÂN THẮNG'!N64/10000 -> 0.01
A15: 11 | B15: Xuân Dục | C15: =I15*70*0.8+T15*70*0.5 -> 36.092 | I15: ='XUÂN DỤC'!J66/10000 -> 0.6445 | L15: ='XUÂN DỤC'!N66/10000 -> 0.281
A16: 12 | B16: Trung Đức | C16: =I16*70*0.8+T16*70*0.5 -> 86.744 | I16: ='TRUNG ĐỨC'!J193/10000 -> 1.549 | L16: ='TRUNG ĐỨC'!N193/10000 -> 2.499 | W16: ='TRUNG ĐỨC'!O193/10000 -> 0.0024
A17: 13 | B17: Trường Lạc | C17: =I17*70*0.8+T17*70*0.5 -> 173.6 | I17: ='TRƯỜNG LẠC'!J74/10000 -> 3.1 | L17: ='TRƯỜNG LẠC'!N74/10000 -> 1.385
A18: 14 | B18: Trung Thượng | C18: =I18*70*0.8+T18*70*0.5 -> 163.24 | I18: ='TRUNG THƯỢNG'!J158/10000 -> 2.915 | L18: ='TRUNG THƯỢNG'!N158/10000 -> 2.5106
B19: Tổng: | C19: =SUM(C5:C18) -> 1034.2955 | I19: =SUM(I5:I18) -> 17.093 | J19: =SUM(J5:J18) -> 0 | K19: =SUM(K5:K18) -> 0 | L19: =SUM(L5:L18) -> 22.0478 | M19: =SUM(M5:M18) -> 0 | N19: =SUM(N5:N18) -> 0 | O19: =SUM(O5:O18) -> 0 | P19: =SUM(P5:P18) -> 0 | ... AC19: =SUM(AC5:AC18) -> 0

Sheet HOAĐÔNG
A1: THÔN HOA ĐÔNG
A2: BIỂU II: DANH SÁCH THIỆT HẠI VỀ CÂY TRỒNG DO BÃO SỐ 10
A3: TT | B3: Tên chủ hộ | C3: Thiệt hại nhà ở | E3: Công trình phụ trợ | G3: Thiệt hại cây lâm nghiệp | I3: Thiệt hại cây hằng năm (dưa hấu, vừng, khoai, ……) | M3: Thiệt hại cây lâu năm (các loại cây ăn quả)
C4: Loại nhà (kiên cố, bán kiên cố, đơn sơ) | D4: Mức độ thiệt hại (%) | E4: Loại công trình | F4: Mức độ thiệt hại (%) | G4: Diện tích (ha) | H4: Thời gian trồng (tháng) | I4: Diện tích (m2) | J4: Mức độ thiệt hại | L4: Thời gian trồng (ngày) | M4: Diện tích (m2) | N4: Mức độ thiệt hại | P4: Thời gian trồng (tháng)
J5: Thiệt hại trên 70% | K5: Thiệt hại từ 30- 70% | N5: Thiệt hại trên 70% | O5: Thiệt hại từ 30- 70%
A6: 1 | B6: Nguyễn Văn Huấn | C6: Bán kiên cố | D6: 20 | E6: Chuồng bò | F6: 40
A7: 2 | B7: Lê Thị Anh | G7: 1 | H7: 24 | I7: 500 | J7: 500 | L7: 30
A8: 3 | B8: Trương Quý Như | E8: Rạp xưởng | F8: 40 | G8: 1 | H8: 48
A9: 4 | B9: Phạm Thị Nhung | G9: 3 | H9: 42
A10: 5 | B10: Đào Hải Nam | G10: 5 | H10: 48
A11: 6 | B11: Nguyễn Văn Sơn | G11: 0.4 | H11: 48
A12: 7 | B12: Phạm Thành Chung | C12: Bán kiên cố | F12: 40
A13: 8 | B13: Trương Công Vũ | E13: Rạp nắng | F13: 50
A14: 9 | B14: Nguyễn Tiến Hùng | G14: 1 | H14: 12 | R14: =120.43+5.66 -> 126.09
A15: 10 | B15: Thái Văn Đàn | E15: Rạp nắng | F15: 70
A16: 11 | B16: Đặng Xuân Thiên | E16: Bồ nước | F16: 80 | G16: 0.2 | H16: 24 | I16: 1500 | J16: 1500 | L16: 30 | M16: 100 | N16: 100
A17: 12 | B17: Lê Thị Huyền Trang | E17: Trang trại | F17: 100
A18: 13 | B18: Cao Thị Hạnh | C18: Bán kiên cố | D18: 30 | I18: 1000 | J18: 1000 | L18: 30 | M18: 100 | N18: 100
A19: 14 | B19: Nguyễn Tiến Lãnh | G19: 2 | H19: 36 | I19: 1000 | J19: 1000 | L19: 30 | M19: 1000 | N19: 1000
A20: 15 | B20: Nguyễn Quốc Hội | E20: Rạp nắng | F20: 50
A21: 16 | B21: Nguyễn Tiến Bằng | G21: 3 | H21: 36
A22: 17 | B22: Nguyễn Tiến Thược | G22: 4.5 | H22: 48
A23: 18 | B23: Nguyễn Tiến Mạnh | C23: Kiên cố | D23: 30
A24: 19 | B24: Nguyễn Tiến Khoá | C24: Bán kiên cố | D24: 30 | E24: Rạp nắng | F24: 30
A25: 20 | B25: Nguyễn Thị Hằng | C25: Bán kiên cố | D25: 20
A26: 21 | B26: Thiều Quang Minh | G26: 1 | H26: 36
A27: 22 | B27: Thiều Quang Đường | G27: 4 | H27: 36
A28: 23 | B28: Thiều Hải Dương | C28: Bán kiên cố | D28: 20 | G28: 5 | H28: 36
A29: 24 | B29: Nguyễn Thị Hồng Chinh | I29: 2700 | K29: 2700 | L29: 45 | M29: 100 | N29: 100
A30: 25 | B30: Nguyễn Tiến Lượng | E30: Chuồng bò | F30: 50 | G30: 0.1 | H30: 72 | I30: 500 | J30: 500 | L30: 30
A31: 26 | B31: Lê Quang Anh | G31: 0.1 | H31: 12 | I31: 3500 | J31: 3500 | L31: 60
A32: 27 | B32: Đào Quốc Hoan | G32: 3 | H32: 144
A33: 28 | B33: Đào Quốc Hoan | G33: 1 | H33: 6
A34: 29 | B34: Nguyễn Văn Huận | G34: 1 | H34: 36 | I34: 2500 | J34: 2500 | L34: 60 | M34: 150 | N34: 150
A35: 30 | B35: Thiều Quang Hường | C35: Bán kiên cố | D35: 35 | E35: Rạp nắng | F35: 15
A36: 31 | B36: Đặng Thị Hồng Văn | C36: Bán kiên cố | D36: 10 | E36: Rạp nắng | F36: 50 | G36: 0.15 | H36: 60
A37: 32 | B37: Doãn Kế Ngại | E37: Công Trình phụ | F37: 85 | G37: 4 | H37: 60
A38: 33 | B38: Doãn Thế Hiếu | G38: 4 | H38: 24
A39: 34 | B39: Doãn Thị Thảo | E39: Rạp nắng, công trình phụ | F39: 80
A40: 35 | B40: Doãn Kế Hùng | E40: Rạp nắng | F40: 70 | G40: 1 | H40: 36
...

Sheet HOA TRUNG
A1: THÔN HOA TRUNG
A2: BIỂU II: DANH SÁCH THIỆT HẠI VỀ CÂY TRỒNG DO BÃO SỐ 10
A3: TT | B3: Tên chủ hộ | C3: Thiệt hại nhà ở | E3: Công trình phụ trợ | G3: Thiệt hại cây lâm nghiệp | I3: Thiệt hại cây hằng năm (dưa hấu, vừng, khoai, ……) | M3: Thiệt hại cây lâu năm (các loại cây ăn quả)
C4: Loại nhà (kiên cố, bán kiên cố, đơn sơ) | D4: Mức độ thiệt hại (%) | E4: Loại công trình | F4: Mức độ thiệt hại (%) | G4: Diện tích (ha) | H4: Thời gian trồng (tháng) | I4: Diện tích (m2) | J4: Mức độ thiệt hại | L4: Thời gian trồng (ngày) | M4: Diện tích (m2) | N4: Mức độ thiệt hại | P4: Thời gian trồng (tháng)
J5: Thiệt hại trên 70% | K5: Thiệt hại từ 30- 70% | N5: Thiệt hại trên 70% | O5: Thiệt hại từ 30- 70%
A6: 1 | B6: Phạm Tiến Lực | G6: 2 | H6: 36
A7: 2 | B7: Nguyễn Văn Thành | C7: Nhà cấp 4 | D7: 0.7 | E7: rạp, vệ sinh | F7: 1 | G7: 1 | H7: 24
A8: 3 | B8: Phạm Hữu Cương | G8: 2 | H8: 36
A9: 4 | B9: Lê Ngọc Tân | G9: 1 | H9: 24
A10: 5 | B10: Nguyễn Thị Thanh Huệ | G10: 1 | H10: =7*12 -> 84
A11: 6 | B11: Thái Hữu Tình | G11: 2 | H11: 24 | M11: 500 | O11: 500 | P11: 60 tháng
A12: 7 | B12: Hoàng Thị Tuyết | E12: rạp, bếp | F12: 0.5 | I12: 400 | K12: 400 | L12: 50 ngày | M12: 500 | O12: 500 | P12: 48 tháng
A13: 8 | B13: Phạm Thị Tuyên | G13: 0.5 | H13: 24
A14: 9 | B14: Hoàng Trí Tuệ | G14: 1.5 | H14: 24 | I14: 1000 | J14: 1000 | L14: 45 ngày | M14: 1000 | O14: 1000 | P14: 60 tháng
A15: 10 | B15: Đào Văn Đoàn | G15: 2 | H15: 30
A16: 11 | B16: Hà Quốc Thịnh | G16: 1 | H16: 30
A17: 12 | B17: Nguyễn Văn Điền | E17: chuồng bò | F17: 1
A18: 13 | B18: Thái Văn Dương | E18: rạp pụ trợ | F18: 0.5
A19: 14 | B19: Lê Văn Lương | G19: 2 | H19: 36
A20: 15 | B20: Nguyễn Đức Bảo | G20: 1 | H20: 30
A21: 16 | B21: Phạm Văn Dũng | G21: 3 | H21: 36
A22: 17 | B22: Đào Minh Luận | E22: rạp bếp | F22: 0.5
A23: 18 | B23: Võ Thị Lợi | G23: 0.6 | H23: 30
A24: 19 | B24: Lê Thị Nga | G24: 0.1 | H24: 12
A25: 20 | B25: Đào Văn Chiến | G25: 4 | H25: 36
A26: 21 | B26: Nguyễn Văn Quân | G26: 2 | H26: 36
A27: 22 | B27: Doãn Đình Hoa | G27: 1 | H27: 24 | M27: 300 | O27: 300 | P27: 78 tháng
A28: 23 | B28: Nguyễn Văn Đèo | G28: 2.6 | H28: 24
A29: 24 | B29: Nguyễn Tiến Hùng | G29: 1 | H29: 24 | M29: 500 | N29: 500 | P29: 60 tháng
A30: 25 | B30: Đào Minh Trí | G30: 5 | H30: 36
A31: 26 | B31: Nguyễn Thị Vy | E31: rạp pụ trợ | F31: 0.7 | G31: 1 | H31: 36
A32: 27 | B32: Đào Thị Hương | G32: 1 | H32: 24
A33: 28 | B33: Đào Văn Dũng | G33: 2 | H33: 48 | I33: 2000 | J33: 2000 | L33: 60 ngày
A34: 29 | B34: Nuyễn Thị Dương | E34: rạp pụ trợ | F34: 0.5 | G34: 1 | H34: 24
A35: 30 | B35: Đào Xuân Phúc | C35: bán kiên cố | D35: 0.2 | E35: nhà lưới | F35: 0.5 | G35: 3 | H35: 36 | I35: 100 | K35: 100 | L35: 45 ngày | M35: 200 | N35: 200 | P35: 80 tháng
A36: 31 | B36: Lê Văn Miên | G36: 4 | H36: 30
A37: 32 | B37: Đào Văn Linh | G37: 2 | H37: 48
A38: 33 | B38: Đào Minh Thìn | E38: bồn nước | F38: 0.7 | H38: 30
A39: 34 | B39: Nguyễn Văn Thành | C39: Nhà cấp 4 | G39: 2 | H39: 30
A40: 35 | B40: Nguyễn Thị Hoa | E40: rạp pụ trợ | F40: 0.5 | G40: 3 | H40: 48
...

Sheet HOA TÂN
A1: THÔN HOA TÂN
A2: BIỂU II: DANH SÁCH THIỆT HẠI VỀ CÂY TRỒNG DO BÃO SỐ 10
A3: TT | B3: Tên chủ hộ | C3: Thiệt hại nhà ở | E3: Công trình phụ trợ | G3: Thiệt hại cây lâm nghiệp | I3: Thiệt hại cây hằng năm (dưa hấu, vừng, khoai, ……) | M3: Thiệt hại cây lâu năm (các loại cây ăn quả)
C4: Loại nhà (kiên cố, bán kiên cố, đơn sơ) | D4: Mức độ thiệt hại (%) | E4: Loại công trình | F4: Mức độ thiệt hại (%) | G4: Diện tích (ha) | H4: Thời gian trồng (tháng) | I4: Diện tích (m2) | J4: Mức độ thiệt hại | L4: Thời gian trồng (ngày) | M4: Diện tích (m2) | N4: Mức độ thiệt hại | P4: Thời gian trồng (tháng)
J5: Thiệt hại trên 70% | K5: Thiệt hại từ 30- 70% | N5: Thiệt hại trên 70% | O5: Thiệt hại từ 30- 70%
A6: 1 | B6: Nguyễn Thị Tuyết | C6: Tốc mái | D6: 30 | E6: Chuồng trại | F6: 50 | G6: 1.5 | H6: 24
A7: 2 | B7: Đào Hải Đàn | G7: 8 | H7: 24
A8: 3 | B8: Hoàng Ngọc Bắc | G8: 1.5 | H8: 36
A9: 4 | B9: Đào Trung Hậu | G9: 1 | H9: 24
A10: 5 | B10: Hoàng Văn Vinh | G10: 1 | H10: 48
A11: 6 | B11: Hoàng Thủy Văn | E11: Chuồng trại tốc mái | F11: 100 | G11: 5 | H11: 30
A12: 7 | B12: Hoàng Văn Đông | E12: Nhà bếp tốc mái | F12: 70 | G12: 3 | H12: 36
A13: 8 | B13: Phạm Thị Nhung | E13: Chuồng trại tốc mái | F13: 30 | G13: 0.1 | H13: 12
A14: 9 | B14: Lê Bá Bảo Long | G14: 7 | H14: 36
A15: 10 | B15: Đào Thị Xuyên | E15: Nhà bếp tốc mái | F15: 70 | G15: 0.7 | H15: 36
A16: 11 | B16: Thiều Thị Hường | G16: 1 | H16: 30
A17: 12 | B17: Nguyễn Ngọc Kha | E17: Chuồng trại tốc mái | F17: 100
A18: 13 | B18: Đặng Văn Khuyền | C18: Tốc mái | D18: 15 | E18: Đỗ hàng rào30m, rạp nắng | F18: 90 | G18: 0.5 | H18: 24 | M18: 300 | N18: 300 | P18: 98
A19: 14 | B19: Hoàng Văn Hà | E19: Chuồng trại tốc mái | F19: 35 | G19: 1.712 | H19: 24
A20: 15 | B20: Hoàng Văn Bình | E20: Chuồng trại tốc mái | F20: 100 | G20: 2 | H20: 48
A21: 16 | B21: Lê Công Minh | E21: Chuồng trại tốc mái | F21: 60 | G21: 3.2 | H21: 36
A22: 17 | B22: Lê Văn Choan | C22: Tốc mái | D22: 70 | M22: 145 | N22: 145 | P22: 98
A23: 18 | B23: Mai Thị Nga | E23: Chuồng trại tốc mái | F23: 70 | G23: 1.5 | H23: 24
A24: 19 | B24: Hoàng Thanh Cảnh | C24: Tốc mái | D24: 40 | G24: 0.05 | H24: 24
A25: 20 | B25: Đào Viết Châu | G25: 0.4 | H25: 24
A26: 21 | B26: Đặng Xuân Hữu | G26: 1.5 | H26: 24
A27: 22 | B27: Hoàng Thế Thọ | G27: 4 | H27: 36
A28: 23 | B28: Đào Văn Sau | E28: Đỗ hàng rào30m, rạp nắng | F28: 100 | M28: 45 | N28: 45 | O28: 72
A29: 24 | B29: Nguyễn Thị Lộc | E29: Tốc mái nhà bếp | F29: 80 | M29: 95 | N29: 94 | O29: 124
A30: 25 | B30: Hoàng Hải Đằng | E30: Tốc mái chuồng bò | F30: 70 | M30: 45 | N30: 72
A31: 26 | B31: Đào Quang Tám | G31: 1.5 | H31: 24
A32: 27 | B32: Hoàng Hữu Chung | E32: Rạp nắng | F32: 80 | G32: 1.5 | H32: 2
A33: 28 | B33: Đào Quốc Vượng | E33: Rạp nắng | F33: 80 | G33: 0.35 | H33: 24
A34: 29 | B34: Bùi Văn Đức | E34: Rạp nắng | F34: 70 | G34: 0.15 | H34: 24
A35: 30 | B35: Hoàng Long Bán Nghĩa | E35: Rạp nắng | F35: 70
A36: 31 | B36: Trương Thị Chân | E36: Rạp nắng | F36: 70 | G36: 1 | H36: 24
A37: 32 | B37: Hoàng Văn Nghĩa | G37: 1.5 | H37: 24
A38: 33 | B38: Nguyễn Thị Tâm | E38: Chuồng trại | F38: 100 | G38: 2 | H38: 36
A39: 34 | B39: Hoàng Văn Mậu | G39: 0.4 | H39: 36
A40: 35 | B40: Đặng Văn Liến | E40: Tốc mái rạp nắng | F40: 100
...

Sheet Hoa Thang
A1: THÔN HOA THẮNG
A2: BIỂU II: DANH SÁCH THIỆT HẠI VỀ CÂY TRỒNG DO BÃO SỐ 10
A3: TT | B3: Tên chủ hộ | C3: Thiệt hại nhà ở | E3: Công trình phụ trợ | G3: Thiệt hại cây lâm nghiệp | I3: Thiệt hại cây hằng năm (dưa hấu, vừng, khoai, ……) | M3: Thiệt hại cây lâu năm (các loại cây ăn quả)
C4: Loại nhà (kiên cố, bán kiên cố, đơn sơ) | D4: Mức độ thiệt hại (%) | E4: Loại công trình | F4: Mức độ thiệt hại (%) | G4: Diện tích (ha) | H4: Thời gian trồng (tháng) | I4: Diện tích (m2) | J4: Mức độ thiệt hại | L4: Thời gian trồng (ngày) | M4: Diện tích (m2) | N4: Mức độ thiệt hại | P4: Thời gian trồng (năm)
J5: Thiệt hại trên 70% | K5: Thiệt hại từ 30- 70% | N5: Thiệt hại trên 70% | O5: Thiệt hại từ 30- 70%
A6: 1 | B6: Phạm Thị Thu | G6: 0.5 | H6: =2.5*12 -> 30 | I6: =J6+K6 -> 0 | M6: =N6+O6 -> 200 | O6: 200 | P6: 5
A7: 2 | B7: Nguyễn Thị Dũng | G7: 0 | I7: =J7+K7 -> 0 | M7: =N7+O7 -> 0 | Q7: 25 con gà (10kg)
A8: 3 | B8: Nguyễn Thị Tân | G8: 2 | H8: 24 | I8: =J8+K8 -> 0 | M8: =N8+O8 -> 1500 | N8: 1500 | P8: 10
A9: 4 | B9: Nguyễn Tiến Hùng | E9: 15 tấm bia rô | G9: 0.1641 | H9: 24 | I9: =J9+K9 -> 0 | M9: =N9+O9 -> 600 | N9: 600
A10: 5 | B10: Lê Văn Minh | C10: 31 viên ngói | E10: 15 viên bia rô | G10: 1.3 | H10: 36 | I10: =J10+K10 -> 0 | M10: =N10+O10 -> 500 | N10: 500
A11: 6 | B11: Lê Thị Lai | E11: 30 viên bia rô | G11: 0 | I11: =J11+K11 -> 0 | M11: =N11+O11 -> 20 | N11: 20 | P11: 7
A12: 7 | B12: Nguyễn Tiến Hạnh | C12: tốc ngói | E12: 15 viên bia rô | G12: 2 | H12: =3*12 -> 36 | I12: =J12+K12 -> 250 | J12: 250 | L12: 60 | M12: =N12+O12 -> 200 | N12: 200 | P12: 6
A13: 8 | B13: Nguyễn Anh Tuấn | E13: 5 viên bia rô | G13: 0 | I13: =J13+K13 -> 0 | M13: =N13+O13 -> 200 | N13: 200
A14: 9 | B14: Nguyễn Thị Hoa | E14: 5 tấm bia rô | G14: 0 | I14: =J14+K14 -> 300 | J14: 300 | L14: 60 | M14: =N14+O14 -> 45 | N14: 45 | Q14: 10 con gà
A15: 10 | B15: Nguyễn Thị Liên | G15: 1 | H15: =4*12 -> 48 | I15: =J15+K15 -> 0 | M15: =N15+O15 -> 0
A16: 10 | B16: Nguyễn Thị Liên | G16: 1 | H16: 24 | I16: =J16+K16 -> 0 | M16: =N16+O16 -> 0
A17: 11 | B17: Nguyễn Minh Thông | G17: 1 | H17: 48 | I17: =J17+K17 -> 0 | M17: =N17+O17 -> 0
A18: 11 | B18: Nguyễn Minh Thông | G18: 1 | H18: 24 | I18: =J18+K18 -> 0 | M18: =N18+O18 -> 0
A19: 12 | B19: Trần Thị Lợi | E19: 10 tấm bia rô | G19: 0 | I19: =J19+K19 -> 0 | M19: =N19+O19 -> 0
A20: 13 | B20: Nguyễn Văn Lam | E20: nhà sau | G20: 0 | I20: =J20+K20 -> 0 | M20: =N20+O20 -> 0
A21: 14 | B21: Nguyễn Văn Thủy | E21: nhà xưởng | G21: 0.45 | H21: =6*12 -> 72 | I21: =J21+K21 -> 0 | M21: =N21+O21 -> 10 | N21: 10 | Q21: 1 cây mít, 1 cây chay
A22: 15 | B22: Cao Xuân Thái | C22: tốc ngói | E22: mái nhà bếp | G22: 0 | I22: =J22+K22 -> 0 | M22: =N22+O22 -> 0
A23: 16 | B23: Cao Xuân An | E23: mái nhà bếp | G23: 0 | I23: =J23+K23 -> 0 | M23: =N23+O23 -> 0
A24: 17 | B24: Nguyễn Văn Trọng | C24: 200 viên ngói | E24: 20 tấm bia rô | G24: 0.5 | H24: 36 | I24: =J24+K24 -> 1000 | K24: 1000 | L24: 40 | M24: =N24+O24 -> 1000 | N24: 1000 | P24: 2
A25: 18 | B25: Lê Thị Liên | C25: tốc ngói | G25: 0 | I25: =J25+K25 -> 0 | M25: =N25+O25 -> 0 | Q25: cây Mít
A26: 19 | B26: Phạm Văn Thân | E26: Nhà để xe | G26: 0 | I26: =J26+K26 -> 0 | M26: =N26+O26 -> 0
A27: 20 | B27: Đào Thành Đoàn | C27: tốc ngói | E27: tốc mai chuồng | G27: 0.65 | H27: 24 | I27: =J27+K27 -> 0 | M27: =N27+O27 -> 0 | Q27: có 5000m2 ở Kỳ Thượng
A28: 21 | B28: Nguyễn Thị Thuận | C28: tốc ngói | E28: tốc mai chuồng | G28: 0.22 | H28: 24 | I28: =J28+K28 -> 0 | M28: =N28+O28 -> 135 | N28: =15*9 -> 135 | P28: 10
A29: 22 | B29: Nguyễn Tiến Nam | G29: 2 | H29: 24 | I29: =J29+K29 -> 0 | M29: =N29+O29 -> 50 | N29: 50 | P29: 20
A30: 23 | B30: Trần Văn Toàn | G30: 0 | I30: =J30+K30 -> 0 | M30: =N30+O30 -> 30 | N30: 30 | P30: 15
A31: 24 | B31: Nguyễn Thị Xuyên | E31: sập công trình phụ | G31: 0 | I31: =J31+K31 -> 0 | M31: =N31+O31 -> 0
A32: 25 | B32: Đào Văn Thành | C32: tốc ngói | G32: 0 | I32: =J32+K32 -> 0 | M32: =N32+O32 -> 0
A33: 26 | B33: Đào Anh Sơn | G33: 0.05 | H33: 48 | I33: =J33+K33 -> 0 | M33: =N33+O33 -> 0 | Q33: nhãn, mít
A34: 27 | B34: Lê Thị Thuyết | G34: 0.05 | H34: 48 | I34: =J34+K34 -> 0 | M34: =N34+O34 -> 0 | Q34: nhãn, mít
A35: 28 | B35: Trần Xuân Đằng | E35: 10 viên bia rô | G35: 0.07 | H35: 24 | I35: =J35+K35 -> 0 | M35: =N35+O35 -> 200 | N35: 200 | P35: 15
A36: 28 | B36: Trần Xuân Đằng | G36: 0.05 | H36: =7*12 -> 84 | I36: =J36+K36 -> 0 | M36: =N36+O36 -> 0
A37: 29 | B37: Nguyễn Thị Đua | E37: rạp bia rô | G37: 0 | I37: =J37+K37 -> 0 | M37: =N37+O37 -> 500 | O37: 500 | P37: 7
A38: 30 | B38: Đặng Văn Lân | E38: 45 tấm bia rô | G38: 0 | I38: =J38+K38 -> 0 | M38: =N38+O38 -> 50 | N38: 50 | P38: 16
A39: 31 | B39: Nguyễn Tiến Phụng | E39: chuồng gà | G39: 7.6 | H39: 24 | I39: =J39+K39 -> 300 | J39: 300 | L39: 60 | M39: =N39+O39 -> 0
A40: 32 | B40: Đặng Văn Thành | E40: 60 tấm bia rô | G40: 2 | H40: 24 | I40: =J40+K40 -> 0 | M40: =N40+O40 -> 900 | N40: =100*9 -> 900 | P40: 9
...

Sheet HOA TIẾN
A1: THÔN HOA TIẾN
A2: BIỂU II: DANH SÁCH THIỆT HẠI VỀ CÂY TRỒNG DO BÃO SỐ 10
A3: TT | B3: Tên chủ hộ | C3: Thiệt hại nhà ở | E3: Công trình phụ trợ | G3: Thiệt hại cây lâm nghiệp | I3: Thiệt hại cây hằng năm (dưa hấu, vừng, khoai, ……) | M3: Thiệt hại cây lâu năm (các loại cây ăn quả)
C4: Loại nhà (kiên cố, bán kiên cố, đơn sơ) | D4: Mức độ thiệt hại (%) | E4: Loại công trình | F4: Mức độ thiệt hại (%) | G4: Diện tích (ha) | H4: Thời gian trồng (tháng) | I4: Diện tích (m2) | J4: Mức độ thiệt hại | L4: Thời gian trồng (ngày) | M4: Diện tích (m2) | N4: Mức độ thiệt hại | P4: Thời gian trồng (tháng)
J5: Thiệt hại trên 70% | K5: Thiệt hại từ 30- 70% | N5: Thiệt hại trên 70% | O5: Thiệt hại từ 30- 70%
A6: 1 | B6: Thiều Thanh Tùng | G6: 3 | H6: 30
A7: 2 | B7: Lê Văn Diễn | E7: Công trình phụ | F7: 30 | G7: 4 | H7: 42
A8: 3 | B8: Đào Văn Long | G8: 3.7 | H8: 60 | M8: 1000 | N8: 1000 | P8: 120
A9: 4 | B9: Trương Thị Hợi | G9: 1 | H9: 30
A10: 5 | B10: Đào Văn Tịnh | E10: Công trình phụ | F10: 20 | G10: 4 | H10: 30
A11: 6 | B11: Đặng Văn Hùng | G11: 3 | H11: 24
A12: 7 | B12: Nguyễn Thanh | G12: 1 | H12: 36
A13: 8 | B13: Nguyễn Thái Quý | G13: 5 | H13: 36
A14: 9 | B14: Hoàng văn Khân | G14: 1 | H14: 24
A15: 10 | B15: Phạm văn Toàn | G15: 6 | H15: 36
A16: 11 | B16: Hoàng Thị Lợi | G16: 1 | H16: 36
A17: 12 | B17: Lê Thị Huế | G17: 1 | H17: 24
A18: 13 | B18: Hoàng Văn Đông | G18: 1 | H18: 24
A19: 14 | B19: Thiều Xuân Lộc | G19: 1 | H19: 30
A20: 15 | B20: Doãn Thị Phương | G20: 2 | H20: 30
A21: 16 | B21: Phạm Thị Tâm | G21: 2.8 | H21: 36
A22: 17 | B22: Nguyễn Văn Đức | G22: 1 | H22: 36
A23: 18 | B23: Nguyễn Văn Mạnh | C23: Tốc mái | D23: 50
A24: 19 | B24: Thiều Thị Hoa | G24: 1.8 | H24: 30
A25: 20 | B25: Phạm Văn Huê | E25: Công trình phụ | F25: 20 | G25: 1 | H25: 24
A26: 21 | B26: Thiều Văn Lân | G26: 2 | H26: 24
A27: 22 | B27: Đặng Trung Hậu | G27: 6 | H27: 30
A28: 23 | B28: Đào Văn Hà | G28: 2 | H28: 24
A29: 24 | B29: Đặng Thị Quế | G29: 2 | H29: 48 | M29: 1000 | N29: 1000 | P29: 120
A30: 25 | B30: Đặng Thị Huê | G30: 2 | H30: 42
A31: 26 | B31: Thái Văn Minh | E31: Trại | F31: 100 | G31: 20 | H31: 30
A32: 27 | B32: Phạm Văn Thuật | G32: 4 | H32: 42
A33: 28 | B33: Thiều Văn Tám | G33: 6 | H33: 42 | M33: 1000 | N33: 1000 | P33: 84
A34: 29 | B34: Nguyễn Văn Hiền | G34: 2 | H34: 48
A35: 30 | B35: Nguyễn Mạnh Tấn | G35: 2 | H35: 24 | M35: 2500 | N35: 2500 | P35: 96
A36: 31 | B36: Thiều Xuân Lĩnh | G36: 5 | H36: 48
A37: 32 | B37: Trần Thị Vân | G37: 8 | H37: 36 | I37: 1000 | J37: 1000 | L37: 90 | M37: 3000 | N37: 3000 | P37: 180
A38: 33 | B38: Nguyễn Thị Xuân | G38: 5.5 | H38: 24 | M38: 750 | N38: 750 | P38: 124
A39: 34 | B39: Nguyễn Xuân Lý | M39: 750 | N39: 750 | P39: 98
A40: 35 | B40: Thái Hữu Tình | G40: 11 | H40: 48
...

Sheet HOA SƠN
A1: THÔN HOA SƠN
A2: BIỂU II: DANH SÁCH THIỆT HẠI VỀ CÂY TRỒNG DO BÃO SỐ 10
A3: TT | B3: Tên chủ hộ | C3: Thiệt hại nhà ở | E3: Công trình phụ trợ | G3: Thiệt hại cây lâm nghiệp | I3: Thiệt hại cây hằng năm (dưa hấu, vừng, khoai, ……) | M3: Thiệt hại cây lâu năm (các loại cây ăn quả)
C4: Loại nhà (kiên cố, bán kiên cố, đơn sơ) | D4: Mức độ thiệt hại (%) | E4: Loại công trình | F4: Mức độ thiệt hại (%) | G4: Diện tích (ha) | H4: Thời gian trồng (tháng) | I4: Diện tích (m2) | J4: Mức độ thiệt hại | L4: Thời gian trồng (ngày) | M4: Diện tích (m2) | N4: Mức độ thiệt hại | P4: Thời gian trồng (tháng)
J5: Thiệt hại trên 70% | K5: Thiệt hại từ 30- 70% | N5: Thiệt hại trên 70% | O5: Thiệt hại từ 30- 70%
A6: 1 | B6: Lê Thị Liên | E6: Tốc mái công trình phụ | F6: 100 | G6: 2 | H6: 36
A7: 2 | B7: Trần Thị Hương | E7: Tốc mái công trình phụ | F7: 80 | G7: 2 | H7: 18 | M7: 600 | N7: 600 | P7: 36
A8: 3 | B8: Nguyễn Văn Thành (T) | C8: Tốc mái | D8: 30 | E8: Tốc mái rạp nắng | F8: 50 | G8: 1 | H8: 24 | I8: 50 | J8: 50 | L8: 30 | M8: 150 | N8: 150 | P8: 42
A9: 4 | B9: Đặng Văn Chiểu | E9: Tốc mái công trình phụ | F9: 100
A10: 5 | B10: Nguyễn Thị Kiểm | G10: 6.1 | H10: 24 | I10: 100 | J10: 100 | L10: 60
A11: 6 | B11: Lê Cao Thắng | C11: Tốc mái | D11: 42 | E11: Tốc mái công trình phụ | F11: 50 | G11: 0.3 | H11: 36
A12: 7 | B12: Đào Quốc Tuấn | C12: Tốc mái | D12: 50 | E12: Tốc mái công trình phụ | F12: 50 | G12: 3 | H12: 24 | M12: 1000 | N12: 1000 | P12: 24
A13: 8 | B13: Nguyễn Văn Dũng | G13: 1 | H13: 60
A14: 9 | B14: Trần Văn Lĩnh | E14: Tốc mái công trình phụ | F14: 60 | G14: 2.5 | H14: 48 | M14: 1500 | N14: 1500 | P14: 24
A15: 10 | B15: Đào Văn Anh | E15: Tốc mái công trình phụ | F15: 90 | G15: 2 | H15: 42 | M15: 500 | N15: 500 | P15: 12
A16: 11 | B16: Nguyễn Văn Thọ | C16: Tốc mái | D16: 80 | G16: 2 | H16: 48 | I16: 500 | J16: 500 | L16: 90 | M16: 1000 | N16: 1000 | P16: 24
A17: 12 | B17: Đào Thị Hải | C17: Tốc mái | D17: 40 | G17: 1 | H17: 42
A18: 13 | B18: Trần Xuân Quyền | G18: 1 | H18: 12
A19: 14 | B19: Nguyễn Văn Thành (H) | E19: Tốc mái công trình phụ | F19: 50 | G19: 4 | H19: 36 | M19: 500 | N19: 500 | P19: 12
A20: 15 | B20: Phạm Thị Thu Huyền | G20: 1 | H20: 30
A21: 16 | B21: Trần Xuân Lộc | E21: Tốc mái công trình phụ | F21: 100 | G21: 7 | H21: 36 | M21: 1500 | N21: 1500 | P21: 24
A22: 17 | B22: Trần Xuân Mời | C22: Tốc mái | D22: 40 | E22: Tốc mái rạp nắng | F22: 75 | G22: 2 | H22: 48
A23: 18 | B23: Lê Văn Hùng | E23: Tốc mái công trình phụ | F23: 50 | G23: 1.5 | H23: 36
A24: 19 | B24: Nguyễn Thị Tuyển | G24: 0.19 | H24: 36
A25: 20 | B25: Hoàng Thị Thủy | C25: Tốc mái | D25: 50 | E25: Tốc mái công trình phụ | F25: 50 | G25: 1 | H25: 72
A26: 21 | B26: Nguyễn Văn Quý | G26: 6 | H26: 24
A27: 22 | B27: Đào Văn Nhân | C27: Tốc mái | D27: 80 | E27: Tốc mái công trình phụ | F27: 80 | G27: 1 | H27: 18 | M27: 400 | N27: 400 | P27: 36
A28: 23 | B28: Hoàng Ngọc Đáng | G28: 1.9 | H28: 30
A29: 24 | B29: Hoàng Ngọc Thịnh | E29: Tốc mái công trình phụ | F29: 100 | G29: 0.1 | H29: 36
A30: 25 | B30: Hoàng Văn Thuận | C30: Tốc mái | D30: 50 | E30: Tốc mái công trình phụ | F30: 50 | G30: 1 | H30: 42
A31: 26 | B31: Lê Anh Dũng | C31: Tốc mái | D31: 100 | E31: Tốc mái công trình phụ | F31: 100
A32: 27 | B32: Nguyễn Thị Dung Trung) | G32: 2 | H32: 36
A33: 28 | B33: Nguyễn Tiến Khiêm | E33: Tốc mái rạp nắng | F33: 30 | G33: 6 | H33: 30
A34: 29 | B34: Phan Văn Lượng | E34: Tốc mái nhà xưởng | F34: 30 | G34: 4.5 | H34: 36
A35: 30 | B35: Phan Công Tửu | G35: 4 | H35: 24 | M35: 1000 | N35: 1000 | P35: 60
A36: 31 | B36: Phan Công Dũng | E36: Tốc mái nhà bếp | F36: 50 | G36: 2 | H36: 48 | I36: 500 | J36: 500 | L36: 60
A37: 32 | B37: Phạm Thành Trung | G37: 0.1 | H37: 36 | M37: 300 | N37: 300 | P37: 48
A38: 33 | B38: Phan Văn Giang | E38: Tốc mái chuồng trại | F38: 50 | G38: 8 | H38: 36
A39: 34 | B39: Lê Văn Đức | E39: Tốc mái rạp nắng | F39: 100 | G39: 3 | H39: 36 | I39: 500 | J39: 500 | L39: 180
A40: 35 | B40: Nguyễn Văn Trung | C40: Tốc mái | D40: 20 | E40: Tốc mái công trình phụ | F40: 80 | G40: 1.5 | H40: 24 | M40: 300 | N40: 300 | P40: 36
...

Sheet XUÂN THỌ
A1: THÔN XUÂN THỌ
A2: BIỂU II: DANH SÁCH THIỆT HẠI VỀ CÂY TRỒNG DO BÃO SỐ 10
A3: TT | B3: Tên chủ hộ | C3: Thiệt hại nhà ở | E3: Công trình phụ trợ | G3: Thiệt hại cây lâm nghiệp | I3: Thiệt hại cây hằng năm (dưa hấu, vừng, khoai, ……) | M3: Thiệt hại cây lâu năm (các loại cây ăn quả)
C4: Loại nhà (kiên cố, bán kiên cố, đơn sơ) | D4: Mức độ thiệt hại (%) | E4: Loại công trình | F4: Mức độ thiệt hại (%) | G4: Diện tích (ha) | H4: Thời gian trồng (tháng) | I4: Diện tích (m2) | J4: Mức độ thiệt hại | L4: Thời gian trồng (ngày) | M4: Diện tích (m2) | N4: Mức độ thiệt hại | P4: Thời gian trồng (tháng)
J5: Thiệt hại trên 70% | K5: Thiệt hại từ 30- 70% | N5: Thiệt hại trên 70% | O5: Thiệt hại từ 30- 70%
A6: 1 | B6: Tăng Thị Huệ | C6: Bán kiên cố | D6: 80 | E6: Công trình phụ | F6: 10 | I6: 480 | J6: 480 | L6: 190
A7: 2 | B7: Phan Thanh Bình | C7: Kiên cố | D7: 30
A8: 3 | B8: Phan Hồng Sơn | G8: 8.9 | H8: 30
A9: 4 | B9: Tăng Anh Thuỷ | G9: 2.2 | H9: 24
A10: 5 | B10: Phạm Quang Đào | C10: Kiên cố | D10: 10 | E10: Công trình phụ | F10: 10
A11: 6 | B11: Tăng Văn Lành | C11: Bán kiên cố | D11: 30 | E11: Công trình phụ | F11: 30
A12: 7 | B12: Bùi Quang Tiến | E12: Công trình phụ | F12: 40
A13: 8 | B13: Phạm Xuân Đông | C13: Kiên cố | D13: 20 | I13: 250 | J13: 250 | L13: 90
A14: 9 | B14: Thái Thị Huê | I14: 500 | J14: 500 | L14: 90
A15: 10 | B15: Bùi Xuân Nghĩa | E15: Hàng rào | F15: 100m | I15: 100 | J15: 100 | L15: 90
A16: 11 | B16: Bùi Xuân Thành | C16: Kiên cố | D16: 10 | M16: 300 | O16: 300 | P16: 24
A17: 12 | B17: Dương Đình Long | E17: Xưởng Mộc | F17: 20
A18: 13 | B18: Tăng văn Hiền | C18: Bán kiên cố | D18: 0,5
A19: 14 | B19: Tăng Ngọc Anh | C19: Bán kiên cố | D19: 10
A20: 15 | B20: Lê Thị Sen | C20: Bán kiên cố | D20: 30 | E20: Công trình phụ | F20: 80 | I20: 50 | J20: 50
A21: 16 | B21: Biện Thị Khanh | E21: Đỏ hàng rào | F21: 5m | I21: 400 | J21: 400 | L21: 60
A22: 17 | B22: Hoàng Thị Hiền | C22: Bán kiên cố | D22: 20
A23: 18 | B23: Phan Văn Dung | C23: Kiên cố | D23: 30
A24: 19 | B24: Phạm Đình Duyên | C24: Bán kiên cố | D24: 20
A25: 20 | B25: Nguyễn Xuân Sơn | C25: Bán kiên cố | D25: 10 | E25: Công trình phụ | F25: 100 | M25: 200 | N25: 200 | P25: 36
A26: 21 | B26: Phan Hồng Cúc | C26: Bán kiên cố | D26: 20 | E26: Công trình phụ | F26: 80
A27: 22 | B27: Bùi Quốc Khanh | E27: Rạp nắng | F27: 100
A28: 23 | B28: Nguyễn Thị Hương | E28: Rạp nắng | F28: 10
A29: 24 | B29: Phan Văn Bảy | C29: Bán kiên cố | D29: 15 | E29: Cổng sắt | F29: Bị đổ
A30: 25 | B30: Phạm Ngọc Thành | C30: Kiên cố | D30: 10
A31: 26 | B31: Lê Thị Vân | C31: Kiên cố | D31: 0,5
A32: 27 | B32: Nguyễn Văn Ánh | E32: Công trình phụ | F32: 40 | G32: 2 | H32: 36 | M32: 100 | N32: 100 | P32: 60
B33: Bùi Quang Trung | G33: 3.7 | H33: 54
B36: Tổng | G36: =SUM(G6:G33) -> 16.8 | I36: =SUM(I6:I32) -> 1780 | J36: =SUM(J6:J32) -> 1780 | K36: =SUM(K6:K32) -> 0 | M36: =SUM(M6:M32) -> 600 | N36: =SUM(N6:N32) -> 300 | O36: =SUM(O6:O32) -> 300
J37: Ngày tháng 10 năm 2025
A38: ĐOÀN CÔNG TÁC | J38: TRƯỞNG THÔN

Sheet TẤN SƠN
A1: THÔN TẤN SƠN
A2: BIỂU II: DANH SÁCH THIỆT HẠI VỀ CÂY TRỒNG DO BÃO SỐ 10
A3: TT | B3: Tên chủ hộ | C3: Thiệt hại nhà ở | E3: Công trình phụ trợ | G3: Thiệt hại cây lâm nghiệp | I3: Thiệt hại cây hằng năm (dưa hấu, vừng, khoai, ……) | M3: Thiệt hại cây lâu năm (các loại cây ăn quả)
C4: Loại nhà (kiên cố, bán kiên cố, đơn sơ) | D4: Mức độ thiệt hại (%) | E4: Loại công trình | F4: Mức độ thiệt hại (%) | G4: Diện tích (ha) | H4: Thời gian trồng (tháng) | I4: Diện tích (m2) | J4: Mức độ thiệt hại | L4: Thời gian trồng (ngày) | M4: Diện tích (m2) | N4: Mức độ thiệt hại | P4: Thời gian trồng (tháng)
J5: Thiệt hại trên 70% | K5: Thiệt hại từ 30- 70% | N5: Thiệt hại trên 70% | O5: Thiệt hại từ 30- 70%
A6: 1 | B6: Nguyễn Văn Bốn | G6: 0.6 | H6: 24
A7: 2 | B7: Nguyễn Văn Đàn | G7: 10 | H7: 30 | M7: 500 | N7: 500 | P7: 78
A8: 3 | B8: Nguyễn Đình Bảo | G8: 1 | H8: 24
A9: 4 | B9: Hoàng Xuân Trung | G9: 1 | H9: 24
A10: 5 | B10: Hoàng Xuân Hùng | G10: 1 | H10: 36
A11: 6 | B11: Hoàng Văn Sơn | C11: Tốc mái | D11: 30 | E11: Chuồng trại | F11: 40 | G11: 1 | H11: 24
A12: 7 | B12: Hoàng Thị Mai | G12: 1 | H12: 24
A13: 8 | B13: Phan Văn Linh | C13: Tốc mái | D13: 50
A14: 9 | B14: Phan Văn Xuân | C14: Tốc mái | D14: 50 | G14: 1 | H14: 24
A15: 10 | B15: Phan Văn Nhung | C15: Tốc mái | D15: 50 | G15: 2.05 | H15: 24
A16: 11 | B16: Hoàng Văn Hiền | G16: 4 | H16: 24
A17: 12 | B17: Lê Văn Hoàng | C17: Tốc mái | D17: 50 | G17: 5 | H17: 24
A18: 13 | B18: Nguyễn Thị Thuỷ | C18: Tốc mái | D18: 30 | G18: 0.25 | H18: 24
A19: 14 | B19: Bùi Thị Dung | G19: 3 | H19: 24
A20: 15 | B20: Phạm Đình Huệ | C20: Tốc mái | D20: 80 | G20: 5 | H20: 54
A21: 16 | B21: Nguyễn Văn Thìn | G21: 1.12 | H21: 36
A22: 17 | B22: Hoàng Văn Đợi | G22: 8 | H22: 30
A23: 18 | B23: Hoàng Thanh Cảnh | G23: 6.2 | H23: 96
A24: 19 | B24: Vũ Văn Dũng | C24: Tốc mái | D24: 30 | G24: 1.5 | H24: 24
A25: 20 | B25: Vũ Văn Sự | G25: 3 | H25: 24
A26: 21 | B26: Nguyễn Văn Đoài | G26: 2 | H26: 24
A27: 22 | B27: Lê Đình Hùng | G27: 1 | H27: 24
A28: 23 | B28: Nguyễn Văn Hà | E28: Bếp nấu | F28: 50 | G28: 1 | H28: 24
A29: 24 | B29: Hoàng Văn Huề | G29: 0.6 | H29: 48
A30: 25 | B30: Hoàng thị Khành | C30: Tốc mái | D30: 40
A31: 26 | B31: Lê Công Minh | G31: 2 | H31: 24 | M31: 5000 | N31: 5000 | P31: 60
A32: 27 | B32: Nguyễn Anh Ngọc | G32: 4 | H32: 30 | M32: 2000 | N32: 2000 | P32: 120
A33: 28 | B33: Nguyễn Tiến Cường | C33: Tốc mái | D33: 50 | G33: 1.5 | H33: 30
A34: 29 | B34: Đặng Văn Cường | G34: 5 | H34: 24
A35: 30 | B35: Hoàng văn Hiển | G35: 2 | H35: 24
A36: 31 | B36: Nguyễn Thị Lộc | C36: Tốc mái | D36: 30
A37: 32 | B37: Hoàng Văn Lợi | G37: 1 | H37: 24
A38: 33 | B38: Hoàng Đức Thắng | G38: 3.6 | H38: 369
A39: 34 | B39: Nguyễn Thị Hiệu | C39: Tốc mái | D39: 50
A40: 35 | B40: Nguyễn Văn Lộc | G40: 20 | H40: 24 | I40: 3000 | J40: 3000 | L40: 180 | M40: 25000 | N40: 25000 | P40: 120
...

Sheet ĐÔNG VĂN
A1: THÔN ĐÔNG VĂN
A2: BIỂU II: DANH SÁCH THIỆT HẠI VỀ CÂY TRỒNG DO BÃO SỐ 10
A3: TT | B3: Tên chủ hộ | C3: Thiệt hại nhà ở | E3: Công trình phụ trợ | G3: Thiệt hại cây lâm nghiệp | I3: Thiệt hại cây hằng năm (dưa hấu, vừng, khoai, ……) | M3: Thiệt hại cây lâu năm (các loại cây ăn quả)
C4: Loại nhà (kiên cố, bán kiên cố, đơn sơ) | D4: Mức độ thiệt hại (%) | E4: Loại công trình | F4: Mức độ thiệt hại (%) | G4: Diện tích (ha) | H4: Thời gian trồng (tháng) | I4: Diện tích (m2) | J4: Mức độ thiệt hại | L4: Thời gian trồng (ngày) | M4: Diện tích (m2) | N4: Mức độ thiệt hại | P4: Thời gian trồng (tháng)
J5: Thiệt hại trên 70% | K5: Thiệt hại từ 30- 70% | N5: Thiệt hại trên 70% | O5: Thiệt hại từ 30- 70%
A6: 1 | B6: Võ Thị Hạo | C6: Bán kiên cố | D6: 50 | E6: Rạp nắng | F6: 100
A7: 2 | B7: Nguyễn Thị Thuỵn | C7: Bán kiên cố | D7: 10 | E7: Rạp nắng | F7: 50
A8: 3 | B8: Lê Trung Đình | G8: 3 | H8: 36
A9: 4 | B9: Nguyễn Ngọc Quỳnh | G9: 3 | H9: 36
A10: 5 | B10: Trương Xuân Việt | E10: Quán | F10: 35 | I10: 100 | K10: 100
A11: 6 | B11: Nguyễn Cao Thắng | C11: Bán kiên cố | D11: 10 | E11: Rạp nắng | F11: 30
A12: 7 | B12: Trần Văn Hùng | C12: Bán kiên cố | D12: 20 | E12: Rạp nắng | F12: 100
A13: 8 | B13: Nguyễn Hữu Thọ | C13: Bán kiên cố | D13: 10 | E13: Nhà bếp | F13: 30 | M13: 2000 | N13: 2000 | P13: 60
A14: 9 | B14: Phạm Trọng Nhân | E14: Nhà bếp | F14: 50 | M14: 100 | N14: 100 | P14: 60
A15: 10 | B15: Phạm Xuân Biên | G15: 25 | H15: 36
A16: 11 | B16: Nguyễn Tiến Khoa | E16: Nhà bếp | F16: 70 | M16: 120 | N16: 120 | P16: 132
A17: 12 | B17: Nguyễn Anh Nhật | C17: Bán kiên cố | D17: 40 | E17: Rạp nắng | F17: 50 | G17: 3.5 | H17: 24
A18: 13 | B18: Nguyễn Thị Lài | C18: Bán kiên cố | D18: 20 | E18: Rạp nắng | F18: 70
A19: 14 | B19: Nguyễn Trọng Mính | C19: Bán kiên cố | D19: 30 | E19: Rạp nắng | F19: 100
A20: 15 | B20: Phạm Hồng Thuận | G20: 2.5 | H20: 24
A21: 16 | B21: Nguyễn Xuân Huyến | G21: 1 | H21: 24
A22: 17 | B22: Nguyễn Lý Huỳnh | C22: Bán kiên cố | D22: 10 | G22: 3 | H22: 40
A23: 18 | B23: Nguyễn Anh Sơn | G23: 2 | H23: 36
A24: 19 | B24: Thái Thị Quế | C24: Bán kiên cố | D24: 50 | E24: Rạp nắng | F24: 50
A25: 20 | B25: Nguyễn Thị Khánh | E25: Rạp nắng | F25: 100 | G25: 1 | H25: 36
A26: 21 | B26: Lê Thị Hoà | C26: Nhà Tốc mái | D26: 80
A27: 22 | B27: Đào Thị Thanh Lam | E27: Rạp nắng | F27: 20 | G27: 3 | H27: 36
A28: 23 | B28: Trương Văn Hiệp | G28: 1.5 | H28: 36
A29: 24 | B29: Nguyễn Văn Thành | G29: 10 | H29: 48
A30: 25 | B30: Nguyễn Phúc Trinh | G30: 10 | H30: 48
A31: 26 | B31: Nguyễn Tiến Sau | G31: 0.5 | H31: 48
A32: 27 | B32: Nguyễn Văn Bằng | G32: 6 | H32: 48
A33: 28 | B33: Nguyễn Thị Lợi | C33: Bán kiên cố | D33: 15 | E33: Rạp nắng | F33: 25
A34: 29 | B34: Nguyễn Văn cừ | C34: Bán kiên cố | D34: 15 | E34: Công trình phụ | F34: 100 | G34: 0.04 | H34: 48
A35: 30 | B35: Nguyễn Hoa Long | C35: Nhà tốc mái | D35: 40 | G35: 0.05 | H35: 60
A36: 31 | B36: Võ Minh Thế | G36: 1 | H36: 48
A37: 32 | B37: Võ Minh Xuân | G37: 0.1 | H37: 36
A38: 33 | B38: Lê Xuân Hồng | C38: Bán kiên cố | D38: 15 | E38: Công trình phụ | F38: 40 | G38: 1.7 | H38: 54
A39: 34 | B39: Lê Hữu Tình | E39: Công trình phụ | F39: 40 | G39: 2.4 | H39: 30 | I39: 500 | J39: 500
A40: 35 | B40: Nguyễn Thị Hương | G40: 1 | H40: 36
...

Sheet TÂN THẮNG
A1: THÔN TÂN THẮNG
A2: BIỂU II: DANH SÁCH THIỆT HẠI VỀ CÂY TRỒNG DO BÃO SỐ 10
A3: TT | B3: Tên chủ hộ | C3: Thiệt hại nhà ở | E3: Công trình phụ trợ | G3: Thiệt hại cây lâm nghiệp | I3: Thiệt hại cây hằng năm (dưa hấu, vừng, khoai, ……) | M3: Thiệt hại cây lâu năm (các loại cây ăn quả)
C4: Loại nhà (kiên cố, bán kiên cố, đơn sơ) | D4: Mức độ thiệt hại (%) | E4: Loại công trình | F4: Mức độ thiệt hại (%) | G4: Diện tích (ha) | H4: Thời gian trồng (tháng) | I4: Diện tích (m2) | J4: Mức độ thiệt hại | L4: Thời gian trồng (ngày) | M4: Diện tích (m2) | N4: Mức độ thiệt hại | P4: Thời gian trồng (tháng)
J5: Thiệt hại trên 70% | K5: Thiệt hại từ 30- 70% | N5: Thiệt hại trên 70% | O5: Thiệt hại từ 30- 70%
A6: 1 | B6: Phạm Đắc Quỳnh | G6: 2 | H6: 36
A7: 2 | B7: Phạm Văn Hoà | G7: 0.1 | H7: 30
A8: 3 | B8: Phạm Văn Tiến | G8: 0.25 | H8: 36
