Workbook
Name chuong_pl_2_name: 'Cay LN ke khai'!$A$2
Name chuong_pl_2_name: 'PL II. CAY LAM NGHIEP'!$A$2

Sheet Cay LN ke khai
A1: ỦY BAN NHÂN DÂN ……………….
A2: TỔNG HỢP ĐỀ XUẤT HỖ TRỢ ĐỐI VỚI LÂM NGHIỆP BỊ THIỆT HẠI DO BÃO SỐ 10 NĂM 2025
A3: (Từ ngày.... tháng.... năm ……. đến ngày ….. tháng.... năm....)
A5: TT | B5: Thôn | C5: Tổng giá trị thiệt hại (triệu đồng) | D5: Thiệt hại trên 70% | F5: Thiệt hại từ 30% đến 70% | H5: Kinh phí hỗ trợ | K5: Số QĐ hỗ trợ
D6: Diện tích cây rừng, cây lâm sản ngoài gỗ trồng trên đất lâm nghiệp mới trồng đến 1/2 chu kỳ khai thác (ha) | E6: Diện tích cây rừng, cây lâm sản ngoài gỗ trồng trên đất lâm nghiệp trên 1/2 chu kỳ khai thác, diện tích rừng trồng gỗ lớn trên 03 năm tuổi (ha) | F6: Diện tích cây rừng, cây lâm sản ngoài gỗ trồng trên đất lâm nghiệp mới trồng đến 1/2 chu kỳ khai thác (ha) | G6: Diện tích cây rừng, cây lâm sản ngoài gỗ trồng trên đất lâm nghiệp trên 1/2 chu kỳ khai thác, diện tích rừng trồng gỗ lớn trên 03 năm tuổi (ha) | H6: Tổng NSNN hỗ trợ (triệu đồng) | I6: NSTW (triệu đồng) | J6: NSĐP đảm bảo (triệu đồng)
A7: 1 | B7: Hoa Đông | C7: =D7*50+E7*70 -> 10985.5 | D7: =+SUMIFS(HOAĐÔNG!G6:G98,HOAĐÔNG!H6:H98,"<30") -> 32.6 | E7: =SUMIFS(HOAĐÔNG!G6:G98,HOAĐÔNG!H6:H98,">=30") -> 133.65 | H7: =D7*8+E7*15 -> 2265.55 | I7: =0.8*H7 -> 1812.44 | J7: =0.2*H7 -> 453.11 | L7: =E7+D7 -> 166.25 | M7: 163.35 | N7: =M7-L7 -> -2.9
A8: 2 | B8: Hoa Trung | C8: =D8*50+E8*70 -> 10495 | D8: =SUMIFS('HOA TRUNG'!G6:G130,'HOA TRUNG'!H6:H130,"<30") -> 48.55 | E8: =SUMIFS('HOA TRUNG'!G6:G130,'HOA TRUNG'!H6:H130,">=30") -> 115.25 | H8: =D8*8+E8*15 -> 2117.15 | I8: =0.8*H8 -> 1693.72 | J8: =0.2*H8 -> 423.43 | L8: =E8+D8 -> 163.8 | M8: 140.2 | N8: =M8-L8 -> -23.6
A9: 3 | B9: Hoa Tân | C9: =D9*50+E9*70 -> 11069.3 | D9: =SUMIFS('HOA TÂN'!G6:G197,'HOA TÂN'!H6:H197,"<30") -> 75.912 | E9: =SUMIFS('HOA TÂN'!G6:G197,'HOA TÂN'!H6:H197,">=30") -> 103.91 | H9: =D9*8+E9*15 -> 2165.946 | I9: =0.8*H9 -> 1732.7568 | J9: =0.2*H9 -> 433.1892 | L9: =E9+D9 -> 179.822 | M9: 147 | N9: =M9-L9 -> -32.822
A10: 4 | B10: Hoa Thắng | C10: =D10*50+E10*70 -> 9400.205 | D10: =SUMIFS('Hoa Thang'!G6:G195,'Hoa Thang'!H6:H195,"<30") -> 76.4241 | E10: =SUMIFS('Hoa Thang'!G6:G195,'Hoa Thang'!H6:H195,">=30") -> 79.7 | H10: =D10*8+E10*15 -> 1806.8928 | I10: =0.8*H10 -> 1445.5142 | J10: =0.2*H10 -> 361.37856 | L10: =E10+D10 -> 156.1241 | M10: 126.09 | N10: =M10-L10 -> -30.0341
A11: 5 | B11: Hoa Tiến | C11: =D11*50+E11*70 -> 23275.5 | D11: =SUMIFS('HOA TIẾN'!G6:G114,'HOA TIẾN'!H6:H114,"<30") -> 92.9 | E11: =SUMIFS('HOA TIẾN'!G6:G114,'HOA TIẾN'!H6:H114,">=30") -> 266.15 | H11: =D11*8+E11*15 -> 4735.45 | I11: =0.8*H11 -> 3788.36 | J11: =0.2*H11 -> 947.09 | L11: =E11+D11 -> 359.05 | M11: 283.69 | N11: =M11-L11 -> -75.36
A12: 6 | B12: Hoa Sơn | C12: =D12*50+E12*70 -> 15501.8 | D12: =SUMIFS('HOA SƠN'!G6:G77,'HOA SƠN'!H6:H77,"<30") -> 50.7 | E12: =SUMIFS('HOA SƠN'!G6:G77,'HOA SƠN'!H6:H77,">=30") -> 185.24 | H12: =D12*8+E12*15 -> 3184.2 | I12: =0.8*H12 -> 2547.36 | J12: =0.2*H12 -> 636.84 | L12: =E12+D12 -> 235.94 | M12: 263.09 | N12: =M12-L12 -> 27.15
A13: 7 | B13: Xuân Thọ | C13: =D13*50+E13*70 -> 1132 | D13: =SUMIFS('XUÂN THỌ'!G6:G33,'XUÂN THỌ'!H6:H33,"<30") -> 2.2 | E13: =SUMIFS('XUÂN THỌ'!G6:G33,'XUÂN THỌ'!H6:H33,">=30") -> 14.6 | H13: =D13*8+E13*15 -> 236.6 | I13: =0.8*H13 -> 189.28 | J13: =0.2*H13 -> 47.32 | L13: =E13+D13 -> 16.8 | M13: 16.8 | N13: =M13-L13 -> 0
A14: 8 | B14: Tấn Sơn | C14: =D14*50+E14*70 -> 20236 | D14: =SUMIFS('TẤN SƠN'!G6:G113,'TẤN SƠN'!H6:H113,">30") -> 106.87 | E14: =SUMIFS('TẤN SƠN'!G6:G113,'TẤN SƠN'!H6:H113,"<=30") -> 212.75 | H14: =D14*8+E14*15 -> 4046.21 | I14: =0.8*H14 -> 3236.968 | J14: =0.2*H14 -> 809.242 | L14: =E14+D14 -> 319.62 | M14: 319.82 | N14: =M14-L14 -> 0.2
A15: 9 | B15: Đông Văn | C15: =D15*50+E15*70 -> 14134.6 | D15: =SUMIFS('ĐÔNG VĂN'!G6:G116,'ĐÔNG VĂN'!H6:H116,"<30") -> 14.2 | E15: =SUMIFS('ĐÔNG VĂN'!G6:G116,'ĐÔNG VĂN'!H6:H116,">=30") -> 191.78 | H15: =D15*8+E15*15 -> 2990.3 | I15: =0.8*H15 -> 2392.24 | J15: =0.2*H15 -> 598.06 | L15: =E15+D15 -> 205.98 | M15: 235.79 | N15: =M15-L15 -> 29.81
A16: 10 | B16: Tân Thắng | C16: =D16*50+E16*70 -> 3174.3 | D16: =SUMIFS('TÂN THẮNG'!G6:G63,'TÂN THẮNG'!H6:H63,"<30") -> 21.22 | E16: =SUMIFS('TÂN THẮNG'!G6:G63,'TÂN THẮNG'!H6:H63,">=30") -> 30.19 | H16: =D16*8+E16*15 -> 622.61 | I16: =0.8*H16 -> 498.088 | J16: =0.2*H16 -> 124.522 | L16: =E16+D16 -> 51.41 | M16: 52.83 | N16: =M16-L16 -> 1.42
A17: 11 | B17: Xuân Dục | C17: =D17*50+E17*70 -> 5713 | D17: =SUMIFS('XUÂN DỤC'!G6:G65,'XUÂN DỤC'!H6:H65,"<30") -> 26.9 | E17: =SUMIFS('XUÂN DỤC'!G6:G65,'XUÂN DỤC'!H6:H65,">=30") -> 62.4 | H17: =D17*8+E17*15 -> 1151.2 | I17: =0.8*H17 -> 920.96 | J17: =0.2*H17 -> 230.24 | L17: =E17+D17 -> 89.3 | M17: 88.53 | N17: =M17-L17 -> -0.77
A18: 12 | B18: Trung Đức | C18: =D18*50+E18*70 -> 14032.3 | D18: =SUMIFS('TRUNG ĐỨC'!G6:G191,'TRUNG ĐỨC'!H6:H191,"<30") -> 93.55 | E18: =SUMIFS('TRUNG ĐỨC'!G6:G191,'TRUNG ĐỨC'!H6:H191,">=30") -> 133.64 | H18: =D18*8+E18*15 -> 2753 | I18: =0.8*H18 -> 2202.4 | J18: =0.2*H18 -> 550.6 | L18: =E18+D18 -> 227.19 | M18: 252.19 | N18: =M18-L18 -> 25
A19: 13 | B19: Trường Lạc | C19: =D19*50+E19*70 -> 6825.5 | D19: =SUMIFS('TRƯỜNG LẠC'!G6:G69,'TRƯỜNG LẠC'!H6:H69,"<30") -> 20.24 | E19: =SUMIFS('TRƯỜNG LẠC'!G6:G69,'TRƯỜNG LẠC'!H6:H69,">=30") -> 83.05 | H19: =D19*8+E19*15 -> 1407.67 | I19: =0.8*H19 -> 1126.136 | J19: =0.2*H19 -> 281.534 | L19: =E19+D19 -> 103.29 | M19: 63.49 | N19: =M19-L19 -> -39.8
A20: 14 | B20: Trung Thượng | C20: =D20*50+E20*70 -> 28845 | D20: =SUMIFS('TRUNG THƯỢNG'!G6:G154,'TRUNG THƯỢNG'!H6:H154,"<30") -> 78.64 | E20: =SUMIFS('TRUNG THƯỢNG'!G6:G154,'TRUNG THƯỢNG'!H6:H154,">=30") -> 355.9 | H20: =D20*8+E20*15 -> 5967.62 | I20: =0.8*H20 -> 4774.096 | J20: =0.2*H20 -> 1193.524 | L20: =E20+D20 -> 434.54 | M20: 387.4 | N20: =M20-L20 -> -47.14
B21: Tổng: | C21: =SUM(C7:C20) -> 174820.01 | D21: =SUM(D7:D20) -> 740.9061 | E21: =SUM(E7:E20) -> 1968.21 | H21: =SUM(H7:H20) -> 35450.399 | I21: =SUM(I7:I20) -> 28360.319 | J21: =SUM(J7:J20) -> 7090.0798 | L21: =SUM(L7:L20) -> 2709.1161 | M21: =SUM(M7:M20) -> 2540.27 | N21: =M21-L21 -> -168.8461
E24: =E21+D21 -> 2709.1161

Sheet PHU LUC I. TH cay trong 
A1: ỦY BAN NHÂN DÂN XÃ KỲ HOA
A2: PHỤ LỤC I: DANH SÁCH NIÊM YẾT CÔNG KHAI ĐỐI TƯỢNG HỖ TRỢ, MỨC ĐỘ THIỆT HẠI, ĐỊNH MỨC HỖ TRỢ VÀ KINH PHÍ HỖ TRỢ DỰ KIẾN KHÔI PHỤC SẢN XUẤT NÔNG NGHIỆP ĐỐI VỚI CÂY TRỒNG BỊ THIỆT HẠI DO BÃO SỐ 5, số 10 NĂM 2025 CÁC HỘ DÂN THÔN TẤN SƠN (CŨ) ĐỢT I
A3: (Kèm theo Thông báo số 181/TB-UBND ngày 30 tháng 7 năm 2026 của UBND xã Kỳ Hoa )
AB4: ĐVT: Triệu đồng
A5: T T | B5: Họ và tên chủ hộ | C5: Thiệt hại trên 70% diện tích (ha) | T5: Thiệt hại từ 30% đến 70% diện tích (ha) | AF5: Tổng kinh phí hỗ trợ (triệu đồng)
C6: Diện tích lúa | F6: Diện tích mạ | G6: Cây hàng năm khác (ha) | H6: Diện tích lúa sau gieo trên 45 ngày (ha) | I6: Định mức hỗ trợ | J6: Thành tiền | K6: Cây hàng năm khác | T6: Diện tích lúa sau gieo trên 45 ngày (ha) | U6: Định mức hỗ trợ | V6: Thành tiền | W6: Cây hàng năm khác
C7: Sau gieo trồng từ 01 đến 10 ngày | D7: Sau gieo trồng từ 10 đến 45 ngày | E7: Sau gieo trồng trên 45 ngày | G7: Giai đoạn cây con (gieo trồng đến 1/3 thời gian sinh trưởng) | K7: Giai đoạn cây con (gieo trồng đến 1/3 thời gian sinh trưởng) | L7: Định mức hỗ trợ | M7: Thành tiền | N7: Giai đoạn cây đang phát triển (trên 1/3 đến 2/3 thời gian sinh trưởng) | O7: Định mức hỗ trợ | P7: Thành tiền | Q7: Giai đoạn cận thu hoạch (trên 2/3 thời gian sinh trưởng) | R7: Định mức hỗ trợ | S7: Thành tiền | W7: Giai đoạn cây con (gieo trồng đến 1/3 thời gian sinh trưởng) | X7: Định mức hỗ trợ | Y7: Thành tiền | Z7: Giai đoạn cây đang phát triển (trên 1/3 đến 2/3 thời gian sinh trưởng) | AA7: Định mức hỗ trợ | AB7: Thành tiền | AC7: Giai đoạn cận thu hoạch (trên 2/3 thời gian sinh trưởng) | AD7: Định mức hỗ trợ | AE7: Thành tiền
A8: A | B8: B | H8: 1 | I8: 2 | J8: 3=1*2 | K8: 4 | L8: 5 | M8: 6=4*5 | N8: 7 | O8: 8 | P8: 9=7*8 | Q8: 10 | R8: 11 | S8: 12=10*11 | T8: 13 | U8: 14 | V8: 15=13*14 | W8: 16 | X8: 17 | Y8: 18=16*17 | Z8: 19 | AA8: 20 | AB8: 21=19*20 | AC8: 22 | AD8: 23 | AE8: 24=22*23 | AF8: 25=3+6+9+12+15+18+21+24
A9: 1 | B9: Nguyễn Văn Hà | H9: =500/10000 -> 0.05 | I9: 10 | J9: =H9*I9 -> 0.5 | L9: 6 | M9: =K9*L9 -> 0 | O9: 10 | P9: =N9*O9 -> 0 | R9: 15 | U9: 5 | X9: 3 | Y9: =W9*X9 -> 0 | AA9: 5 | AB9: =Z9*AA9 -> 0 | AD9: 7.5 | AE9: =AC9*AD9 -> 0 | AF9: =J9+M9+P9+S9+V9+Y9+AB9+AE9 -> 0.5
A10: 2 | B10: Hoàng Văn Huề | H10: =252.5/10000 -> 0.02525 | I10: 10 | J10: =H10*I10 -> 0.2525 | L10: 6 | M10: =K10*L10 -> 0 | O10: 10 | P10: =N10*O10 -> 0 | R10: 15 | S10: =Q10*R10 -> 0 | U10: 5 | X10: 3 | Y10: =W10*X10 -> 0 | AA10: 5 | AB10: =Z10*AA10 -> 0 | AD10: 7.5 | AF10: =J10+M10+P10+S10+V10+Y10+AB10+AE10 -> 0.2525
A11: 3 | B11: Nguyễn Văn Thắng | H11: =1331.6/10000 -> 0.13316 | I11: 10 | J11: =H11*I11 -> 1.3316 | L11: 6 | M11: =K11*L11 -> 0 | O11: 10 | P11: =N11*O11 -> 0 | R11: 15 | S11: =Q11*R11 -> 0 | U11: 5 | X11: 3 | Y11: =W11*X11 -> 0 | AA11: 5 | AB11: =Z11*AA11 -> 0 | AD11: 7.5 | AF11: =J11+M11+P11+S11+V11+Y11+AB11+AE11 -> 1.3316
A12: 4 | B12: Võ Xuân Danh | H12: =537.4/10000 -> 0.05374 | I12: 10 | J12: =H12*I12 -> 0.5374 | L12: 6 | M12: =K12*L12 -> 0 | O12: 10 | P12: =N12*O12 -> 0 | R12: 15 | U12: 5 | X12: 3 | Y12: =W12*X12 -> 0 | AA12: 5 | AB12: =Z12*AA12 -> 0 | AD12: 7.5 | AF12: =J12+M12+P12+S12+V12+Y12+AB12+AE12 -> 0.5374
A13: 5 | B13: Võ Văn Mỵ | H13: =600/10000 -> 0.06 | I13: 10 | J13: =H13*I13 -> 0.6 | L13: 6 | M13: =K13*L13 -> 0 | O13: 10 | P13: =N13*O13 -> 0 | R13: 15 | S13: =Q13*R13 -> 0 | U13: 5 | X13: 3 | Y13: =W13*X13 -> 0 | AA13: 5 | AB13: =Z13*AA13 -> 0 | AD13: 7.5 | AF13: =J13+M13+P13+S13+V13+Y13+AB13+AE13 -> 0.6
A14: 6 | B14: Võ Văn Toàn | H14: =1000/10000 -> 0.1 | I14: 10 | J14: =H14*I14 -> 1 | L14: 6 | M14: =K14*L14 -> 0 | O14: 10 | P14: =N14*O14 -> 0 | R14: 15 | S14: =Q14*R14 -> 0 | U14: 5 | X14: 3 | Y14: =W14*X14 -> 0 | AA14: 5 | AB14: =Z14*AA14 -> 0 | AD14: 7.5 | AF14: =J14+M14+P14+S14+V14+Y14+AB14+AE14 -> 1
A15: 7 | B15: Nguyễn Thị Văn | H15: =300/10000 -> 0.03 | I15: 10 | J15: =H15*I15 -> 0.3 | L15: 6 | M15: =K15*L15 -> 0 | O15: 10 | P15: =N15*O15 -> 0 | R15: 15 | U15: 5 | X15: 3 | Y15: =W15*X15 -> 0 | AA15: 5 | AB15: =Z15*AA15 -> 0 | AD15: 7.5 | AF15: =J15+M15+P15+S15+V15+Y15+AB15+AE15 -> 0.3
A16: 8 | B16: Hoàng Văn Toàn | H16: =1500/10000 -> 0.15 | I16: 10 | J16: =H16*I16 -> 1.5 | L16: 6 | M16: =K16*L16 -> 0 | O16: 10 | P16: =N16*O16 -> 0 | R16: 15 | S16: =Q16*R16 -> 0 | U16: 5 | X16: 3 | Y16: =W16*X16 -> 0 | AA16: 5 | AB16: =Z16*AA16 -> 0 | AD16: 7.5 | AF16: =J16+M16+P16+S16+V16+Y16+AB16+AE16 -> 1.5
A17: 9 | B17: Phạm Thị Chiến | H17: =1135.8/10000 -> 0.11358 | I17: 10 | J17: =H17*I17 -> 1.1358 | L17: 6 | M17: =K17*L17 -> 0 | O17: 10 | P17: =N17*O17 -> 0 | R17: 15 | U17: 5 | X17: 3 | Y17: =W17*X17 -> 0 | AA17: 5 | AB17: =Z17*AA17 -> 0 | AD17: 7.5 | AF17: =J17+M17+P17+S17+V17+Y17+AB17+AE17 -> 1.1358
A18: 10 | B18: Nguyễn Văn Hoàn | H18: =2570/10000 -> 0.257 | I18: 10 | J18: =H18*I18 -> 2.57 | L18: 6 | M18: =K18*L18 -> 0 | O18: 10 | P18: =N18*O18 -> 0 | R18: 15 | U18: 5 | X18: 3 | Y18: =W18*X18 -> 0 | AA18: 5 | AB18: =Z18*AA18 -> 0 | AD18: 7.5 | AF18: =J18+M18+P18+S18+V18+Y18+AB18+AE18 -> 2.57
A19: 11 | B19: Nguyễn Văn Thắng | H19: =351.6/10000 -> 0.03516 | I19: 10 | J19: =H19*I19 -> 0.3516 | L19: 6 | M19: =K19*L19 -> 0 | O19: 10 | P19: =N19*O19 -> 0 | R19: 15 | U19: 5 | X19: 3 | Y19: =W19*X19 -> 0 | AA19: 5 | AB19: =Z19*AA19 -> 0 | AD19: 7.5 | AF19: =J19+M19+P19+S19+V19+Y19+AB19+AE19 -> 0.3516
A20: 12 | B20: Thái Hữu Biểu | H20: =830/10000 -> 0.083 | I20: 10 | J20: =H20*I20 -> 0.83 | L20: 6 | M20: =K20*L20 -> 0 | O20: 10 | P20: =N20*O20 -> 0 | R20: 15 | U20: 5 | X20: 3 | Y20: =W20*X20 -> 0 | AA20: 5 | AB20: =Z20*AA20 -> 0 | AD20: 7.5 | AF20: =J20+M20+P20+S20+V20+Y20+AB20+AE20 -> 0.83
A21: 13 | B21: Nguyễn Văn Tiến | H21: =630.8/10000 -> 0.06308 | I21: 10 | J21: =H21*I21 -> 0.6308 | L21: 6 | M21: =K21*L21 -> 0 | O21: 10 | P21: =N21*O21 -> 0 | R21: 15 | S21: =Q21*R21 -> 0 | U21: 5 | X21: 3 | Y21: =W21*X21 -> 0 | AA21: 5 | AB21: =Z21*AA21 -> 0 | AD21: 7.5 | AF21: =J21+M21+P21+S21+V21+Y21+AB21+AE21 -> 0.6308
A22: 14 | B22: Thái Hữu Biểu | H22: =833/10000 -> 0.0833 | I22: 10 | J22: =H22*I22 -> 0.833 | L22: 6 | M22: =K22*L22 -> 0 | O22: 10 | P22: =N22*O22 -> 0 | R22: 15 | U22: 5 | X22: 3 | Y22: =W22*X22 -> 0 | AA22: 5 | AB22: =Z22*AA22 -> 0 | AD22: 7.5 | AF22: =J22+M22+P22+S22+V22+Y22+AB22+AE22 -> 0.833
A23: 15 | B23: Thái Thị Lương | H23: =500/10000 -> 0.05 | I23: 10 | J23: =H23*I23 -> 0.5 | L23: 6 | M23: =K23*L23 -> 0 | O23: 10 | P23: =N23*O23 -> 0 | R23: 15 | U23: 5 | X23: 3 | Y23: =W23*X23 -> 0 | AA23: 5 | AB23: =Z23*AA23 -> 0 | AD23: 7.5 | AF23: =J23+M23+P23+S23+V23+Y23+AB23+AE23 -> 0.5
A24: 16 | B24: Nguyễn Tiến Hựu | H24: =1000/10000 -> 0.1 | I24: 10 | J24: =H24*I24 -> 1 | L24: 6 | M24: =K24*L24 -> 0 | O24: 10 | P24: =N24*O24 -> 0 | R24: 15 | U24: 5 | X24: 3 | Y24: =W24*X24 -> 0 | AA24: 5 | AB24: =Z24*AA24 -> 0 | AD24: 7.5 | AF24: =J24+M24+P24+S24+V24+Y24+AB24+AE24 -> 1
A25: 17 | B25: Nguyễn Cao Kỳ | H25: =1000/10000 -> 0.1 | I25: 10 | J25: =H25*I25 -> 1 | L25: 6 | M25: =K25*L25 -> 0 | O25: 10 | P25: =N25*O25 -> 0 | R25: 15 | U25: 5 | X25: 3 | Y25: =W25*X25 -> 0 | AA25: 5 | AB25: =Z25*AA25 -> 0 | AD25: 7.5 | AF25: =J25+M25+P25+S25+V25+Y25+AB25+AE25 -> 1
A26: 18 | B26: Hoàng Xuân Hùng | H26: =1500/10000 -> 0.15 | I26: 10 | J26: =H26*I26 -> 1.5 | L26: 6 | M26: =K26*L26 -> 0 | O26: 10 | P26: =N26*O26 -> 0 | R26: 15 | U26: 5 | X26: 3 | Y26: =W26*X26 -> 0 | AA26: 5 | AB26: =Z26*AA26 -> 0 | AD26: 7.5 | AF26: =J26+M26+P26+S26+V26+Y26+AB26+AE26 -> 1.5
A27: 19 | B27: Nguyễn Văn Lộc | H27: =3000/10000 -> 0.3 | I27: 10 | J27: =H27*I27 -> 3 | L27: 6 | M27: =K27*L27 -> 0 | O27: 10 | P27: =N27*O27 -> 0 | R27: 15 | S27: =Q27*R27 -> 0 | U27: 5 | X27: 3 | Y27: =W27*X27 -> 0 | AA27: 5 | AB27: =Z27*AA27 -> 0 | AD27: 7.5 | AF27: =J27+M27+P27+S27+V27+Y27+AB27+AE27 -> 3
A28: 20 | B28: Nguyễn Văn Duân | H28: =1546.7/10000 -> 0.15467 | I28: 10 | J28: =H28*I28 -> 1.5467 | L28: 6 | M28: =K28*L28 -> 0 | O28: 10 | P28: =N28*O28 -> 0 | R28: 15 | U28: 5 | X28: 3 | Y28: =W28*X28 -> 0 | AA28: 5 | AB28: =Z28*AA28 -> 0 | AD28: 7.5 | AF28: =J28+M28+P28+S28+V28+Y28+AB28+AE28 -> 1.5467
A29: 21 | B29: Nguyễn Văn Thìn | H29: =1500/10000 -> 0.15 | I29: 10 | J29: =H29*I29 -> 1.5 | L29: 6 | M29: =K29*L29 -> 0 | O29: 10 | P29: =N29*O29 -> 0 | R29: 15 | U29: 5 | X29: 3 | Y29: =W29*X29 -> 0 | AA29: 5 | AB29: =Z29*AA29 -> 0 | AD29: 7.5 | AF29: =J29+M29+P29+S29+V29+Y29+AB29+AE29 -> 1.5
B30: Tổng cộng: | H30: =SUM(H9:H29) -> 2.24194 | J30: =SUM(J9:J29) -> 22.4194 | M30: =SUM(M9:M29) -> 0 | P30: =SUM(P9:P29) -> 0 | Q30: =SUM(Q9:Q29) -> 0 | S30: =SUM(S9:S29) -> 0 | W30: =SUM(W9:W29) -> 0 | Y30: =SUM(Y9:Y29) -> 0 | AB30: =SUM(AB9:AB29) -> 0 | AC30: =SUM(AC9:AC29) -> 0 | AE30: =SUM(AE9:AE29) -> 0 | AF30: =SUM(AF9:AF29) -> 22.4194
H32: TỔ TRƯỞNG TỔ PHÚC TRA | Z32: TM. BAN CÁN SỰ
Z33: THÔN TRƯỞNG
H38: Trần Công An | Z38: Nguyễn Văn Minh

Sheet PL II. CAY LAM NGHIEP
A1: ỦY BAN NHÂN DÂN XÃ KỲ HOA | G1: CỘNG HÒA XÃ HỘI CHỦ NGHĨA VIỆT NAM Độc lập - Tự do - Hạnh Phúc
A2: PHỤ LỤC II: DANH SÁCH NIÊM YẾT CÔNG KHAI ĐỐI TƯỢNG HỖ TRỢ, MỨC ĐỘ THIỆT HẠI, ĐỊNH MỨC HỖ TRỢ VÀ KINH PHÍ HỖ TRỢ DỰ KIẾN ĐỐI VỚI LÂM NGHIỆP BỊ THIỆT HẠI DO BÃO SỐ 5, SỐ 10 NĂM 2025 CÁC HỘ DÂN THÔN TẤN SƠN (CŨ) ĐỢT I
A3: (Kèm theo thông báo số 181/TB-UBND ngày 30 tháng 7 năm 2026 của UBND xã Kỳ Hoa)
M4: ĐVT: Triệu đồng
A5: TT | B5: Họ và tên chủ hộ | C5: Thiệt hại trên 70% | I5: Thiệt hại từ 30% đến 70% | O5: Tổng kinh phí hỗ trợ (Triệu đồng) | P5: GHI CHÚ
C6: Diện tích cây rừng, cây lâm sản ngoài gỗ trồng trên đất lâm nghiệp mới trồng đến 1/2 chu kỳ khai thác (ha) | D6: Định mức hỗ trợ | E6: Thành tiền | F6: Diện tích cây rừng, cây lâm sản ngoài gỗ trồng trên đất lâm nghiệp trên 1/2 chu kỳ khai thác, diện tích rừng trồng gỗ lớn trên 03 năm tuổi (ha) | G6: Định mức hỗ trợ | H6: Thành tiền | I6: Diện tích cây rừng, cây lâm sản ngoài gỗ trồng trên đất lâm nghiệp mới trồng đến 1/2 chu kỳ khai thác (ha) | J6: Định mức hỗ trợ | K6: Thành tiền | L6: Diện tích cây rừng, cây lâm sản ngoài gỗ trồng trên đất lâm nghiệp trên 1/2 chu kỳ khai thác, diện tích rừng trồng gỗ lớn trên 03 năm tuổi (ha) | M6: Định mức hỗ trợ | N6: Thành tiền
A7: A | B7: B | C7: 1 | D7: 2 | E7: 3=1*2 | F7: 4 | G7: 5 | H7: 6=4*5 | I7: 7 | J7: 8 | K7: 9=7*8 | L7: 10 | M7: 11 | N7: 12=10*11 | O7: 13=3+6+9+12
A8: 1 | B8: Nguyễn Tiến Phúc | D8: 8 | E8: =C8*D8 -> 0 | F8: 5 | G8: 15 | H8: =F8*G8 -> 75 | J8: 4 | K8: =I8*J8 -> 0 | M8: 7.5 | N8: =L8*M8 -> 0 | O8: =E8+H8+K8+N8 -> 75 | P8: Đã có GCNQSD Đ
A9: 3 | B9: Trương Văn Hứng | D9: 8 | E9: =C9*D9 -> 0 | F9: 2 | G9: 15 | H9: =F9*G9 -> 30 | J9: 4 | K9: =I9*J9 -> 0 | M9: 7.5 | N9: =L9*M9 -> 0 | O9: =E9+H9+K9+N9 -> 30 | P9: Đã có GCNQSD Đ
A10: 4 | B10: Thái Hữu Tiến | D10: 8 | E10: =C10*D10 -> 0 | F10: 6.4 | G10: 15 | H10: =F10*G10 -> 96 | J10: 4 | K10: =I10*J10 -> 0 | M10: 7.5 | N10: =L10*M10 -> 0 | O10: =E10+H10+K10+N10 -> 96 | P10: Đã có GCNQSD Đ
A11: 5 | B11: Đặng Thị Thúy | C11: 2.3 | D11: 8 | E11: =C11*D11 -> 18.4 | G11: 15 | H11: =F11*G11 -> 0 | J11: 4 | K11: =I11*J11 -> 0 | M11: 7.5 | N11: =L11*M11 -> 0 | O11: =E11+H11+K11+N11 -> 18.4 | P11: Đã có GCNQSD Đ
A12: 6 | B12: Hoàng Xuân Hùng | D12: 8 | E12: =C12*D12 -> 0 | F12: 1 | G12: 15 | H12: =F12*G12 -> 15 | J12: 4 | K12: =I12*J12 -> 0 | M12: 7.5 | N12: =L12*M12 -> 0 | O12: =E12+H12+K12+N12 -> 15 | P12: Đã có GCNQSD Đ
A13: 7 | B13: Lê Đình Sáng | D13: 8 | E13: =C13*D13 -> 0 | F13: 6 | G13: 15 | H13: =F13*G13 -> 90 | J13: 4 | K13: =I13*J13 -> 0 | M13: 7.5 | N13: =L13*M13 -> 0 | O13: =E13+H13+K13+N13 -> 90 | P13: Đã có GCNQSD Đ
A14: 8 | B14: Hoàng Văn Lợi | C14: 1 | D14: 8 | E14: =C14*D14 -> 8 | G14: 15 | H14: =F14*G14 -> 0 | J14: 4 | K14: =I14*J14 -> 0 | M14: 7.5 | N14: =L14*M14 -> 0 | O14: =E14+H14+K14+N14 -> 8 | P14: Đã có GCNQSD Đ
A15: 9 | B15: Nguyễn Hồng Thắng | D15: 8 | E15: =C15*D15 -> 0 | F15: 5 | G15: 15 | H15: =F15*G15 -> 75 | J15: 4 | K15: =I15*J15 -> 0 | M15: 7.5 | N15: =L15*M15 -> 0 | O15: =E15+H15+K15+N15 -> 75 | P15: Đã có GCNQSD Đ
A16: 10 | B16: Nguyễn Thị Quế | D16: 8 | E16: =C16*D16 -> 0 | F16: 1.5 | G16: 15 | H16: =F16*G16 -> 22.5 | J16: 4 | K16: =I16*J16 -> 0 | M16: 7.5 | N16: =L16*M16 -> 0 | O16: =E16+H16+K16+N16 -> 22.5 | P16: Đã có GCNQSD Đ
A17: 11 | B17: Lê Đình Thạch | D17: 8 | E17: =C17*D17 -> 0 | F17: 17.7 | G17: 15 | H17: =F17*G17 -> 265.5 | J17: 4 | K17: =I17*J17 -> 0 | M17: 7.5 | N17: =L17*M17 -> 0 | O17: =E17+H17+K17+N17 -> 265.5 | P17: Đã có GCNQSD Đ
A18: 12 | B18: Nguyễn Văn Thanh | D18: 8 | E18: =C18*D18 -> 0 | F18: 2.4 | G18: 15 | H18: =F18*G18 -> 36 | J18: 4 | K18: =I18*J18 -> 0 | M18: 7.5 | N18: =L18*M18 -> 0 | O18: =E18+H18+K18+N18 -> 36 | P18: Đã có GCNQSD Đ
A19: 13 | B19: Nguyễn Văn Tiến | C19: 4.45 | D19: 8 | E19: =C19*D19 -> 35.6 | G19: 15 | H19: =F19*G19 -> 0 | J19: 4 | K19: =I19*J19 -> 0 | M19: 7.5 | N19: =L19*M19 -> 0 | O19: =E19+H19+K19+N19 -> 35.6 | P19: Đã có GCNQSD Đ
A20: 14 | B20: Nguyễn Văn Huê | D20: 8 | E20: =C20*D20 -> 0 | F20: 3 | G20: 15 | H20: =F20*G20 -> 45 | J20: 4 | K20: =I20*J20 -> 0 | M20: 7.5 | N20: =L20*M20 -> 0 | O20: =E20+H20+K20+N20 -> 45 | P20: Đã có GCNQSD Đ
A21: 15 | B21: Nguyễ Quốc Việt | C21: 1.6 | D21: 8 | E21: =C21*D21 -> 12.8 | F21: 4 | G21: 15 | H21: =F21*G21 -> 60 | J21: 4 | K21: =I21*J21 -> 0 | M21: 7.5 | N21: =L21*M21 -> 0 | O21: =E21+H21+K21+N21 -> 72.8 | P21: Đã có GCNQSD Đ
A22: 16 | B22: Lê Thị Hoa | D22: 8 | E22: =C22*D22 -> 0 | F22: 1.3 | G22: 15 | H22: =F22*G22 -> 19.5 | J22: 4 | K22: =I22*J22 -> 0 | M22: 7.5 | N22: =L22*M22 -> 0 | O22: =E22+H22+K22+N22 -> 19.5 | P22: Đã có GCNQSD Đ
A23: 17 | B23: Phan Thị Hoa | D23: 8 | E23: =C23*D23 -> 0 | F23: 7.3 | G23: 15 | H23: =F23*G23 -> 109.5 | J23: 4 | K23: =I23*J23 -> 0 | M23: 7.5 | N23: =L23*M23 -> 0 | O23: =E23+H23+K23+N23 -> 109.5 | P23: Đã có GCNQSD Đ
A24: 18 | B24: Thái Xuân Danh | D24: 8 | E24: =C24*D24 -> 0 | F24: 1.3 | G24: 15 | H24: =F24*G24 -> 19.5 | J24: 4 | K24: =I24*J24 -> 0 | M24: 7.5 | N24: =L24*M24 -> 0 | O24: =E24+H24+K24+N24 -> 19.5 | P24: Đã có GCNQSD Đ
A25: 19 | B25: Nguyễn Văn Thìn | D25: 8 | E25: =C25*D25 -> 0 | F25: 1.12 | G25: 15 | H25: =F25*G25 -> 16.8 | J25: 4 | K25: =I25*J25 -> 0 | M25: 7.5 | N25: =L25*M25 -> 0 | O25: =E25+H25+K25+N25 -> 16.8 | P25: Đã có GCNQSD Đ
A26: 20 | B26: Nguyễn Văn Việt | D26: 8 | E26: =C26*D26 -> 0 | F26: 2.7 | G26: 15 | H26: =F26*G26 -> 40.5 | J26: 4 | K26: =I26*J26 -> 0 | M26: 7.5 | N26: =L26*M26 -> 0 | O26: =E26+H26+K26+N26 -> 40.5 | P26: Đã có GCNQSD Đ
A27: 21 | B27: Nguyễn Đức Thắng | C27: 0.9 | D27: 8 | E27: =C27*D27 -> 7.2 | G27: 15 | H27: =F27*G27 -> 0 | J27: 4 | K27: =I27*J27 -> 0 | M27: 7.5 | N27: =L27*M27 -> 0 | O27: =E27+H27+K27+N27 -> 7.2 | P27: Đã có GCNQSD Đ
A28: 22 | B28: Nguyễn Đức Cửu | D28: 8 | E28: =C28*D28 -> 0 | F28: 1.1 | G28: 15 | H28: =F28*G28 -> 16.5 | J28: 4 | K28: =I28*J28 -> 0 | M28: 7.5 | N28: =L28*M28 -> 0 | O28: =E28+H28+K28+N28 -> 16.5 | P28: Đã có GCNQSD Đ
A29: 23 | B29: Nguyễn Văn Lộc | D29: 8 | E29: =C29*D29 -> 0 | F29: 13.3 | G29: 15 | H29: =F29*G29 -> 199.5 | J29: 4 | K29: =I29*J29 -> 0 | M29: 7.5 | N29: =L29*M29 -> 0 | O29: =E29+H29+K29+N29 -> 199.5 | P29: Đã có GCNQSD Đ
A30: 24 | B30: Đào Văn Bình | D30: 8 | E30: =C30*D30 -> 0 | F30: 0.86 | G30: 15 | H30: =F30*G30 -> 12.9 | J30: 4 | K30: =I30*J30 -> 0 | M30: 7.5 | N30: =L30*M30 -> 0 | O30: =E30+H30+K30+N30 -> 12.9 | P30: Đã có GCNQSD Đ
A31: 25 | B31: Nguyễn Văn Duân | C31: 3 | D31: 8 | E31: =C31*D31 -> 24 | G31: 15 | H31: =F31*G31 -> 0 | J31: 4 | K31: =I31*J31 -> 0 | M31: 7.5 | N31: =L31*M31 -> 0 | O31: =E31+H31+K31+N31 -> 24 | P31: Đã có GCNQSD Đ
A32: 26 | B32: Lể Văn Cử | D32: 8 | E32: =C32*D32 -> 0 | F32: 0.67 | G32: 15 | H32: =F32*G32 -> 10.05 | J32: 4 | K32: =I32*J32 -> 0 | M32: 7.5 | N32: =L32*M32 -> 0 | O32: =E32+H32+K32+N32 -> 10.05 | P32: Đã có GCNQSD Đ
A33: 27 | B33: Nguyễn Văn Ngụ | C33: 8.8 | D33: 8 | E33: =C33*D33 -> 70.4 | G33: 15 | H33: =F33*G33 -> 0 | J33: 4 | K33: =I33*J33 -> 0 | M33: 7.5 | N33: =L33*M33 -> 0 | O33: =E33+H33+K33+N33 -> 70.4 | P33: Đã có GCNQSD Đ
A34: 28 | B34: Nguyễn Tiến Phúc | D34: 8 | E34: =C34*D34 -> 0 | F34: 1.68 | G34: 15 | H34: =F34*G34 -> 25.2 | J34: 4 | K34: =I34*J34 -> 0 | M34: 7.5 | N34: =L34*M34 -> 0 | O34: =E34+H34+K34+N34 -> 25.2 | P34: Đã có GCNQSD Đ
A35: 29 | B35: Nguyễn Khánh Dư | C35: 2.54 | D35: 8 | E35: =C35*D35 -> 20.32 | F35: 1.1 | G35: 15 | H35: =F35*G35 -> 16.5 | J35: 4 | K35: =I35*J35 -> 0 | M35: 7.5 | N35: =L35*M35 -> 0 | O35: =E35+H35+K35+N35 -> 36.82 | P35: Đã có GCNQSD Đ
A36: 30 | B36: Nguyễn Văn Đoài | C36: 1 | D36: 8 | E36: =C36*D36 -> 8 | G36: 15 | H36: =F36*G36 -> 0 | J36: 4 | K36: =I36*J36 -> 0 | M36: 7.5 | N36: =L36*M36 -> 0 | O36: =E36+H36+K36+N36 -> 8 | P36: Đã có GCNQSD Đ
A37: 31 | B37: Phan Văn Xuân | C37: 1 | D37: 8 | E37: =C37*D37 -> 8 | G37: 15 | H37: =F37*G37 -> 0 | J37: 4 | K37: =I37*J37 -> 0 | L37: Trích đo | M37: 7.5 | N37: 0
A38: 32 | B38: Hoàng Đức Thắng | D38: 8 | E38: =C38*D38 -> 0 | F38: 1.81 | G38: 15 | H38: =F38*G38 -> 27.15 | J38: 4 | K38: =I38*J38 -> 0 | M38: 7.5 | N38: =L38*M38 -> 0 | O38: =E38+H38+K38+N38 -> 27.15 | P38: Đã có GCNQSD Đ
B39: Hoàng Đức Thắng | D39: 8 | E39: =C39*D39 -> 0 | F39: 1.78 | G39: 15 | H39: =F39*G39 -> 26.7 | J39: 4 | K39: =I39*J39 -> 0 | L39: Trích đo | M39: 7.5 | N39: 0
A40: 33 | B40: Phan Văn Thỏa | C40: 1.42 | D40: 8 | E40: =C40*D40 -> 11.36 | G40: 15 | H40: =F40*G40 -> 0 | J40: 4 | K40: =I40*J40 -> 0 | M40: 7.5 | N40: =L40*M40 -> 0 | O40: =E40+H40+K40+N40 -> 11.36 | P40: Đã có GCNQSD Đ
A41: 34 | B41: Nguyễn Đình Bảo | C41: 1 | D41: 8 | E41: =C41*D41 -> 8 | G41: 15 | H41: =F41*G41 -> 0 | J41: 4 | K41: =I41*J41 -> 0 | M41: 7.5 | N41: =L41*M41 -> 0 | O41: =E41+H41+K41+N41 -> 8 | P41: Đã có GCNQSD Đ
A42: 35 | B42: Nguyễn Anh Ngọc | C42: 3 | D42: 8 | E42: =C42*D42 -> 24 | G42: 15 | H42: =F42*G42 -> 0 | J42: 4 | K42: =I42*J42 -> 0 | M42: 7.5 | N42: =L42*M42 -> 0 | O42: =E42+H42+K42+N42 -> 24 | P42: Đã có GCNQSD Đ
A43: 36 | B43: Nguyễn Văn Bốn | C43: 0.75 | D43: 8 | E43: =C43*D43 -> 6 | G43: 15 | H43: =F43*G43 -> 0 | J43: 4 | K43: =I43*J43 -> 0 | M43: 7.5 | N43: =L43*M43 -> 0 | O43: =E43+H43+K43+N43 -> 6 | P43: Đã có GCNQSD Đ
A44: 37 | B44: Lê Hữu Toàn | D44: 8 | E44: =C44*D44 -> 0 | G44: 15 | H44: =F44*G44 -> 0 | I44: 7.8 | J44: 4 | K44: =I44*J44 -> 31.2 | M44: 7.5 | N44: =L44*M44 -> 0 | O44: =E44+H44+K44+N44 -> 31.2 | P44: Đã có GCNQSD Đ
A45: 38 | B45: Nguyễn Tiến Cường | D45: 8 | E45: =C45*D45 -> 0 | G45: 15 | H45: =F45*G45 -> 0 | J45: 4 | K45: =I45*J45 -> 0 | L45: s | M45: 7.5 | N45: 0 | O45: =E45+H45+K45+N45 -> 0 | P45: Đã có GCNQSD Đ
A46: 39 | B46: Hoàng Thị Mai | C46: 15 | D46: 8 | E46: =C46*D46 -> 120 | G46: 15 | H46: =F46*G46 -> 0 | J46: 4 | K46: =I46*J46 -> 0 | L46: Trích đo | N46: 0
A47: 40 | B47: Nguyễn Văn Cảnh | C47: 1 | D47: 8 | E47: =C47*D47 -> 8 | G47: 15 | H47: =F47*G47 -> 0 | J47: 4 | K47: 0 | M47: 7.5 | N47: 0 | O47: =E47+H47+K47+N47 -> 8 | P47: Đã có GCNQSD Đ
B48: Tổng | C48: =SUM(C8:C46) -> 47.76 | D48: =SUM(D8:D46) -> 312 | E48: =SUM(E8:E47) -> 390.08 | F48: =SUM(F8:F46) -> 90.02 | G48: =SUM(G8:G46) -> 585 | H48: =SUM(H8:H46) -> 1350.3 | I48: =SUM(I8:I46) -> 7.8 | J48: =SUM(J8:J46) -> 156 | K48: =SUM(K8:K46) -> 31.2 | L48: =SUM(L8:L46) -> 0 | M48: =SUM(M8:M46) -> 285 | ... O48: =SUM(O8:O46) -> 1608.88
B49: TỔ TRƯỞNG TỔ PHÚC TRA | L49: TM. BAN CÁN SỰ
L50: THÔN TRƯỞNG
B55: Trần Công An | L55: Nguyễn Văn Minh

Sheet TH cay trong
A1: T T | B1: Địa phương (tỉnh, huyện, xã) | C1: Tổng giá trị thiệt hại | D1: Thiệt hại trên 70% diện tích | O1: Thiệt hại từ 30% đến 70% diện tích | Z1: Kinh phí hỗ trợ | AC1: Số QĐ hỗ trợ
D2: Diện tích lúa | G2: Diện tích mạ | H2: Cây hàng năm khác (ha) | K2: Cây trồng lâu năm | O2: Diện tích lúa | R2: Diện tích mạ | S2: Cây hàng năm khác | V2: Cây trồng lâu năm | Z2: Tổng NSNN hỗ trợ | AA2: NSTW | AB2: NSĐP đảm bảo
D3: Sau gieo trồng từ 01 đến 10 ngày | E3: Sau gieo trồng từ 10 đến 45 ngày | F3: Sau gieo trồng trên 45 ngày | H3: Giai đoạn cây con (gieo trồng đến 1/3 thời gian sinh trưởng) | I3: Giai đoạn cây đang phát triển (trên 1/3 đến 2/3 thời gian sinh trưởng) | J3: Giai đoạn cận thu hoạch (trên 2/3 thời gian sinh trưởng) | K3: Vườn cây ở thời kỳ kiến thiết cơ bản | L3: Vườn cây ở thời kỳ kinh doanh thiệt hại đến năng suất thu hoạch nhưng cây không chết | M3: Vườn cây ở thời kỳ kinh doanh thiệt hại làm chết cây hoặc đánh giá là cây không còn khả năng phục hồi trở lại trạng thái bình thường; vườn cây đầu dòng ở giai đoạn được khai thác vật liệu nhân giống | N3: Cây giống trong giai đoạn vườn ươm được nhân giống từ nguồn vật liệu khai thác từ cây đầu dòng; vườn cây đầu dòng | O3: Sau gieo trồng từ 01 đến 10 ngày | P3: Sau gieo trồng từ 10 đến 45 ngày | Q3: Sau gieo trồng trên 45 ngày | S3: Giai đoạn cây con (gieo trồng đến 1/3 thời gian sinh trưởng) | T3: Giai đoạn cây đang phát triển (trên 1/3 đến 2/3 thời gian sinh trưởng) | U3: Giai đoạn cận thu hoạch (trên 2/3 thời gian sinh trưởng) | V3: Vườn cây ở thời kỳ kiến thiết cơ bản | W3: Vườn cây ở thời kỳ kinh doanh thiệt hại đến năng suất thu hoạch nhưng cây không chết | X3: Vườn cây ở thời kỳ kinh doanh thiệt hại làm chết cây hoặc đánh giá là cây không còn khả năng phục hồi trở lại trạng thái bình thường; vườn cây đầu dòng ở giai đoạn được khai thác vật liệu nhân giống | Y3: Cây giống trong giai đoạn vườn ươm được nhân giống từ nguồn vật liệu khai thác từ cây đầu dòng; vườn cây đầu dòng
C4: tr.đồng | D4: (ha) | E4: (ha) | F4: (ha) | G4: (ha) | H4: (ha) | I4: (ha) | J4: (ha) | K4: (ha) | L4: (ha) | M4: (ha) | N4: (ha) | O4: (ha) | P4: (ha) | Q4: (ha) | R4: (ha) | S4: (ha) | T4: (ha) | U4: (ha) | V4: (ha) | W4: (ha) | X4: (ha) | Y4: (ha) | Z4: tr.đồng | AA4: tr.đồng | AB4: tr.đồng
A5: 1 | B5: Hoa Đông | C5: =I5*70*0.8+T5*70*0.5 -> 91 | I5: =HOAĐÔNG!J99/10000 -> 1.3 | L5: =HOAĐÔNG!N99/10000 -> 2.887 | T5: =HOAĐÔNG!K99/10000 -> 0.52 | W5: =HOAĐÔNG!O99/10000 -> 0.01
A6: 2 | B6: Hoa Trung | C6: =I6*70*0.8+T6*70*0.5 -> 89.95 | I6: ='HOA TRUNG'!J131/10000 -> 0.65 | L6: ='HOA TRUNG'!N131/10000 -> 0.24 | T6: ='HOA TRUNG'!K131/10000 -> 1.53 | W6: ='HOA TRUNG'!O131/10000 -> 0.83
A7: 3 | B7: Hoa Tân | C7: =I7*70*0.8+T7*70*0.5 -> 40.0575 | I7: ='HOA TÂN'!J198/10000 -> 0.6925 | L7: ='HOA TÂN'!N198/10000 -> 0.9874 | T7: ='HOA TÂN'!K198/10000 -> 0.0365 | W7: ='HOA TÂN'!O198/10000 -> 0.0352
A8: 4 | B8: Hoa Thắng | C8: =I8*70*0.8+T8*70*0.5 -> 191.59 | I8: ='Hoa Thang'!J197/10000 -> 3.355 | L8: ='Hoa Thang'!N197/10000 -> 1.866 | T8: ='Hoa Thang'!K197/10000 -> 0.106 | W8: ='Hoa Thang'!O197/10000 -> 1.28
A9: 5 | B9: Hoa Tiến | C9: =I9*70*0.8+T9*70*0.5 -> 22.4 | I9: ='HOA TIẾN'!J115/10000 -> 0.4 | L9: ='HOA TIẾN'!N115/10000 -> 1.905 | T9: ='HOA TIẾN'!K115/10000 -> 0 | W9: ='HOA TIẾN'!O115/10000 -> 0.15
A10: 6 | B10: Hoa Sơn | C10: =I10*70*0.8+T10*70*0.5 -> 73.08 | I10: ='HOA SƠN'!J78/10000 -> 1.305 | L10: ='HOA SƠN'!N78/10000 -> 2.345 | T10: ='HOA SƠN'!K78/10000 -> 0 | W10: ='HOA SƠN'!O78 -> 0
A11: 7 | B11: Xuân Thọ | C11: =I11*70*0.8+T11*70*0.5 -> 9.968 | I11: ='XUÂN THỌ'!J36/10000 -> 0.178 | L11: ='XUÂN THỌ'!N36/10000 -> 0.03 | W11: ='XUÂN THỌ'!O36/10000 -> 0.03
A12: 8 | B12: Tấn Sơn | C12: =I12*70*0.8+T12*70*0.5 -> 38.864 | I12: ='TẤN SƠN'!J116/10000 -> 0.694 | L12: ='TẤN SƠN'!N116/10000 -> 3.5648 | W12: ='TẤN SƠN'!O116 -> 0
A13: 9 | B13: Đông Văn | C13: =I13*70*0.8+T13*70*0.5 -> 17.71 | I13: ='ĐÔNG VĂN'!J118/10000 -> 0.31 | L13: ='ĐÔNG VĂN'!N118/10000 -> 1.537 | T13: ='ĐÔNG VĂN'!K118/10000 -> 0.01 | W13: ='ĐÔNG VĂN'!O118 -> 0
A14: 10 | B14: Tân Thắng | C14: =I14*70*0.8+T14*70*0.5 -> 0 | I14: ='TÂN THẮNG'!J64 -> 0 | L14: ='TÂN THẮNG'!N64/10000 -> 0.01
A15: 11 | B15: Xuân Dục | C15: =I15*70*0.8+T15*70*0.5 -> 36.092 | I15: ='XUÂN DỤC'!J66/10000 -> 0.6445 | L15: ='XUÂN DỤC'!N66/10000 -> 0.281
A16: 12 | B16: Trung Đức | C16: =I16*70*0.8+T16*70*0.5 -> 86.744 | I16: ='TRUNG ĐỨC'!J193/10000 -> 1.549 | L16: ='TRUNG ĐỨC'!N193/10000 -> 2.499 | W16: ='TRUNG ĐỨC'!O193/10000 -> 0.0024
A17: 13 | B17: Trường Lạc | C17: =I17*70*0.8+T17*70*0.5 -> 173.6 | I17: ='TRƯỜNG LẠC'!J74/10000 -> 3.1 | L17: ='TRƯỜNG LẠC'!N74/10000 -> 1.385
A18: 14 | B18: Trung Thượng | C18: =I18*70*0.8+T18*70*0.5 -> 163.24 | I18: ='TRUNG THƯỢNG'!J158/10000 -> 2.915 | L18: ='TRUNG THƯỢNG'!N158/10000 -> 2.5106
B19: Tổng: | C19: =SUM(C5:C18) -> 1034.2955 | I19: =SUM(I5:I18) -> 17.093 | J19: =SUM(J5:J18) -> 0 | K19: =SUM(K5:K18) -> 0 | L19: =SUM(L5:L18) -> 22.0478 | M19: =SUM(M5:M18) -> 0 | N19: =SUM(N5:N18) -> 0 | O19: =SUM(O5:O18) -> 0 | P19: =SUM(P5:P18) -> 0 | ... AC19: =SUM(AC5:AC18) -> 0

Sheet HOAĐÔNG
A1: THÔN HOA ĐÔNG
A2: BIỂU II: DANH SÁCH THIỆT HẠI VỀ CÂY TRỒNG DO BÃO SỐ 10
A3: TT | B3: Tên chủ hộ | C3: Thiệt hại nhà ở | E3: Công trình phụ trợ | G3: Thiệt hại cây lâm nghiệp | I3: Thiệt hại cây hằng năm (dưa hấu, vừng, khoai, ……) | M3: Thiệt hại cây lâu năm (các loại cây ăn quả)
C4: Loại nhà (kiên cố, bán kiên cố, đơn sơ) | D4: Mức độ thiệt hại (%) | E4: Loại công trình | F4: Mức độ thiệt hại (%) | G4: Diện tích (ha) | H4: Thời gian trồng (tháng) | I4: Diện tích (m2) | J4: Mức độ thiệt hại | L4: Thời gian trồng (ngày) | M4: Diện tích (m2) | N4: Mức độ thiệt hại | P4: Thời gian trồng (tháng)
J5: Thiệt hại trên 70% | K5: Thiệt hại từ 30- 70% | N5: Thiệt hại trên 70% | O5: Thiệt hại từ 30- 70%
A6: 1 | B6: Nguyễn Văn Huấn | C6: Bán kiên cố | D6: 20 | E6: Chuồng bò | F6: 40
A7: 2 | B7: Lê Thị Anh | G7: 1 | H7: 24 | I7: 500 | J7: 500 | L7: 30
A8: 3 | B8: Trương Quý Như | E8: Rạp xưởng | F8: 40 | G8: 1 | H8: 48
A9: 4 | B9: Phạm Thị Nhung | G9: 3 | H9: 42
A10: 5 | B10: Đào Hải Nam | G10: 5 | H10: 48
A11: 6 | B11: Nguyễn Văn Sơn | G11: 0.4 | H11: 48
A12: 7 | B12: Phạm Thành Chung | C12: Bán kiên cố | F12: 40
A13: 8 | B13: Trương Công Vũ | E13: Rạp nắng | F13: 50
A14: 9 | B14: Nguyễn Tiến Hùng | G14: 1 | H14: 12 | R14: =120.43+5.66 -> 126.09
A15: 10 | B15: Thái Văn Đàn | E15: Rạp nắng | F15: 70
A16: 11 | B16: Đặng Xuân Thiên | E16: Bồ nước | F16: 80 | G16: 0.2 | H16: 24 | I16: 1500 | J16: 1500 | L16: 30 | M16: 100 | N16: 100
A17: 12 | B17: Lê Thị Huyền Trang | E17: Trang trại | F17: 100
A18: 13 | B18: Cao Thị Hạnh | C18: Bán kiên cố | D18: 30 | I18: 1000 | J18: 1000 | L18: 30 | M18: 100 | N18: 100
A19: 14 | B19: Nguyễn Tiến Lãnh | G19: 2 | H19: 36 | I19: 1000 | J19: 1000 | L19: 30 | M19: 1000 | N19: 1000
A20: 15 | B20: Nguyễn Quốc Hội | E20: Rạp nắng | F20: 50
A21: 16 | B21: Nguyễn Tiến Bằng | G21: 3 | H21: 36
A22: 17 | B22: Nguyễn Tiến Thược | G22: 4.5 | H22: 48
A23: 18 | B23: Nguyễn Tiến Mạnh | C23: Kiên cố | D23: 30
A24: 19 | B24: Nguyễn Tiến Khoá | C24: Bán kiên cố | D24: 30 | E24: Rạp nắng | F24: 30
A25: 20 | B25: Nguyễn Thị Hằng | C25: Bán kiên cố | D25: 20
A26: 21 | B26: Thiều Quang Minh | G26: 1 | H26: 36
A27: 22 | B27: Thiều Quang Đường | G27: 4 | H27: 36
A28: 23 | B28: Thiều Hải Dương | C28: Bán kiên cố | D28: 20 | G28: 5 | H28: 36
A29: 24 | B29: Nguyễn Thị Hồng Chinh | I29: 2700 | K29: 2700 | L29: 45 | M29: 100 | N29: 100
A30: 25 | B30: Nguyễn Tiến Lượng | E30: Chuồng bò | F30: 50 | G30: 0.1 | H30: 72 | I30: 500 | J30: 500 | L30: 30
A31: 26 | B31: Lê Quang Anh | G31: 0.1 | H31: 12 | I31: 3500 | J31: 3500 | L31: 60
A32: 27 | B32: Đào Quốc Hoan | G32: 3 | H32: 144
A33: 28 | B33: Đào Quốc Hoan | G33: 1 | H33: 6
A34: 29 | B34: Nguyễn Văn Huận | G34: 1 | H34: 36 | I34: 2500 | J34: 2500 | L34: 60 | M34: 150 | N34: 150
A35: 30 | B35: Thiều Quang Hường | C35: Bán kiên cố | D35: 35 | E35: Rạp nắng | F35: 15
A36: 31 | B36: Đặng Thị Hồng Văn | C36: Bán kiên cố | D36: 10 | E36: Rạp nắng | F36: 50 | G36: 0.15 | H36: 60
A37: 32 | B37: Doãn Kế Ngại | E37: Công Trình phụ | F37: 85 | G37: 4 | H37: 60
A38: 33 | B38: Doãn Thế Hiếu | G38: 4 | H38: 24
A39: 34 | B39: Doãn Thị Thảo | E39: Rạp nắng, công trình phụ | F39: 80
A40: 35 | B40: Doãn Kế Hùng | E40: Rạp nắng | F40: 70 | G40: 1 | H40: 36
A41: 36 | B41: Thiều Tuấn Anh | C41: Bán kiên cố | D41: 10 | G41: 3 | H41: 36
A42: 37 | B42: Phạm Thị Bình | E42: Rạp nắng | F42: 50 | G42: 4 | H42: 60
A43: 38 | B43: Nguyễn Văn Phương | G43: 0.5 | H43: 24
A44: 39 | B44: Nguyễn Thị Vị | C44: Bán kiên cố | D44: 20 | E44: Rạp nắng | F44: 40 | G44: 0.25 | H44: 36
A45: 40 | B45: Phan Thị Thái | E45: Công trình phụ | F45: 50
A46: 41 | B46: Phạm Hữu Lộc | E46: Rạp nắng | F46: 60
A47: 42 | B47: Phạm Thị Thanh | C47: Bán kiên cố | D47: 10 | E47: Xưởng | F47: 100 | G47: 2 | H47: 24
A48: 43 | B48: Thiều Quang Dũng | C48: Bán kiên cố | D48: 30 | E48: Công trình phụ | F48: 50 | G48: 1.3 | H48: 24
A49: 44 | B49: Nguyễn Thị Oanh | E49: Công trình phụ | F49: 30 | G49: 5 | H49: 60 | M49: 1000 | N49: 1000 | P49: 48
A50: 45 | B50: Trần Văn Trinh | G50: 3 | H50: 40
A51: 46 | B51: Thiều Thị Minh | C51: Bán kiên cố | D51: 70 | G51: 1 | H51: 36
A52: 47 | B52: Lê Văn Tắng | G52: 1 | H52: 36
A53: 48 | B53: Nguyễn Tuấn Anh | E53: Quán | F53: 70
A54: 49 | B54: Võ Xuân Mừng | E54: Rạp nắng | F54: 40 | G54: 4 | H54: 30
A55: 50 | B55: Nguyễn Tiến Sáng | C55: Kiên có | D55: 2 | G55: 5 | H55: 60
A56: 51 | B56: Hồ Xuân Quảng | M56: 100 | O56: 100 | P56: 36
A57: 52 | B57: Đào Thị Dung | G57: 20 | H57: 36
A58: 53 | B58: Nguyễn Thị Châu | E58: Công trình phụ | F58: 50 | G58: 2 | H58: 24
A59: 54 | B59: Đặng Thị Huế | G59: 4 | H59: 24
A60: 55 | B60: Nguyễn Văn Thanh | C60: Bán kiên cố | D60: 30 | M60: 800 | N60: 800 | P60: 96
A61: 56 | B61: Võ Thị Văn | M61: 700 | N61: 700 | P61: 180
A62: 57 | B62: Lê Văn Bình | G62: 2 | H62: 24 | M62: 500 | N62: 500 | P62: 240
A63: 58 | B63: Lê Văn Hoà | E63: Rạp nắng | F63: 70 | G63: 2 | H63: 36 | M63: 10000 | N63: 10000 | P63: 120
A64: 59 | B64: Lê Quốc Trị | E64: Rạp nắng | F64: 100 | G64: 6 | H64: 30
A65: 60 | B65: Nguyễn Văn Thân | E65: Rạp nắng | F65: 70 | G65: 3 | H65: 36
A66: 61 | B66: Hoàng Văn Lai | G66: 3 | H66: 36 | M66: 1000 | N66: 1000 | P66: 180
A67: 62 | B67: Lê Văn Long | E67: Rạp nắng | F67: 70 | G67: 1 | H67: 24 | M67: 500 | N67: 500 | P67: 180
A68: 63 | B68: Nguyễn Thị Mỹ | C68: Bán kiên cố | D68: 50 | G68: 2 | H68: 24 | M68: 1000 | N68: 1000 | P68: 240
A69: 64 | B69: Nguyễn Văn Dũng | E69: Công trình phụ | F69: 70 | G69: 1 | H69: 36
A70: 65 | B70: Đặng Văn Học | E70: rạp nắng | F70: 70 | G70: 0.15 | H70: 36 | M70: 500 | N70: 500 | P70: 48
A71: 66 | B71: Hà Thị Đoài | E71: rạp nắng | F71: 70
A72: 67 | B72: Đặng Minh Hoạt | G72: 1 | H72: 36 | M72: 100 | N72: 100 | P72: 48
A73: 68 | B73: Nguyễn Tiến Hạnh | E73: rạp nắng | F73: 70 | G73: 1 | H73: 36 | M73: 120 | N73: 120 | P73: 48
A74: 69 | B74: Thiều Thị Sáu | E74: công trình phụ | F74: 80 | G74: 2 | H74: 24 | I74: 1000 | J74: 1000 | L74: 60 | M74: 700 | N74: 700 | P74: 180
A75: 70 | B75: Nhà Văn hoá thôn | C75: Hội trường | D75: 50 | E75: Hàng rào | F75: 20m
A76: 71 | B76: Nhâm Văn Công | C76: Bán kiên cố | D76: 20 | G76: 2 | H76: 36
A77: 72 | B77: Nguyễn Tiến Dũng | E77: Rạp nắng | F77: 80
A78: 73 | B78: Hoàng Minh Tâm | G78: 0.5 | H78: 24
A79: 74 | B79: Lê Như Hường | E79: Rạp nắng | F79: 50 | G79: 10 | H79: 36 | M79: 500 | N79: 500 | P79: 60
A80: 75 | B80: Lê Thị Hợi | G80: 1 | H80: 24 | I80: 1500 | J80: 1500 | L80: 30
A81: 76 | B81: Nguyễn Văn Tuấn | E81: Kính cường lực | F81: 100
A82: 77 | B82: Phan Thị Văn | C82: Bán kiên cố | D82: 30 | E82: Rạp nắng | F82: 10 | I82: 1000 | K82: 1000 | L82: 30
A83: 78 | B83: Lê Văn Hỡi | C83: Kiên cố | D83: 20 | E83: Công trình phụ | F83: 30 | I83: 1500 | K83: 1500 | L83: 60
A84: 79 | B84: Nguyễn Minh Tuấn | E84: Rạp nắn g | F84: 30
A85: 80 | B85: Nguyễn Tiến Việt | G85: 7 | H85: 36 | M85: 9000 | N85: 9000 | P85: 192
A86: 81 | B86: Nguyễn Thị Thơ | G86: 1 | H86: 24
A87: 82 | B87: Nguyễn Thị Bích Hân | G87: 1.5 | H87: 24
A88: 83 | B88: Nguyễn Văn Hồng | G88: 1.1 | H88: 60 | M88: 500 | N88: 500 | P88: 156
A89: 84 | B89: Nguyễn Đức Toàn | E89: Rạp nắng | F89: 10 | G89: 1 | H89: 48
A90: 85 | B90: Lê Quốc Việt | G90: 5 | H90: 42
A91: 86 | B91: Nguyễn Tiến Biềng | G91: 0.9 | H91: 42
A92: 87 | B92: Nguyễn Thị Lệ Thủy | G92: 1.5 | H92: 48
A93: 88 | B93: Nguyễn Tiến Nam | G93: 3 | H93: 24
A94: 89 | B94: Nguyễn Văn Mạnh | G94: 2 | H94: 60
A95: 90 | B95: Cao Xuân Nghĩa | E95: Tốc mái ốt, xưởng cưa | F95: 100
A96: 91 | B96: Thiều Quang Thịnh | G96: 1.5 | H96: 24
A97: 92 | B97: Đào Anh Dũng | C97: Tốc mái | D97: 30 | E97: Rạp nắng | F97: 100 | G97: 0.1 | H97: 36
A98: 93 | B98: Hoàng Văn Kiệm | E98: Chuồng trại tốc mái | F98: 100 | G98: 1.5 | H98: 36 | M98: 500 | N98: 500 | P98: 156
B99: Tổng | G99: =SUM(G6:G98) -> 166.25 | H99: =SUM(H6:H98) -> 2476 | I99: =SUM(I6:I98) -> 18200 | J99: =SUM(J6:J98) -> 13000 | K99: =SUM(K6:K98) -> 5200 | L99: =SUM(L6:L98) -> 495 | M99: =SUM(M6:M98) -> 28970 | N99: =SUM(N6:N98) -> 28870 | ... P99: =SUM(P6:P98) -> 2208
J100: Ngày tháng 10 năm 2025
...

Sheet HOA TRUNG
A1: THÔN HOA TRUNG
A2: BIỂU II: DANH SÁCH THIỆT HẠI VỀ CÂY TRỒNG DO BÃO SỐ 10
A3: TT | B3: Tên chủ hộ | C3: Thiệt hại nhà ở | E3: Công trình phụ trợ | G3: Thiệt hại cây lâm nghiệp | I3: Thiệt hại cây hằng năm (dưa hấu, vừng, khoai, ……) | M3: Thiệt hại cây lâu năm (các loại cây ăn quả)
C4: Loại nhà (kiên cố, bán kiên cố, đơn sơ) | D4: Mức độ thiệt hại (%) | E4: Loại công trình | F4: Mức độ thiệt hại (%) | G4: Diện tích (ha) | H4: Thời gian trồng (tháng) | I4: Diện tích (m2) | J4: Mức độ thiệt hại | L4: Thời gian trồng (ngày) | M4: Diện tích (m2) | N4: Mức độ thiệt hại | P4: Thời gian trồng (tháng)
J5: Thiệt hại trên 70% | K5: Thiệt hại từ 30- 70% | N5: Thiệt hại trên 70% | O5: Thiệt hại từ 30- 70%
A6: 1 | B6: Phạm Tiến Lực | G6: 2 | H6: 36
A7: 2 | B7: Nguyễn Văn Thành | C7: Nhà cấp 4 | D7: 0.7 | E7: rạp, vệ sinh | F7: 1 | G7: 1 | H7: 24
A8: 3 | B8: Phạm Hữu Cương | G8: 2 | H8: 36
A9: 4 | B9: Lê Ngọc Tân | G9: 1 | H9: 24
A10: 5 | B10: Nguyễn Thị Thanh Huệ | G10: 1 | H10: =7*12 -> 84
A11: 6 | B11: Thái Hữu Tình | G11: 2 | H11: 24 | M11: 500 | O11: 500 | P11: 60 tháng
A12: 7 | B12: Hoàng Thị Tuyết | E12: rạp, bếp | F12: 0.5 | I12: 400 | K12: 400 | L12: 50 ngày | M12: 500 | O12: 500 | P12: 48 tháng
A13: 8 | B13: Phạm Thị Tuyên | G13: 0.5 | H13: 24
A14: 9 | B14: Hoàng Trí Tuệ | G14: 1.5 | H14: 24 | I14: 1000 | J14: 1000 | L14: 45 ngày | M14: 1000 | O14: 1000 | P14: 60 tháng
A15: 10 | B15: Đào Văn Đoàn | G15: 2 | H15: 30
A16: 11 | B16: Hà Quốc Thịnh | G16: 1 | H16: 30
A17: 12 | B17: Nguyễn Văn Điền | E17: chuồng bò | F17: 1
A18: 13 | B18: Thái Văn Dương | E18: rạp pụ trợ | F18: 0.5
A19: 14 | B19: Lê Văn Lương | G19: 2 | H19: 36
A20: 15 | B20: Nguyễn Đức Bảo | G20: 1 | H20: 30
A21: 16 | B21: Phạm Văn Dũng | G21: 3 | H21: 36
A22: 17 | B22: Đào Minh Luận | E22: rạp bếp | F22: 0.5
A23: 18 | B23: Võ Thị Lợi | G23: 0.6 | H23: 30
A24: 19 | B24: Lê Thị Nga | G24: 0.1 | H24: 12
A25: 20 | B25: Đào Văn Chiến | G25: 4 | H25: 36
A26: 21 | B26: Nguyễn Văn Quân | G26: 2 | H26: 36
A27: 22 | B27: Doãn Đình Hoa | G27: 1 | H27: 24 | M27: 300 | O27: 300 | P27: 78 tháng
A28: 23 | B28: Nguyễn Văn Đèo | G28: 2.6 | H28: 24
A29: 24 | B29: Nguyễn Tiến Hùng | G29: 1 | H29: 24 | M29: 500 | N29: 500 | P29: 60 tháng
A30: 25 | B30: Đào Minh Trí | G30: 5 | H30: 36
A31: 26 | B31: Nguyễn Thị Vy | E31: rạp pụ trợ | F31: 0.7 | G31: 1 | H31: 36
A32: 27 | B32: Đào Thị Hương | G32: 1 | H32: 24
A33: 28 | B33: Đào Văn Dũng | G33: 2 | H33: 48 | I33: 2000 | J33: 2000 | L33: 60 ngày
A34: 29 | B34: Nuyễn Thị Dương | E34: rạp pụ trợ | F34: 0.5 | G34: 1 | H34: 24
A35: 30 | B35: Đào Xuân Phúc | C35: bán kiên cố | D35: 0.2 | E35: nhà lưới | F35: 0.5 | G35: 3 | H35: 36 | I35: 100 | K35: 100 | L35: 45 ngày | M35: 200 | N35: 200 | P35: 80 tháng
A36: 31 | B36: Lê Văn Miên | G36: 4 | H36: 30
A37: 32 | B37: Đào Văn Linh | G37: 2 | H37: 48
A38: 33 | B38: Đào Minh Thìn | E38: bồn nước | F38: 0.7 | H38: 30
A39: 34 | B39: Nguyễn Văn Thành | C39: Nhà cấp 4 | G39: 2 | H39: 30
A40: 35 | B40: Nguyễn Thị Hoa | E40: rạp pụ trợ | F40: 0.5 | G40: 3 | H40: 48
A41: 36 | B41: Lê Thị Hạnh | C41: nhà cấp 4 | E41: rạp pụ trợ | F41: 0.7
A42: 37 | B42: Trần Thị Thưởng | E42: rạp nắng | F42: 0.7
A43: 38 | B43: Trần Đình Anh | C43: nhà cấp 4 | E43: nhà bếp | F43: 0.5
A44: 39 | B44: Phạm Thị Dũng | E44: rạp pụ trợ | F44: 0.5
A45: 40 | B45: Nguyễn Hữu Nghĩa | G45: 1 | H45: 24
A46: 41 | B46: Đào Văn Duyệt | E46: rạp nắng | F46: 0.7 | G46: 2 | H46: 24
A47: 42 | B47: Đào Văn Toàn | G47: 3 | H47: 24
A48: 43 | B48: Nguyễn Xuân Bách | G48: 1.5 | H48: 30
A49: 44 | B49: Trần Đức Thịnh | G49: 7 | H49: 36
A50: 45 | B50: Nguyễn Văn Hiền | G50: 1 | H50: 30
A51: 46 | B51: Nguyễn Văn Đức | E51: rạp nắng | F51: 0.5
A52: 47 | B52: Nguyễn Thị Tuỷn | C52: nhà cấp 4 | D52: 0.3 | G52: 4 | H52: 40 | I52: 2500 | K52: 2500 | L52: 10 tháng | M52: 300 | O52: 300 | P52: 75 tháng
A53: 48 | B53: Nguyễn Quảng Hà | G53: 1 | H53: 36
A54: 49 | B54: Đặng Văn Sính | C54: nhà cấp 4 | D54: 0.3 | I54: 300 | K54: 300 | L54: 60 ngỳ
A55: 50 | B55: Đào Văn Sơn | G55: 5 | H55: 24 | I55: 500 | K55: 500 | L55: 10 tháng
A56: 51 | B56: Đào Thanh Nghị | G56: 1 | H56: 48
A57: 52 | B57: Nguyễn Thị Phương | C57: nhà cấp 4 | D57: 0.5 | E57: rạp nắng | F57: 0.5
A58: 53 | B58: Thái Ngọc Phiển | G58: 1 | H58: 24
A59: 54 | B59: Lê Minh Thụ | E59: rap pụ trợ | F59: 0.3 | G59: 0.6 | H59: 36 | I59: 300 | K59: 300 | L59: 85 ngày
A60: 55 | B60: Nguyễn Văn Trành | G60: 1 | H60: 24
A61: 56 | B61: Hà Quốc Thắng | E61: rạp pụ trợ | G61: 3 | H61: 24
A62: 57 | B62: Nguyễn Xuân Ngành | E62: rạp pụ trợ | I62: 500 | K62: 500 | L62: 60 ngày
A63: 58 | B63: Đào Văn Thủy | C63: nhà cấp 4 | D63: 0.1 | G63: 1.5 | H63: 30
A64: 59 | B64: Nguyễn Thị Minh | G64: 0.7 | H64: 24 | M64: 400 | O64: 400 | P64: 24 tháng
A65: 60 | B65: Lê Anh Đức | G65: 0.5 | H65: 48
A66: 61 | B66: Nguyễn Thái Bình | G66: 1 | H66: 20 | M66: 800 | O66: 800 | P66: 24 tháng
A67: 62 | B67: Đào Trọng Tấn | G67: 1 | H67: 30
A68: 63 | B68: Đào Phi Hùng | G68: 0.5 | H68: 24
A69: 64 | B69: Nguyễn Huy Bình | C69: nhà cấp 4 | D69: 0.2 | E69: rạp nắng | F69: 0.5 | G69: 3.5 | H69: 12 | I69: 1300 | K69: 1300 | L69: 10 tháng | M69: 800 | O69: 800 | P69: 48 tháng
A70: 65 | B70: Nguyễn Văn Công | G70: 0.5 | H70: 36
A71: 66 | B71: Nguyễn Đức Thắng | G71: 2.5 | H71: 60
A72: 67 | B72: Lê Đức Thọ | G72: 1 | H72: 36
A73: 68 | B73: Hoàng Thị Khánh | G73: 0.15 | H73: 24
A74: 69 | B74: Võ Thị Vĩnh | G74: 0.5 | H74: 30
A75: 70 | B75: Nguyễn Văn Tình | E75: rạp nắng | F75: 0.7
A76: 71 | B76: Nguyễn Thị Nguyệt | M76: 500 | O76: 500 | P76: 60 tháng
A77: 72 | B77: Đào Văn Bé | G77: 0.5 | H77: 60
A78: 73 | B78: Đào Văn Thường | I78: 3000 | J78: 3000 | L78: 10 tháng
A79: 74 | B79: Đào Xuân Quỳnh | G79: 0.5 | H79: 24
A80: 75 | B80: Đào Văn Bơ | G80: 4 | H80: 24 | M80: 400 | N80: 400 | P80: 36 tháng
A81: 76 | B81: Nguyễn Văn Anh | E81: rạp pụ trợ | F81: 0.5 | G81: 0.5 | H81: 60 | M81: 300 | N81: 300 | P81: 48 tháng
A82: 77 | B82: Doãn Văn Thống | G82: 9 | H82: 36
A83: 78 | B83: Đào Văn Thuận | G83: 3 | H83: 36 | M83: 500 | O83: 500 | P83: 60 tháng
A84: 79 | B84: Nguyễn Thị Bính | G84: 0.5 | H84: 36 | I84: 300 | K84: 300 | L84: 10 tháng | M84: 500 | O84: 500 | P84: 60 tháng
A85: 80 | B85: Đào Minh Thành | G85: 0.5 | H85: 24
A86: 81 | B86: Đào Văn Nghị | C86: Nhà tạm trại | D86: 0.7 | E86: rạp pụ trợ | F86: 0.7 | G86: 1 | H86: 24
A87: 82 | B87: Hoàng Văn Thành | G87: 6 | H87: 36
A88: 83 | B88: Lê Thị Quyên | G88: 1.5 | H88: 36
A89: 84 | B89: Đặng Xuân Hùng | C89: nhà cấp 4 | D89: 0.3 | E89: rạp pụ trợ | F89: 0.3 | G89: 0.5 | H89: 36 | I89: 3500 | K89: 3500 | L89: 10 tháng | M89: 1000 | N89: 1000 | P89: 72 tháng
A90: 85 | B90: Lê Văn Lý | G90: 0.1 | H90: 36
A91: 86 | B91: Nguyễn Minh Đức | C91: nhà cấp 4 | D91: 0.1 | G91: 4 | H91: 36
A92: 87 | B92: Thái Thị Liên | G92: 4 | H92: 36
A93: 88 | B93: Lê Hữu Xuyên | C93: nhà cấp 4 | D93: 0.2 | E93: rạp pụ trợ | F93: 0.4 | G93: 2 | H93: 30
A94: 89 | B94: Thái Bình Dương | G94: 0.5 | H94: 24 | M94: 300 | O94: 300 | P94: 48
A95: 90 | B95: Hà Thị Thế | G95: 0.5 | H95: =8*12 -> 96
A96: 91 | B96: Nguyễn Văn Toàn | E96: rạp pụ trợ | F96: 0.3 | G96: 10 | H96: 36 | I96: 3000 | K96: 3000 | L96: 10 tháng
A97: 92 | B97: Đào Thị Nhỏ | C97: nhà cấp 4 | D97: 0.3 | E97: rạp pụ trợ | F97: 0.3 | I97: 200 | K97: 200 | L97: 60 ngày
A98: 93 | B98: Lê Quang Vinh | E98: rạp pụ trợ | F98: 0.3 | G98: 0.5 | H98: 48
A99: 94 | B99: Lê Văn Minh | G99: 2 | H99: 24
A100: 95 | B100: Trần Đình Trung | C100: bán kiên cố | D100: 0.2 | E100: tường rào xây | F100: 1 | I100: 500 | K100: 500 | L100: 10 tháng
...

Sheet HOA TÂN
A1: THÔN HOA TÂN
A2: BIỂU II: DANH SÁCH THIỆT HẠI VỀ CÂY TRỒNG DO BÃO SỐ 10
A3: TT | B3: Tên chủ hộ | C3: Thiệt hại nhà ở | E3: Công trình phụ trợ | G3: Thiệt hại cây lâm nghiệp | I3: Thiệt hại cây hằng năm (dưa hấu, vừng, khoai, ……) | M3: Thiệt hại cây lâu năm (các loại cây ăn quả)
C4: Loại nhà (kiên cố, bán kiên cố, đơn sơ) | D4: Mức độ thiệt hại (%) | E4: Loại công trình | F4: Mức độ thiệt hại (%) | G4: Diện tích (ha) | H4: Thời gian trồng (tháng) | I4: Diện tích (m2) | J4: Mức độ thiệt hại | L4: Thời gian trồng (ngày) | M4: Diện tích (m2) | N4: Mức độ thiệt hại | P4: Thời gian trồng (tháng)
J5: Thiệt hại trên 70% | K5: Thiệt hại từ 30- 70% | N5: Thiệt hại trên 70% | O5: Thiệt hại từ 30- 70%
A6: 1 | B6: Nguyễn Thị Tuyết | C6: Tốc mái | D6: 30 | E6: Chuồng trại | F6: 50 | G6: 1.5 | H6: 24
A7: 2 | B7: Đào Hải Đàn | G7: 8 | H7: 24
A8: 3 | B8: Hoàng Ngọc Bắc | G8: 1.5 | H8: 36
A9: 4 | B9: Đào Trung Hậu | G9: 1 | H9: 24
A10: 5 | B10: Hoàng Văn Vinh | G10: 1 | H10: 48
A11: 6 | B11: Hoàng Thủy Văn | E11: Chuồng trại tốc mái | F11: 100 | G11: 5 | H11: 30
A12: 7 | B12: Hoàng Văn Đông | E12: Nhà bếp tốc mái | F12: 70 | G12: 3 | H12: 36
A13: 8 | B13: Phạm Thị Nhung | E13: Chuồng trại tốc mái | F13: 30 | G13: 0.1 | H13: 12
A14: 9 | B14: Lê Bá Bảo Long | G14: 7 | H14: 36
A15: 10 | B15: Đào Thị Xuyên | E15: Nhà bếp tốc mái | F15: 70 | G15: 0.7 | H15: 36
A16: 11 | B16: Thiều Thị Hường | G16: 1 | H16: 30
A17: 12 | B17: Nguyễn Ngọc Kha | E17: Chuồng trại tốc mái | F17: 100
A18: 13 | B18: Đặng Văn Khuyền | C18: Tốc mái | D18: 15 | E18: Đỗ hàng rào30m, rạp nắng | F18: 90 | G18: 0.5 | H18: 24 | M18: 300 | N18: 300 | P18: 98
A19: 14 | B19: Hoàng Văn Hà | E19: Chuồng trại tốc mái | F19: 35 | G19: 1.712 | H19: 24
A20: 15 | B20: Hoàng Văn Bình | E20: Chuồng trại tốc mái | F20: 100 | G20: 2 | H20: 48
A21: 16 | B21: Lê Công Minh | E21: Chuồng trại tốc mái | F21: 60 | G21: 3.2 | H21: 36
A22: 17 | B22: Lê Văn Choan | C22: Tốc mái | D22: 70 | M22: 145 | N22: 145 | P22: 98
A23: 18 | B23: Mai Thị Nga | E23: Chuồng trại tốc mái | F23: 70 | G23: 1.5 | H23: 24
A24: 19 | B24: Hoàng Thanh Cảnh | C24: Tốc mái | D24: 40 | G24: 0.05 | H24: 24
A25: 20 | B25: Đào Viết Châu | G25: 0.4 | H25: 24
A26: 21 | B26: Đặng Xuân Hữu | G26: 1.5 | H26: 24
A27: 22 | B27: Hoàng Thế Thọ | G27: 4 | H27: 36
A28: 23 | B28: Đào Văn Sau | E28: Đỗ hàng rào30m, rạp nắng | F28: 100 | M28: 45 | N28: 45 | O28: 72
A29: 24 | B29: Nguyễn Thị Lộc | E29: Tốc mái nhà bếp | F29: 80 | M29: 95 | N29: 94 | O29: 124
A30: 25 | B30: Hoàng Hải Đằng | E30: Tốc mái chuồng bò | F30: 70 | M30: 45 | N30: 72
A31: 26 | B31: Đào Quang Tám | G31: 1.5 | H31: 24
A32: 27 | B32: Hoàng Hữu Chung | E32: Rạp nắng | F32: 80 | G32: 1.5 | H32: 2
A33: 28 | B33: Đào Quốc Vượng | E33: Rạp nắng | F33: 80 | G33: 0.35 | H33: 24
A34: 29 | B34: Bùi Văn Đức | E34: Rạp nắng | F34: 70 | G34: 0.15 | H34: 24
A35: 30 | B35: Hoàng Long Bán Nghĩa | E35: Rạp nắng | F35: 70
A36: 31 | B36: Trương Thị Chân | E36: Rạp nắng | F36: 70 | G36: 1 | H36: 24
A37: 32 | B37: Hoàng Văn Nghĩa | G37: 1.5 | H37: 24
A38: 33 | B38: Nguyễn Thị Tâm | E38: Chuồng trại | F38: 100 | G38: 2 | H38: 36
A39: 34 | B39: Hoàng Văn Mậu | G39: 0.4 | H39: 36
A40: 35 | B40: Đặng Văn Liến | E40: Tốc mái rạp nắng | F40: 100
A41: 36 | B41: Phan Văn Bảo | G41: 1 | H41: 36
A42: 37 | B42: Đào Văn Minh | E42: Tốc mái rạp nắng | F42: 100
A43: 38 | B43: Đào Văn Lân | C43: Tốc mái | D43: 15 | M43: 100 | N43: 100 | O43: 84
A44: 39 | B44: Đặng Đình Ý | E44: Tốc mái rạp nắng | F44: 100 | M44: 100 | N44: 100 | O44: 72
A45: 40 | B45: Nguyễn Văn Hớn | E45: Tốc mái chuồng bò | F45: 100 | G45: 0.4 | H45: 36
A46: 41 | B46: Doãn Văn Hạnh | E46: Tốc mái rạp xưởng | F46: 100 | G46: 0.25 | H46: 36
A47: 42 | B47: Nguyễn Xuân Oanh | M47: 50 | N47: 50 | P47: 120
A48: 43 | B48: Doãn Văn Thạnh | E48: Tốc mái rạp nắng | F48: 100 | G48: 1.1 | H48: 24
A49: 44 | B49: Hoàng Văn Khánh | E49: Tốc mái rạp nắng | F49: 100 | M49: 10 | N49: 10 | P49: 72
A50: 45 | B50: Phạm Văn Đình | G50: 1 | H50: 36
A51: 46 | B51: Phạm Quốc Huy | E51: Tốc mái rạp nắng | F51: 100
A52: 47 | B52: Đào Thị Chìu | E52: Tốc mái rạp nắng | F52: 100
A53: 48 | B53: Đào Văn Cảnh | G53: 1 | H53: 24
A54: 49 | B54: Đào Thị Cừu | M54: 24 | P54: 600
A55: 50 | B55: Đào Văn Kịnh | E55: Tốc mái rạp nắng | F55: 100
A56: 51 | B56: Đào Văn Cẩm | C56: Tốc mái | D56: 20 | E56: Tốc mái chuồng bò | F56: 70
A57: 52 | B57: Thái Hồng Lĩnh | E57: Tốc mái chuồng bò | F57: 70 | G57: 0.45 | H57: 36
A58: 53 | B58: Nguyễn Tiến Nho | C58: Tốc mái | D58: 40 | E58: Tốc mái rạp nắng | F58: 70
A59: 54 | B59: Nguyễn Thị Hoa | C59: Tốc mái | D59: 40 | G59: 5 | H59: 48
A60: 55 | B60: Nguyễn Thị Bảy | E60: Đỗ hàng rào | F60: 6m
A61: 56 | B61: Trương Văn Linh | G61: 3 | H61: 48
A62: 57 | B62: Doãn Ngọc Vinh | E62: Tốc mái rạp nắng | F62: 100 | G62: 1 | H62: 36
A63: 58 | B63: Hoàng Văn Dương | E63: Tốc mái rạp nắng | F63: 100 | G63: 3 | H63: 12
A64: 59 | B64: Đào Ngọ Hinh | E64: Tốc mái rạp nắng | F64: 70 | G64: 0.1 | H64: 24
A65: 60 | B65: Đặng Văn Lới | E65: Tốc mái rạp nắng | F65: 60 | G65: 0.2 | H65: 12 | M65: 28 | N65: 28 | P65: 60
A66: 61 | B66: TRương Thị Thế | C66: Tốc mái | D66: 40 | E66: Tốc mái nhà bếp | F66: 40 | M66: 15 | N66: 15 | P66: 276
A67: 62 | B67: Lê Cường | G67: 2 | H67: 48 | M67: 80 | N67: 80 | P67: 120
A68: 63 | B68: Lê Như Quyến | D68: 30 | E68: Tốc mái nhà bếp | F68: 50 | G68: 0.25 | H68: 48 | M68: 200 | N68: 200 | P68: 94
A69: 64 | B69: Đào Hải Nam | C69: Tốc mái | D69: 30 | E69: Tốc mái chuồng trại | F69: 100 | G69: 2 | H69: 48
A70: 65 | B70: Đào Sơn Trường | E70: Tốc mái chuồng trại | F70: 50 | G70: 1 | H70: 24 | M70: 100 | N70: 100 | P70: 120
A71: 66 | B71: Thiều Quang Thoại
A72: 67 | B72: Lê Đỉnh | G72: 1.5 | H72: 36
A73: 68 | B73: Đào Thị Vân | C73: Tốc mái | D73: 20 | M73: 50 | N73: 50 | P73: 96
A74: 69 | B74: Phùng Thị Phương | C74: Tốc mái | D74: 10 | G74: 0.1 | H74: 12 | M74: 500 | N74: 500 | P74: 72
A75: 70 | B75: Đào Văn Thí | C75: Tốc mái | D75: 15 | E75: Rạp nắng | F75: 70 | G75: 2 | H75: 24 | M75: 1150 | N75: 1150 | P75: 36
A76: 71 | B76: Nguyễn Văn Thể | E76: Tốc mái chuồng trại | F76: 30 | M76: 18 | N76: 18 | P76: 120
A77: 72 | B77: Đào Văn Hưng | G77: 1 | H77: 24
A78: 73 | B78: Đào Xuân Lực | E78: Tốc mái nhà bếp | F78: 100 | G78: 0.5 | H78: 42
A79: 74 | B79: Nguyễn Thị Lành | E79: Tốc mái chuồng trại | F79: 60 | G79: 2 | H79: 24 | M79: 100 | N79: 100 | P79: 120
A80: 75 | B80: Nguyễn Tiến Đoàn | E80: Rạp nắng | F80: 60 | M80: 150 | N80: 150 | P80: 120
A81: 76 | B81: Doãn Văn Mậu | G81: 2 | H81: 24
A82: 77 | B82: Doãn Thị Hân | E82: Tốc mái chuồng trại | G82: 1.5 | H82: 36
A83: 78 | B83: Doãn Văn Phùng | E83: Đỗ hàng rào 5m, tốc mái chuồng trại | F83: 100 | G83: 3 | H83: 36
A84: 79 | B84: Trương Thị Kim Anh | E84: Tốc mái rạp nắng | F84: 100
A85: 80 | B85: Nguyễn Văn Linh | E85: Tốc mái xưởng | F85: 70
A86: 81 | B86: Đào Văn Tẳn | E86: Tốc mái nhà bếp | F86: 100 | G86: 0.2 | H86: 36 | M86: 45 | N86: 45 | P86: 120
A87: 82 | B87: Mai Văn Cường | G87: 2 | H87: 30 | I87: 750 | J87: 750 | K87: 365 | M87: 60 | N87: 60 | P87: 180
A88: 83 | B88: Mai Tùng Lâm | G88: 5 | H88: 48
A89: 84 | B89: Mai Thị Tân | E89: Rạp nắng | F89: 100
A90: 85 | B90: Mai Thỏa | E90: Tốc mái nhà bếp | F90: 100 | G90: 0.05 | H90: 24 | M90: 60 | N90: 60 | P90: 96
A91: 86 | B91: Đặng Đình Thuận | E91: Tốc mái chuồng trại | F91: 100
A92: 87 | B92: Lê Thị Xuân | E92: Tốc mái nhà bếp | F92: 100
A93: 88 | B93: Đào Văn Quang | E93: Tốc mái nhà bếp | F93: 100 | G93: 0.1 | H93: 24
A94: 89 | B94: Phan Công Tiến | E94: Tốc mái nhà bếp | F94: 80 | G94: 1.5 | H94: 24
A95: 90 | B95: Đào Văn Hoài | E95: Tốc mái nhà bếp | F95: 100 | G95: 1.15 | H95: 36
A96: 91 | B96: Đào Văn Sơn | E96: Tốc mái rạp nắng, công trình phụ | F96: 100 | G96: 1.5 | H96: 48
A97: 92 | B97: Đào Văn Quảng | E97: Tốc mái nhà bếp | F97: 100 | G97: 0.1 | H97: 36
A98: 93 | B98: Mai Văn Quý | E98: Tốc mái chuồng trại | F98: 100 | G98: 5.05 | H98: 48 | M98: 500 | N98: 500 | P98: 98
A99: 94 | B99: Hoàng Văn Quân | C99: Tốc mái | D99: 30 | E99: Rạp nắng | F99: 100 | G99: 0.1 | H99: 24
A100: 95 | B100: Phạm Thị Hiền | E100: Tốc mái công trình phụ | F100: 100
...

Sheet Hoa Thang
A1: THÔN HOA THẮNG
A2: BIỂU II: DANH SÁCH THIỆT HẠI VỀ CÂY TRỒNG DO BÃO SỐ 10
A3: TT | B3: Tên chủ hộ | C3: Thiệt hại nhà ở | E3: Công trình phụ trợ | G3: Thiệt hại cây lâm nghiệp | I3: Thiệt hại cây hằng năm (dưa hấu, vừng, khoai, ……) | M3: Thiệt hại cây lâu năm (các loại cây ăn quả)
C4: Loại nhà (kiên cố, bán kiên cố, đơn sơ) | D4: Mức độ thiệt hại (%) | E4: Loại công trình | F4: Mức độ thiệt hại (%) | G4: Diện tích (ha) | H4: Thời gian trồng (tháng) | I4: Diện tích (m2) | J4: Mức độ thiệt hại | L4: Thời gian trồng (ngày) | M4: Diện tích (m2) | N4: Mức độ thiệt hại | P4: Thời gian trồng (năm)
J5: Thiệt hại trên 70% | K5: Thiệt hại từ 30- 70% | N5: Thiệt hại trên 70% | O5: Thiệt hại từ 30- 70%
A6: 1 | B6: Phạm Thị Thu | G6: 0.5 | H6: =2.5*12 -> 30 | I6: =J6+K6 -> 0 | M6: =N6+O6 -> 200 | O6: 200 | P6: 5
A7: 2 | B7: Nguyễn Thị Dũng | G7: 0 | I7: =J7+K7 -> 0 | M7: =N7+O7 -> 0 | Q7: 25 con gà (10kg)
A8: 3 | B8: Nguyễn Thị Tân | G8: 2 | H8: 24 | I8: =J8+K8 -> 0 | M8: =N8+O8 -> 1500 | N8: 1500 | P8: 10
A9: 4 | B9: Nguyễn Tiến Hùng | E9: 15 tấm bia rô | G9: 0.1641 | H9: 24 | I9: =J9+K9 -> 0 | M9: =N9+O9 -> 600 | N9: 600
A10: 5 | B10: Lê Văn Minh | C10: 31 viên ngói | E10: 15 viên bia rô | G10: 1.3 | H10: 36 | I10: =J10+K10 -> 0 | M10: =N10+O10 -> 500 | N10: 500
A11: 6 | B11: Lê Thị Lai | E11: 30 viên bia rô | G11: 0 | I11: =J11+K11 -> 0 | M11: =N11+O11 -> 20 | N11: 20 | P11: 7
A12: 7 | B12: Nguyễn Tiến Hạnh | C12: tốc ngói | E12: 15 viên bia rô | G12: 2 | H12: =3*12 -> 36 | I12: =J12+K12 -> 250 | J12: 250 | L12: 60 | M12: =N12+O12 -> 200 | N12: 200 | P12: 6
A13: 8 | B13: Nguyễn Anh Tuấn | E13: 5 viên bia rô | G13: 0 | I13: =J13+K13 -> 0 | M13: =N13+O13 -> 200 | N13: 200
A14: 9 | B14: Nguyễn Thị Hoa | E14: 5 tấm bia rô | G14: 0 | I14: =J14+K14 -> 300 | J14: 300 | L14: 60 | M14: =N14+O14 -> 45 | N14: 45 | Q14: 10 con gà
A15: 10 | B15: Nguyễn Thị Liên | G15: 1 | H15: =4*12 -> 48 | I15: =J15+K15 -> 0 | M15: =N15+O15 -> 0
A16: 10 | B16: Nguyễn Thị Liên | G16: 1 | H16: 24 | I16: =J16+K16 -> 0 | M16: =N16+O16 -> 0
A17: 11 | B17: Nguyễn Minh Thông | G17: 1 | H17: 48 | I17: =J17+K17 -> 0 | M17: =N17+O17 -> 0
A18: 11 | B18: Nguyễn Minh Thông | G18: 1 | H18: 24 | I18: =J18+K18 -> 0 | M18: =N18+O18 -> 0
A19: 12 | B19: Trần Thị Lợi | E19: 10 tấm bia rô | G19: 0 | I19: =J19+K19 -> 0 | M19: =N19+O19 -> 0
A20: 13 | B20: Nguyễn Văn Lam | E20: nhà sau | G20: 0 | I20: =J20+K20 -> 0 | M20: =N20+O20 -> 0
A21: 14 | B21: Nguyễn Văn Thủy | E21: nhà xưởng | G21: 0.45 | H21: =6*12 -> 72 | I21: =J21+K21 -> 0 | M21: =N21+O21 -> 10 | N21: 10 | Q21: 1 cây mít, 1 cây chay
A22: 15 | B22: Cao Xuân Thái | C22: tốc ngói | E22: mái nhà bếp | G22: 0 | I22: =J22+K22 -> 0 | M22: =N22+O22 -> 0
A23: 16 | B23: Cao Xuân An | E23: mái nhà bếp | G23: 0 | I23: =J23+K23 -> 0 | M23: =N23+O23 -> 0
A24: 17 | B24: Nguyễn Văn Trọng | C24: 200 viên ngói | E24: 20 tấm bia rô | G24: 0.5 | H24: 36 | I24: =J24+K24 -> 1000 | K24: 1000 | L24: 40 | M24: =N24+O24 -> 1000 | N24: 1000 | P24: 2
A25: 18 | B25: Lê Thị Liên | C25: tốc ngói | G25: 0 | I25: =J25+K25 -> 0 | M25: =N25+O25 -> 0 | Q25: cây Mít
A26: 19 | B26: Phạm Văn Thân | E26: Nhà để xe | G26: 0 | I26: =J26+K26 -> 0 | M26: =N26+O26 -> 0
A27: 20 | B27: Đào Thành Đoàn | C27: tốc ngói | E27: tốc mai chuồng | G27: 0.65 | H27: 24 | I27: =J27+K27 -> 0 | M27: =N27+O27 -> 0 | Q27: có 5000m2 ở Kỳ Thượng
A28: 21 | B28: Nguyễn Thị Thuận | C28: tốc ngói | E28: tốc mai chuồng | G28: 0.22 | H28: 24 | I28: =J28+K28 -> 0 | M28: =N28+O28 -> 135 | N28: =15*9 -> 135 | P28: 10
A29: 22 | B29: Nguyễn Tiến Nam | G29: 2 | H29: 24 | I29: =J29+K29 -> 0 | M29: =N29+O29 -> 50 | N29: 50 | P29: 20
A30: 23 | B30: Trần Văn Toàn | G30: 0 | I30: =J30+K30 -> 0 | M30: =N30+O30 -> 30 | N30: 30 | P30: 15
A31: 24 | B31: Nguyễn Thị Xuyên | E31: sập công trình phụ | G31: 0 | I31: =J31+K31 -> 0 | M31: =N31+O31 -> 0
A32: 25 | B32: Đào Văn Thành | C32: tốc ngói | G32: 0 | I32: =J32+K32 -> 0 | M32: =N32+O32 -> 0
A33: 26 | B33: Đào Anh Sơn | G33: 0.05 | H33: 48 | I33: =J33+K33 -> 0 | M33: =N33+O33 -> 0 | Q33: nhãn, mít
A34: 27 | B34: Lê Thị Thuyết | G34: 0.05 | H34: 48 | I34: =J34+K34 -> 0 | M34: =N34+O34 -> 0 | Q34: nhãn, mít
A35: 28 | B35: Trần Xuân Đằng | E35: 10 viên bia rô | G35: 0.07 | H35: 24 | I35: =J35+K35 -> 0 | M35: =N35+O35 -> 200 | N35: 200 | P35: 15
A36: 28 | B36: Trần Xuân Đằng | G36: 0.05 | H36: =7*12 -> 84 | I36: =J36+K36 -> 0 | M36: =N36+O36 -> 0
A37: 29 | B37: Nguyễn Thị Đua | E37: rạp bia rô | G37: 0 | I37: =J37+K37 -> 0 | M37: =N37+O37 -> 500 | O37: 500 | P37: 7
A38: 30 | B38: Đặng Văn Lân | E38: 45 tấm bia rô | G38: 0 | I38: =J38+K38 -> 0 | M38: =N38+O38 -> 50 | N38: 50 | P38: 16
A39: 31 | B39: Nguyễn Tiến Phụng | E39: chuồng gà | G39: 7.6 | H39: 24 | I39: =J39+K39 -> 300 | J39: 300 | L39: 60 | M39: =N39+O39 -> 0
A40: 32 | B40: Đặng Văn Thành | E40: 60 tấm bia rô | G40: 2 | H40: 24 | I40: =J40+K40 -> 0 | M40: =N40+O40 -> 900 | N40: =100*9 -> 900 | P40: 9
A41: 33 | B41: Thái Văn Thuận | E41: nhà bếp | G41: 1.5 | H41: 24 | I41: =J41+K41 -> 0 | M41: =N41+O41 -> 500 | N41: 500 | P41: 10
A42: 34 | B42: Nguyễn Văn Tùng | E42: Chuồng bò | G42: 0 | I42: =J42+K42 -> 1200 | J42: 1200 | L42: 60 | M42: =N42+O42 -> 1000 | N42: 1000 | P42: 15
A43: 35 | B43: Thái Hữu Khánh Nam | E43: 19 tấm bia rô, bồn nước | G43: 0 | I43: =J43+K43 -> 0 | M43: =N43+O43 -> 0 | Q43: ổi, nhạn
A44: 36 | B44: Doãn Văn Tám | G44: 2 | H44: 29 | I44: =J44+K44 -> 0 | M44: =N44+O44 -> 150 | N44: 150 | P44: 8
A45: 37 | B45: Thái Thị Hiền | H45: =6*12 -> 72 | I45: =J45+K45 -> 0 | M45: =N45+O45 -> 0 | Q45: Tràm trồng ở phường Hải Ninh 17ha
A46: 38 | B46: Trần Văn Quang | E46: nhà bếp, chồng lợn | G46: 0 | I46: =J46+K46 -> 0 | M46: =N46+O46 -> 0 | Q46: mít, chanh, ổi
A47: 39 | B47: Phạm Văn Tùng | C47: 10 viên ngói úp | E47: 50 viên bia rô | G47: 0.05 | H47: 24 | I47: =J47+K47 -> 0 | M47: =N47+O47 -> 100 | N47: 100 | P47: 6
A48: 40 | B48: Đào Đình Điệp | E48: Chuồng trâu | F48: 30 | G48: 2 | H48: 12 | I48: =J48+K48 -> 0 | M48: =N48+O48 -> 0 | Q48: mít, bưởi | R48: 0.5
A49: 41 | B49: Thái Trường Sơn | E49: rạp | G49: 0.3 | H49: 24 | I49: =J49+K49 -> 0 | M49: =N49+O49 -> 0 | Q49: 2000m2 lúa ở Kỳ Châu
A50: 42 | B50: Thái Doãn Thìn | G50: 1 | H50: 24 | I50: =J50+K50 -> 0 | M50: =N50+O50 -> 500 | N50: 500 | P50: 5
A51: 43 | B51: Nguyễn Văn Hoặc | E51: Chuồng gà | F51: 10 | G51: 2 | H51: 36 | I51: =J51+K51 -> 1000 | J51: 1000 | L51: =8*30 -> 240 | M51: =N51+O51 -> 150 | N51: 150 | P51: 8 | Q51: 1000m sắn
A52: 44 | B52: Nguyễn Văn Học | G52: 0 | I52: =J52+K52 -> 0 | M52: =N52+O52 -> 2000 | N52: 2000 | P52: 10
A53: 45 | B53: Dương Anh Tuấn | G53: 0 | I53: =J53+K53 -> 0 | M53: =N53+O53 -> 0
A54: 46 | B54: Đặng Văn Quyết | G54: 3 | H54: 36 | I54: =J54+K54 -> 500 | J54: 500 | L54: =7*30 -> 210 | M54: =N54+O54 -> 0
A55: 47 | B55: Đặng Văn Quyết | G55: 2 | H55: 24 | I55: =J55+K55 -> 0 | M55: =N55+O55 -> 0
A56: 48 | B56: Phùng Thị Tạnh | E56: 11 tấm bia rô | G56: 0 | I56: =J56+K56 -> 0 | M56: =N56+O56 -> 0
A57: 49 | B57: Đặng Văn Đèo | C57: 150 viên ngói | E57: 40 tấm bia rô | G57: 5 | H57: 48 | I57: =J57+K57 -> 0 | M57: =N57+O57 -> 0
A58: 50 | B58: Lê Thị Thành | G58: 0 | I58: =J58+K58 -> 0 | M58: =N58+O58 -> 0
A59: 51 | B59: Phạm Xuân Mạnh | E59: Chuồng chăn nuôi | G59: 0 | I59: =J59+K59 -> 2060 | J59: 2000 | K59: 60 | M59: =N59+O59 -> 0
A60: 52 | B60: Nguyễn Văn Hiếu | E60: nhà kho, chuồng lợn | F60: 30 | G60: 0 | I60: =J60+K60 -> 0 | M60: =N60+O60 -> 40 | N60: 40 | P60: 5 | Q60: 4 cây bưởi, nhanx
A61: 53 | B61: Trần Văn Thứ | G61: 1 | H61: 36 | I61: =J61+K61 -> 0 | M61: =N61+O61 -> 0
A62: 54 | B62: Phạm Xuân Thắng | E62: chuồng gà | G62: 0 | I62: =J62+K62 -> 0 | M62: =N62+O62 -> 0
A63: 55 | B63: Lê Hữu Nhuận | E63: 8 tấm bia rô | G63: 0 | I63: =J63+K63 -> 0 | M63: =N63+O63 -> 0
A64: 56 | B64: Nguyễn Thị Dương | D64: 36 viên ngói | E64: 5 viên ngói úp | G64: 0 | I64: =J64+K64 -> 0 | M64: =N64+O64 -> 80 | N64: 80 | P64: 5
A65: 57 | B65: Nguyễn Văn Cảnh | E65: Chuồng bò | F65: 50 | G65: 2 | H65: 24 | I65: =J65+K65 -> 0 | M65: =N65+O65 -> 0
A66: 58 | B66: Nguyễn Văn Xuân | C66: 30 | F66: 50 | G66: 0 | I66: =J66+K66 -> 1500 | J66: 1500 | L66: =8*30 -> 240 | M66: =N66+O66 -> 0
A67: 59 | B67: Nguyễn Thị Vĩnh | C67: 30 | E67: 20 tấm bia rô | G67: 0.25 | H67: 36 | I67: =J67+K67 -> 1500 | J67: 1500 | L67: 240 | M67: =N67+O67 -> 50 | N67: 50 | P67: 3 | Q67: 30 con gà
A68: 60 | B68: Nguyễn Tiến Trình | H68: 36 | I68: =J68+K68 -> 0 | M68: =N68+O68 -> 0 | Q68: Trồng ở Kỳ Trinh 7 ha
A69: 61 | B69: Nguyễn Tiến Trình | G69: 4 | H69: =7*12 -> 84 | I69: =J69+K69 -> 0 | M69: =N69+O69 -> 0
A70: 62 | B70: Nguyễn Tiến Trình | H70: 36 | I70: =J70+K70 -> 0 | M70: =N70+O70 -> 0 | Q70: Trồng ở Kỳ Hưng 1ha
A71: 63 | B71: Doãn Đức Thuận | F71: 80 | G71: 0 | I71: =J71+K71 -> 0 | M71: =N71+O71 -> 1500 | N71: 1500 | P71: 3
A72: 64 | B72: Nguyễn Ngọc Hải | G72: 1.5 | H72: =3.5*12 -> 42 | I72: =J72+K72 -> 0 | M72: =N72+O72 -> 0
A73: 65 | B73: Cao Xuân Tình | H73: 36 | I73: =J73+K73 -> 0 | M73: =N73+O73 -> 0 | Q73: Trồng tại Kỳ Thịnh 10ha
A74: 66 | B74: Thái Hữu Thìn | E74: 20 tấm bia rô | G74: 2 | H74: 24 | I74: =J74+K74 -> 0 | M74: =N74+O74 -> 1500 | N74: 1500 | P74: 7
A75: 66 | B75: Thái Hữu Thìn | G75: 0.2 | H75: 36 | I75: =J75+K75 -> 0 | M75: =N75+O75 -> 0
A76: 67 | B76: Đào Văn Hiền | E76: 7 viên bia rô | G76: 0 | I76: =J76+K76 -> 500 | J76: 500 | L76: 360 | M76: =N76+O76 -> 100 | N76: 100 | P76: 15
A77: 68 | B77: Trần Nhật Nga | F77: 50 | G77: 3 | H77: =8*12 -> 96 | I77: =J77+K77 -> 0 | M77: =N77+O77 -> 500 | N77: 500 | P77: 7
A78: 69 | B78: Lê Văn Tiến | D78: 2 tấm tôn | G78: 0 | I78: =J78+K78 -> 0 | M78: =N78+O78 -> 0
A79: 70 | B79: Đào Anh Tâm | G79: 2 | H79: 24 | I79: =J79+K79 -> 0 | M79: =N79+O79 -> 0
A80: 71 | B80: Đào Văn Lân | G80: 0 | I80: =J80+K80 -> 0 | M80: =N80+O80 -> 400 | O80: 400 | P80: 9
A81: 72 | B81: Trần Xuân Liệu | D81: 7 tấm bia rô | G81: 0 | I81: =J81+K81 -> 0 | M81: =N81+O81 -> 0
A82: 73 | B82: Đào Văn Đề | G82: 0.5 | H82: 24 | I82: =J82+K82 -> 400 | J82: 400 | M82: =N82+O82 -> 100 | N82: 100 | P82: 5
A83: 74 | B83: Nguyễn Thị Phương | D83: 20 | F83: 50 | G83: 0.1 | H83: 36 | I83: =J83+K83 -> 0 | M83: =N83+O83 -> 70 | N83: 70 | P83: 5
A84: 75 | B84: Nguyễn Tiến Hà | E84: 10 tấm tôn | G84: 3 | H84: 36 | I84: =J84+K84 -> 0 | M84: =N84+O84 -> 180 | N84: 180
A85: 76 | B85: Doãn Thị Thắm | F85: 30 | G85: 0.2 | H85: 36 | I85: =J85+K85 -> 0 | M85: =N85+O85 -> 150 | O85: 150 | P85: 2
A86: 77 | B86: Nguyễn Tiến Lý | G86: 0 | I86: =J86+K86 -> 0 | M86: =N86+O86 -> 0
A87: 78 | B87: Đào Xuân Thành | G87: 0.5 | H87: 24 | I87: =J87+K87 -> 0 | M87: =N87+O87 -> 0
A88: 79 | B88: Nguyễn Thị Luyến | G88: 0.5 | H88: 24 | I88: =J88+K88 -> 0 | M88: =N88+O88 -> 1000 | O88: 1000 | P88: 5
A89: 80 | B89: Đào Văn Linh | G89: 0.25 | H89: =5*12 -> 60 | I89: =J89+K89 -> 0 | M89: =N89+O89 -> 0
A90: 81 | B90: Đào Văn Lưu | D90: 20 | F90: 30 | G90: 0 | I90: =J90+K90 -> 500 | J90: 500 | L90: =12*30 -> 360 | M90: =N90+O90 -> 0
A91: 82 | B91: Đặng Văn Tuyết | D91: 15 | F91: 60 | G91: 0 | I91: =J91+K91 -> 0 | M91: =N91+O91 -> 0
A92: 83 | B92: Đào Văn Phương | G92: 0 | I92: =J92+K92 -> 0 | M92: =N92+O92 -> 0
A93: 84 | B93: Đặng Thị Linh | D93: 10 | G93: 0 | I93: =J93+K93 -> 0 | M93: =N93+O93 -> 0
A94: 85 | B94: Đặng Thị Sánh | C94: tốc mái, 15 viên ngói úp | E94: 7 tấm bia rô | G94: 0 | I94: =J94+K94 -> 0 | M94: =N94+O94 -> 0
A95: 86 | B95: Nguyễn Thị Tuyết | G95: 0.1 | H95: 24 | I95: =J95+K95 -> 0 | M95: =N95+O95 -> 200 | O95: 200 | P95: 2
A96: 87 | B96: Đào Văn Bốn | G96: 1 | H96: 24 | I96: =J96+K96 -> 0 | M96: =N96+O96 -> 0
A97: 88 | B97: Đào Văn Hà | G97: 2 | H97: 48 | I97: =J97+K97 -> 0 | M97: =N97+O97 -> 0
A98: 89 | B98: Đào Văn Minh | G98: 0.25 | H98: 36 | I98: =J98+K98 -> 1500 | J98: 1500 | L98: 60 | M98: =N98+O98 -> 300 | N98: 300 | P98: 1
A99: 89 | B99: Đào Văn Minh | G99: 0.5 | H99: 24 | I99: =J99+K99 -> 0 | M99: =N99+O99 -> 0 | Q99: 50 còn gà, ngan
A100: 90 | B100: Nguyễn Thị Châu | G100: 4 | H100: =5*12 -> 60 | I100: =J100+K100 -> 500 | J100: 500 | M100: =N100+O100 -> 300 | O100: 300 | P100: 5
...

Sheet HOA TIẾN
A1: THÔN HOA TIẾN
A2: BIỂU II: DANH SÁCH THIỆT HẠI VỀ CÂY TRỒNG DO BÃO SỐ 10
A3: TT | B3: Tên chủ hộ | C3: Thiệt hại nhà ở | E3: Công trình phụ trợ | G3: Thiệt hại cây lâm nghiệp | I3: Thiệt hại cây hằng năm (dưa hấu, vừng, khoai, ……) | M3: Thiệt hại cây lâu năm (các loại cây ăn quả)
C4: Loại nhà (kiên cố, bán kiên cố, đơn sơ) | D4: Mức độ thiệt hại (%) | E4: Loại công trình | F4: Mức độ thiệt hại (%) | G4: Diện tích (ha) | H4: Thời gian trồng (tháng) | I4: Diện tích (m2) | J4: Mức độ thiệt hại | L4: Thời gian trồng (ngày) | M4: Diện tích (m2) | N4: Mức độ thiệt hại | P4: Thời gian trồng (tháng)
J5: Thiệt hại trên 70% | K5: Thiệt hại từ 30- 70% | N5: Thiệt hại trên 70% | O5: Thiệt hại từ 30- 70%
A6: 1 | B6: Thiều Thanh Tùng | G6: 3 | H6: 30
A7: 2 | B7: Lê Văn Diễn | E7: Công trình phụ | F7: 30 | G7: 4 | H7: 42
A8: 3 | B8: Đào Văn Long | G8: 3.7 | H8: 60 | M8: 1000 | N8: 1000 | P8: 120
A9: 4 | B9: Trương Thị Hợi | G9: 1 | H9: 30
A10: 5 | B10: Đào Văn Tịnh | E10: Công trình phụ | F10: 20 | G10: 4 | H10: 30
A11: 6 | B11: Đặng Văn Hùng | G11: 3 | H11: 24
A12: 7 | B12: Nguyễn Thanh | G12: 1 | H12: 36
A13: 8 | B13: Nguyễn Thái Quý | G13: 5 | H13: 36
A14: 9 | B14: Hoàng văn Khân | G14: 1 | H14: 24
A15: 10 | B15: Phạm văn Toàn | G15: 6 | H15: 36
A16: 11 | B16: Hoàng Thị Lợi | G16: 1 | H16: 36
A17: 12 | B17: Lê Thị Huế | G17: 1 | H17: 24
A18: 13 | B18: Hoàng Văn Đông | G18: 1 | H18: 24
A19: 14 | B19: Thiều Xuân Lộc | G19: 1 | H19: 30
A20: 15 | B20: Doãn Thị Phương | G20: 2 | H20: 30
A21: 16 | B21: Phạm Thị Tâm | G21: 2.8 | H21: 36
A22: 17 | B22: Nguyễn Văn Đức | G22: 1 | H22: 36
A23: 18 | B23: Nguyễn Văn Mạnh | C23: Tốc mái | D23: 50
A24: 19 | B24: Thiều Thị Hoa | G24: 1.8 | H24: 30
A25: 20 | B25: Phạm Văn Huê | E25: Công trình phụ | F25: 20 | G25: 1 | H25: 24
A26: 21 | B26: Thiều Văn Lân | G26: 2 | H26: 24
A27: 22 | B27: Đặng Trung Hậu | G27: 6 | H27: 30
A28: 23 | B28: Đào Văn Hà | G28: 2 | H28: 24
A29: 24 | B29: Đặng Thị Quế | G29: 2 | H29: 48 | M29: 1000 | N29: 1000 | P29: 120
A30: 25 | B30: Đặng Thị Huê | G30: 2 | H30: 42
A31: 26 | B31: Thái Văn Minh | E31: Trại | F31: 100 | G31: 20 | H31: 30
A32: 27 | B32: Phạm Văn Thuật | G32: 4 | H32: 42
A33: 28 | B33: Thiều Văn Tám | G33: 6 | H33: 42 | M33: 1000 | N33: 1000 | P33: 84
A34: 29 | B34: Nguyễn Văn Hiền | G34: 2 | H34: 48
A35: 30 | B35: Nguyễn Mạnh Tấn | G35: 2 | H35: 24 | M35: 2500 | N35: 2500 | P35: 96
A36: 31 | B36: Thiều Xuân Lĩnh | G36: 5 | H36: 48
A37: 32 | B37: Trần Thị Vân | G37: 8 | H37: 36 | I37: 1000 | J37: 1000 | L37: 90 | M37: 3000 | N37: 3000 | P37: 180
A38: 33 | B38: Nguyễn Thị Xuân | G38: 5.5 | H38: 24 | M38: 750 | N38: 750 | P38: 124
A39: 34 | B39: Nguyễn Xuân Lý | M39: 750 | N39: 750 | P39: 98
A40: 35 | B40: Thái Hữu Tình | G40: 11 | H40: 48
A41: 36 | B41: Nguyễn Văn Trinh | G41: 2 | H41: 24
A42: 37 | B42: Lê Trung Học | G42: 4 | H42: 30
A43: 38 | B43: Nguyễn Văn Thành | G43: 5 | H43: 30 | M43: 500 | N43: 500 | P43: 108
A44: 39 | B44: Thái Văn Sơn | G44: 8 | H44: 30
A45: 40 | B45: Nguyễn Thị Hoa | G45: 4 | H45: 24 | M45: 500 | N45: 500 | P45: 98
A46: 41 | B46: Đào Thị Huệ | G46: 17 | H46: 30
A47: 42 | B47: Phạm Hạnh | G47: 7 | H47: 30
A48: 43 | B48: Phạm Văn Kiệm | G48: 2 | H48: 48
A49: 44 | B49: Phạm Văn Lượng | M49: 150 | N49: 150 | P49: 84
A50: 45 | B50: Phạm Văn Nam | G50: 2 | H50: 36
A51: 46 | B51: Nguyễn Văn Hữu | G51: 2 | H51: 36 | I51: 500 | J51: 500 | L51: 180
A52: 47 | B52: Thái Thị Phơn | G52: 1 | H52: 48 | I52: 1000 | J52: 1000 | L52: 180 | M52: 500 | N52: 500 | P52: 142
A53: 48 | B53: Đào Trung Thuyên | G53: 2 | H53: 42 | M53: 500 | N53: 500 | P53: 84
A54: 49 | B54: Nguyễn Văn Quang | E54: Rạp nắng | F54: 100 | G54: 5.5 | H54: 36
A55: 50 | B55: Nguyễn Văn Quân | E55: Rạp nắng | F55: 101 | G55: 5 | H55: 24
A56: 51 | B56: Nguyễn Hữu Thắng | G56: 1.3 | H56: 24
A57: 52 | B57: Nguyễn Thị Miễn | C57: Tốc mái | D57: 100 | G57: 0.75 | H57: 36
A58: 53 | B58: Nguyễn Minh Công | G58: 2 | H58: 36
A59: 54 | B59: Nguyễn Minh Đức | C59: Tốc mái | D59: 10 | G59: 3 | H59: 24 | I59: 1500 | J59: 1500 | L59: 180
A60: 55 | B60: Phạm Thị Tương | C60: Tốc mái | D60: 30 | G60: 2 | H60: 24
A61: 56 | B61: Phạm Xuân Tứ | G61: 5 | H61: 30
A62: 57 | B62: Nguyễn Thị Ả | C62: Tốc mái | D62: 40 | G62: 2 | H62: 24
A63: 58 | B63: Phạm Thành | G63: 4 | H63: 18
A64: 59 | B64: Hoàng Văn Huân | C64: Tốc mái | D64: 20 | G64: 2 | H64: 24
A65: 60 | B65: Hoàng Văn Hào | G65: 4 | H65: 18
A66: 61 | B66: Hoàng Văn Hạnh | G66: 2 | H66: 24
A67: 62 | B67: Phan Thị Thắm | G67: 2 | H67: 48
A68: 63 | B68: Đặng Xuân Bính | E68: Chuồng trại | F68: 50 | G68: 7 | H68: 24 | M68: 1000 | N68: 1000 | P68: 144
A69: 64 | B69: Đỗ Thị Lan | G69: 0.5 | H69: 36
A70: 65 | B70: Đặng Thị Tịnh | E70: Chuồng trại | F70: 80 | G70: 2 | H70: 24 | M70: 400 | N70: 400 | P70: 98
A71: 66 | B71: Nguyễn Duệ | G71: 1 | H71: 12
A72: 67 | B72: Nguyễn Văn Hưng | C72: Tốc mái | D72: 100 | E72: Chuồng trại | F72: 80 | G72: 0.1 | H72: 12
A73: 68 | B73: Nguyễn Thành Long | E73: Chuồng trại | F73: 30 | G73: 1 | H73: 36
A74: 69 | B74: Thái Thị Tuyền | C74: Tốc mái | D74: 30 | G74: 2 | H74: 12
A75: 70 | B75: Nguyễn Mạnh Thắng | E75: Chuồng trại | F75: 80
A76: 71 | B76: Đặng Văn Bốn | E76: Rạp nắng | F76: 50 | G76: 2.5 | H76: 36
A77: 72 | B77: Đặng Văn Thế | G77: 5 | H77: 36
A78: 73 | B78: Đặng Văn Ba | E78: Chuồng trại | F78: 100 | M78: 500 | N78: 500 | P78: 96
A79: 74 | B79: Nguyễn Quốc Chiến | E79: Xưởng mộc | F79: 100 | M79: 500 | N79: 500 | P79: 96
A80: 75 | B80: Nguyễn Thị Hương | C80: Tốc mái | D80: 100 | G80: 1 | H80: 36
A81: 76 | B81: Trần Xuân Hiệp | C81: Tốc mái | D81: 101 | E81: Chuồng trại | F81: 100 | G81: 1 | H81: 24
A82: 77 | B82: Trần Thị Lý | E82: Rạp nắng | F82: 90 | G82: 1.5 | H82: 36
A83: 78 | B83: Thái Văn Anh | C83: Tốc mái | D83: 40 | G83: 2 | H83: 48
A84: 79 | B84: Thái Văn Thuận | E84: Rạp nắng | F84: 100 | G84: 8 | H84: 24 | M84: 1500 | N84: 1500 | P84: 120
A85: 80 | B85: Phạm Văn Quê | E85: Chuồng trại | F85: 50 | G85: 2 | H85: 24 | M85: 500 | N85: 500 | P85: 72
A86: 81 | B86: Nguyễn Tiến Hà | E86: Chuồng trại | F86: 50
A87: 82 | B87: Nguyễn Văn Hàn | G87: 13 | H87: 36
A88: 83 | B88: Bùi Văn Chiều | G88: 2 | H88: 48
A89: 84 | B89: Phùng Văn Soái | E89: Chuồng trại | F89: 80 | G89: 1 | H89: 36
A90: 85 | B90: Nguyễn Văn Dũng | G90: 7 | H90: 24
A91: 86 | B91: Phùng Xuân Tình | E91: Rạp nắng | F91: 70
A92: 87 | B92: Nguyễn Văn Hà | G92: 4 | H92: 42
A93: 88 | B93: Nguyễn Văn Thao | G93: 1 | H93: 30
A94: 89 | B94: Đặng Văn Thuận | E94: Rạp nắng | F94: 80 | G94: 3 | H94: 36
A95: 90 | B95: Nguyễn Đình Lâm | E95: Nhà bếp | F95: 70
A96: 91 | B96: Lê Thị Biểu | G96: 5 | H96: 24
A97: 92 | B97: Hoàng Xuân Lực | G97: 14 | H97: 36
A98: 93 | B98: Võ Thị Nga | G98: 4 | H98: 36
A99: 94 | B99: Bùi Văn Mười | E99: Trại | F99: 70 | G99: 4 | H99: 36
A100: 95 | B100: Bùi Văn Chúc | G100: 4 | H100: 42
...

Sheet HOA SƠN
A1: THÔN HOA SƠN
A2: BIỂU II: DANH SÁCH THIỆT HẠI VỀ CÂY TRỒNG DO BÃO SỐ 10
A3: TT | B3: Tên chủ hộ | C3: Thiệt hại nhà ở | E3: Công trình phụ trợ | G3: Thiệt hại cây lâm nghiệp | I3: Thiệt hại cây hằng năm (dưa hấu, vừng, khoai, ……) | M3: Thiệt hại cây lâu năm (các loại cây ăn quả)
C4: Loại nhà (kiên cố, bán kiên cố, đơn sơ) | D4: Mức độ thiệt hại (%) | E4: Loại công trình | F4: Mức độ thiệt hại (%) | G4: Diện tích (ha) | H4: Thời gian trồng (tháng) | I4: Diện tích (m2) | J4: Mức độ thiệt hại | L4: Thời gian trồng (ngày) | M4: Diện tích (m2) | N4: Mức độ thiệt hại | P4: Thời gian trồng (tháng)
J5: Thiệt hại trên 70% | K5: Thiệt hại từ 30- 70% | N5: Thiệt hại trên 70% | O5: Thiệt hại từ 30- 70%
A6: 1 | B6: Lê Thị Liên | E6: Tốc mái công trình phụ | F6: 100 | G6: 2 | H6: 36
A7: 2 | B7: Trần Thị Hương | E7: Tốc mái công trình phụ | F7: 80 | G7: 2 | H7: 18 | M7: 600 | N7: 600 | P7: 36
A8: 3 | B8: Nguyễn Văn Thành (T) | C8: Tốc mái | D8: 30 | E8: Tốc mái rạp nắng | F8: 50 | G8: 1 | H8: 24 | I8: 50 | J8: 50 | L8: 30 | M8: 150 | N8: 150 | P8: 42
A9: 4 | B9: Đặng Văn Chiểu | E9: Tốc mái công trình phụ | F9: 100
A10: 5 | B10: Nguyễn Thị Kiểm | G10: 6.1 | H10: 24 | I10: 100 | J10: 100 | L10: 60
A11: 6 | B11: Lê Cao Thắng | C11: Tốc mái | D11: 42 | E11: Tốc mái công trình phụ | F11: 50 | G11: 0.3 | H11: 36
A12: 7 | B12: Đào Quốc Tuấn | C12: Tốc mái | D12: 50 | E12: Tốc mái công trình phụ | F12: 50 | G12: 3 | H12: 24 | M12: 1000 | N12: 1000 | P12: 24
A13: 8 | B13: Nguyễn Văn Dũng | G13: 1 | H13: 60
A14: 9 | B14: Trần Văn Lĩnh | E14: Tốc mái công trình phụ | F14: 60 | G14: 2.5 | H14: 48 | M14: 1500 | N14: 1500 | P14: 24
A15: 10 | B15: Đào Văn Anh | E15: Tốc mái công trình phụ | F15: 90 | G15: 2 | H15: 42 | M15: 500 | N15: 500 | P15: 12
A16: 11 | B16: Nguyễn Văn Thọ | C16: Tốc mái | D16: 80 | G16: 2 | H16: 48 | I16: 500 | J16: 500 | L16: 90 | M16: 1000 | N16: 1000 | P16: 24
A17: 12 | B17: Đào Thị Hải | C17: Tốc mái | D17: 40 | G17: 1 | H17: 42
A18: 13 | B18: Trần Xuân Quyền | G18: 1 | H18: 12
A19: 14 | B19: Nguyễn Văn Thành (H) | E19: Tốc mái công trình phụ | F19: 50 | G19: 4 | H19: 36 | M19: 500 | N19: 500 | P19: 12
A20: 15 | B20: Phạm Thị Thu Huyền | G20: 1 | H20: 30
A21: 16 | B21: Trần Xuân Lộc | E21: Tốc mái công trình phụ | F21: 100 | G21: 7 | H21: 36 | M21: 1500 | N21: 1500 | P21: 24
A22: 17 | B22: Trần Xuân Mời | C22: Tốc mái | D22: 40 | E22: Tốc mái rạp nắng | F22: 75 | G22: 2 | H22: 48
A23: 18 | B23: Lê Văn Hùng | E23: Tốc mái công trình phụ | F23: 50 | G23: 1.5 | H23: 36
A24: 19 | B24: Nguyễn Thị Tuyển | G24: 0.19 | H24: 36
A25: 20 | B25: Hoàng Thị Thủy | C25: Tốc mái | D25: 50 | E25: Tốc mái công trình phụ | F25: 50 | G25: 1 | H25: 72
A26: 21 | B26: Nguyễn Văn Quý | G26: 6 | H26: 24
A27: 22 | B27: Đào Văn Nhân | C27: Tốc mái | D27: 80 | E27: Tốc mái công trình phụ | F27: 80 | G27: 1 | H27: 18 | M27: 400 | N27: 400 | P27: 36
A28: 23 | B28: Hoàng Ngọc Đáng | G28: 1.9 | H28: 30
A29: 24 | B29: Hoàng Ngọc Thịnh | E29: Tốc mái công trình phụ | F29: 100 | G29: 0.1 | H29: 36
A30: 25 | B30: Hoàng Văn Thuận | C30: Tốc mái | D30: 50 | E30: Tốc mái công trình phụ | F30: 50 | G30: 1 | H30: 42
A31: 26 | B31: Lê Anh Dũng | C31: Tốc mái | D31: 100 | E31: Tốc mái công trình phụ | F31: 100
A32: 27 | B32: Nguyễn Thị Dung Trung) | G32: 2 | H32: 36
A33: 28 | B33: Nguyễn Tiến Khiêm | E33: Tốc mái rạp nắng | F33: 30 | G33: 6 | H33: 30
A34: 29 | B34: Phan Văn Lượng | E34: Tốc mái nhà xưởng | F34: 30 | G34: 4.5 | H34: 36
A35: 30 | B35: Phan Công Tửu | G35: 4 | H35: 24 | M35: 1000 | N35: 1000 | P35: 60
A36: 31 | B36: Phan Công Dũng | E36: Tốc mái nhà bếp | F36: 50 | G36: 2 | H36: 48 | I36: 500 | J36: 500 | L36: 60
A37: 32 | B37: Phạm Thành Trung | G37: 0.1 | H37: 36 | M37: 300 | N37: 300 | P37: 48
A38: 33 | B38: Phan Văn Giang | E38: Tốc mái chuồng trại | F38: 50 | G38: 8 | H38: 36
A39: 34 | B39: Lê Văn Đức | E39: Tốc mái rạp nắng | F39: 100 | G39: 3 | H39: 36 | I39: 500 | J39: 500 | L39: 180
A40: 35 | B40: Nguyễn Văn Trung | C40: Tốc mái | D40: 20 | E40: Tốc mái công trình phụ | F40: 80 | G40: 1.5 | H40: 24 | M40: 300 | N40: 300 | P40: 36
A41: 36 | B41: Nguyễn Thị Viền | E41: Tốc mái nhà bếp | F41: 60 | G41: 1.5 | H41: 24 | M41: 100 | N41: 100 | P41: 72
A42: 37 | B42: Phan Văn Bé | G42: 5 | H42: 48
A43: 38 | B43: Phan Công Thị | E43: Tốc mái rạp nắng | G43: 17 | H43: 36
A44: 39 | B44: Trần Quang Trung | C44: Tốc mái | D44: 20 | E44: Tốc mái rạp nắng | F44: 100 | G44: 2 | H44: 36 | I44: 5600 | J44: 5600 | L44: 360 | M44: 800 | N44: 800 | P44: 108
A45: 40 | B45: Đặng Văn Tịnh | G45: 3 | H45: 48 | M45: 400 | N45: 400 | P45: 12
A46: 41 | B46: Nguyễn Văn Chương | E46: Tốc mái công trình phụ | F46: 70 | I46: 500 | J46: 500 | L46: 240 | M46: 500 | N46: 500 | P46: 12
A47: 42 | B47: Đào Quốc Tú | E47: Tốc mái công trình phụ | F47: 70 | G47: 2 | H47: 36 | I47: 1000 | J47: 1000 | L47: 180 | M47: 200 | N47: 200 | P47: 24
A48: 43 | B48: Đào Xuân Đồng | C48: Tốc mái | D48: 30 | E48: Tốc mái công trình phụ | F48: 60 | G48: 2.5 | H48: 48 | M48: 300 | N48: 300 | P48: 120
A49: 44 | B49: Phan Thị Nguyệt | C49: Tốc mái | D49: 75 | G49: 1 | H49: 36
A50: 45 | B50: Lê Văn Hiệp | E50: Tốc mái rạp nắng | F50: 30 | G50: 3 | H50: 30 | M50: 400 | N50: 400 | P50: 84
A51: 46 | B51: Nguyễn Thị Cảnh | C51: Tốc mái | D51: 20 | I51: 1000 | J51: 1000 | L51: 60
A52: 47 | B52: Đặng Thị Yến | C52: Tốc mái | D52: 30 | E52: Tốc mái công trình phụ | F52: 100 | G52: 7 | H52: 42 | I52: 200 | J52: 200 | L52: 60 | M52: 1000 | N52: 1000 | P52: 120
A53: 48 | B53: Nguyễn Tiến Lan | E53: Tốc mái nhà bếp | F53: 20 | G53: 1 | H53: 24
A54: 49 | B54: Nguyễn Văn Huy | E54: Tốc mái nhà bếp | F54: 100 | G54: 1 | H54: 24
A55: 50 | B55: Nguyễn Thị Hiền | G55: 1.2 | H55: 42
A56: 51 | B56: Nguyễn Văn Oanh | E56: Tốc mái công trình phụ | F56: 100 | G56: 0.1 | H56: 24
A57: 52 | B57: Nguyễn Thị Kim Anh | G57: 5 | H57: 36
A58: 53 | B58: Hoàng Văn Học | E58: Tốc mái nhà bếp | F58: 100 | G58: 6 | H58: 36
A59: 54 | B59: Hoàng Đức Khoa | E59: Tốc mái rạp nắng | F59: 30 | G59: 10 | H59: 48 | M59: 300 | N59: 300 | P59: 60
A60: 55 | B60: Đào Văn Phương | M60: 500 | N60: 500 | P60: 48
A61: 56 | B61: Trần Văn Phong | E61: Tốc mái chuồng trại | F61: 100 | G61: 3.25 | H61: 36 | M61: 100 | N61: 100 | P61: 180
A62: 57 | B62: Trần Văn Quỳnh | C62: Tốc mái | D62: 50 | E62: Tốc mái công trình phụ | F62: 70 | G62: 3 | H62: 180 | I62: 1100 | J62: 1100 | L62: 360 | M62: 800 | N62: 800 | P62: 84
A63: 58 | B63: Lê Văn Quý | E63: Tốc mái rạp nắng | F63: 100 | G63: 10 | H63: 36
A64: 59 | B64: Nguyễn Thị Hoa | G64: 13 | H64: 36 | M64: 100 | N64: 100 | P64: 216
A65: 60 | B65: Hoàng Văn Chương | C65: Tốc mái | D65: 100 | E65: Tốc mái trại | F65: 50 | G65: 6.2 | H65: 30 | M65: 5000 | N65: 5000 | P65: 150
A66: 61 | B66: Nguyễn Văn Cử | C66: Tốc mái | D66: 30 | E66: Tốc mái công trình phụ | F66: 70 | G66: 5 | H66: 36 | I66: 1000 | J66: 1000 | L66: 60 | M66: 300 | N66: 300 | P66: 120
A67: 62 | B67: Nguyễn Văn Yên | C67: Tốc mái | D67: 30 | E67: Tốc mái công trình phụ | F67: 40 | G67: 4 | H67: 36 | M67: 300 | N67: 300 | P67: 60
A68: 63 | B68: Đào Văn Lượng | C68: Tốc mái | D68: 40 | E68: Tốc mái công trình phụ | F68: 80 | M68: 500 | N68: 500 | P68: 24
A69: 64 | B69: Phạm Thị Mỹ | C69: Tốc mái | D69: 30 | E69: Tốc mái công trình phụ | F69: 40 | G69: 10 | H69: 24 | I69: 1000 | J69: 1000 | L69: 60 | M69: 100 | N69: 100 | P69: 60
A70: 65 | B70: Phạm Xuân Sỹ | C70: Tốc mái | D70: 50 | E70: Tốc mái công trình phụ | F70: 70 | G70: 4 | H70: 48 | M70: 300 | N70: 300 | P70: 80
A71: 66 | B71: Nguyễn Văn Mến | G71: 6.5 | H71: 24 | M71: 900 | N71: 900 | P71: 96
A72: 67 | B72: Nguyễn Thị Bình | E72: Tốc mái nhà bếp | F72: 60 | G72: 2 | H72: 24 | M72: 400 | N72: 400 | P72: 24
A73: 68 | B73: Trần Thị Mến | E73: Tốc mái rạp nắng | F73: 100 | G73: 3 | H73: 24
A74: 69 | B74: Trần Văn Độ | E74: Tốc mái công trình phụ | F74: 70 | G74: 4 | H74: 48 | M74: 700 | N74: 700 | P74: 48
A75: 70 | B75: Nguyễn Tiến Lý | G75: 6 | H75: 42 | M75: 200 | N75: 200 | P75: 48
A76: 71 | B76: Nguyễn Thị Bình (Tuyển) | C76: Tốc mái | D76: 20 | G76: 2 | H76: 36
A77: 72 | B77: Nguyễn Văn Hoàng | E77: Tốc mái chuồng trại | F77: 80 | G77: 4 | H77: 39 | M77: 500 | N77: 500 | P77: 50
B78: TỔNG | G78: =SUM(G6:G77) -> 235.94 | I78: =SUM(I6:I77) -> 13050 | J78: =SUM(J6:J77) -> 13050 | K78: =SUM(K6:K77) -> 0 | M78: =SUM(M7:M77) -> 23450 | N78: =SUM(N7:N77) -> 23450 | O78: =SUM(O7:O77) -> 0
K79: Ngày tháng 10 năm 2025
A80: ĐOÀN CÔNG TÁC | K80: TRƯỞNG THÔN

Sheet XUÂN THỌ
A1: THÔN XUÂN THỌ
A2: BIỂU II: DANH SÁCH THIỆT HẠI VỀ CÂY TRỒNG DO BÃO SỐ 10
A3: TT | B3: Tên chủ hộ | C3: Thiệt hại nhà ở | E3: Công trình phụ trợ | G3: Thiệt hại cây lâm nghiệp | I3: Thiệt hại cây hằng năm (dưa hấu, vừng, khoai, ……) | M3: Thiệt hại cây lâu năm (các loại cây ăn quả)
C4: Loại nhà (kiên cố, bán kiên cố, đơn sơ) | D4: Mức độ thiệt hại (%) | E4: Loại công trình | F4: Mức độ thiệt hại (%) | G4: Diện tích (ha) | H4: Thời gian trồng (tháng) | I4: Diện tích (m2) | J4: Mức độ thiệt hại | L4: Thời gian trồng (ngày) | M4: Diện tích (m2) | N4: Mức độ thiệt hại | P4: Thời gian trồng (tháng)
J5: Thiệt hại trên 70% | K5: Thiệt hại từ 30- 70% | N5: Thiệt hại trên 70% | O5: Thiệt hại từ 30- 70%
A6: 1 | B6: Tăng Thị Huệ | C6: Bán kiên cố | D6: 80 | E6: Công trình phụ | F6: 10 | I6: 480 | J6: 480 | L6: 190
A7: 2 | B7: Phan Thanh Bình | C7: Kiên cố | D7: 30
A8: 3 | B8: Phan Hồng Sơn | G8: 8.9 | H8: 30
A9: 4 | B9: Tăng Anh Thuỷ | G9: 2.2 | H9: 24
A10: 5 | B10: Phạm Quang Đào | C10: Kiên cố | D10: 10 | E10: Công trình phụ | F10: 10
A11: 6 | B11: Tăng Văn Lành | C11: Bán kiên cố | D11: 30 | E11: Công trình phụ | F11: 30
A12: 7 | B12: Bùi Quang Tiến | E12: Công trình phụ | F12: 40
A13: 8 | B13: Phạm Xuân Đông | C13: Kiên cố | D13: 20 | I13: 250 | J13: 250 | L13: 90
A14: 9 | B14: Thái Thị Huê | I14: 500 | J14: 500 | L14: 90
A15: 10 | B15: Bùi Xuân Nghĩa | E15: Hàng rào | F15: 100m | I15: 100 | J15: 100 | L15: 90
A16: 11 | B16: Bùi Xuân Thành | C16: Kiên cố | D16: 10 | M16: 300 | O16: 300 | P16: 24
A17: 12 | B17: Dương Đình Long | E17: Xưởng Mộc | F17: 20
A18: 13 | B18: Tăng văn Hiền | C18: Bán kiên cố | D18: 0,5
A19: 14 | B19: Tăng Ngọc Anh | C19: Bán kiên cố | D19: 10
A20: 15 | B20: Lê Thị Sen | C20: Bán kiên cố | D20: 30 | E20: Công trình phụ | F20: 80 | I20: 50 | J20: 50
A21: 16 | B21: Biện Thị Khanh | E21: Đỏ hàng rào | F21: 5m | I21: 400 | J21: 400 | L21: 60
A22: 17 | B22: Hoàng Thị Hiền | C22: Bán kiên cố | D22: 20
A23: 18 | B23: Phan Văn Dung | C23: Kiên cố | D23: 30
A24: 19 | B24: Phạm Đình Duyên | C24: Bán kiên cố | D24: 20
A25: 20 | B25: Nguyễn Xuân Sơn | C25: Bán kiên cố | D25: 10 | E25: Công trình phụ | F25: 100 | M25: 200 | N25: 200 | P25: 36
A26: 21 | B26: Phan Hồng Cúc | C26: Bán kiên cố | D26: 20 | E26: Công trình phụ | F26: 80
A27: 22 | B27: Bùi Quốc Khanh | E27: Rạp nắng | F27: 100
A28: 23 | B28: Nguyễn Thị Hương | E28: Rạp nắng | F28: 10
A29: 24 | B29: Phan Văn Bảy | C29: Bán kiên cố | D29: 15 | E29: Cổng sắt | F29: Bị đổ
A30: 25 | B30: Phạm Ngọc Thành | C30: Kiên cố | D30: 10
A31: 26 | B31: Lê Thị Vân | C31: Kiên cố | D31: 0,5
A32: 27 | B32: Nguyễn Văn Ánh | E32: Công trình phụ | F32: 40 | G32: 2 | H32: 36 | M32: 100 | N32: 100 | P32: 60
B33: Bùi Quang Trung | G33: 3.7 | H33: 54
B36: Tổng | G36: =SUM(G6:G33) -> 16.8 | I36: =SUM(I6:I32) -> 1780 | J36: =SUM(J6:J32) -> 1780 | K36: =SUM(K6:K32) -> 0 | M36: =SUM(M6:M32) -> 600 | N36: =SUM(N6:N32) -> 300 | O36: =SUM(O6:O32) -> 300
J37: Ngày tháng 10 năm 2025
A38: ĐOÀN CÔNG TÁC | J38: TRƯỞNG THÔN

Sheet TẤN SƠN
A1: THÔN TẤN SƠN
A2: BIỂU II: DANH SÁCH THIỆT HẠI VỀ CÂY TRỒNG DO BÃO SỐ 10
A3: TT | B3: Tên chủ hộ | C3: Thiệt hại nhà ở | E3: Công trình phụ trợ | G3: Thiệt hại cây lâm nghiệp | I3: Thiệt hại cây hằng năm (dưa hấu, vừng, khoai, ……) | M3: Thiệt hại cây lâu năm (các loại cây ăn quả)
C4: Loại nhà (kiên cố, bán kiên cố, đơn sơ) | D4: Mức độ thiệt hại (%) | E4: Loại công trình | F4: Mức độ thiệt hại (%) | G4: Diện tích (ha) | H4: Thời gian trồng (tháng) | I4: Diện tích (m2) | J4: Mức độ thiệt hại | L4: Thời gian trồng (ngày) | M4: Diện tích (m2) | N4: Mức độ thiệt hại | P4: Thời gian trồng (tháng)
J5: Thiệt hại trên 70% | K5: Thiệt hại từ 30- 70% | N5: Thiệt hại trên 70% | O5: Thiệt hại từ 30- 70%
A6: 1 | B6: Nguyễn Văn Bốn | G6: 0.6 | H6: 24
A7: 2 | B7: Nguyễn Văn Đàn | G7: 10 | H7: 30 | M7: 500 | N7: 500 | P7: 78
A8: 3 | B8: Nguyễn Đình Bảo | G8: 1 | H8: 24
A9: 4 | B9: Hoàng Xuân Trung | G9: 1 | H9: 24
A10: 5 | B10: Hoàng Xuân Hùng | G10: 1 | H10: 36
A11: 6 | B11: Hoàng Văn Sơn | C11: Tốc mái | D11: 30 | E11: Chuồng trại | F11: 40 | G11: 1 | H11: 24
A12: 7 | B12: Hoàng Thị Mai | G12: 1 | H12: 24
A13: 8 | B13: Phan Văn Linh | C13: Tốc mái | D13: 50
A14: 9 | B14: Phan Văn Xuân | C14: Tốc mái | D14: 50 | G14: 1 | H14: 24
A15: 10 | B15: Phan Văn Nhung | C15: Tốc mái | D15: 50 | G15: 2.05 | H15: 24
A16: 11 | B16: Hoàng Văn Hiền | G16: 4 | H16: 24
A17: 12 | B17: Lê Văn Hoàng | C17: Tốc mái | D17: 50 | G17: 5 | H17: 24
A18: 13 | B18: Nguyễn Thị Thuỷ | C18: Tốc mái | D18: 30 | G18: 0.25 | H18: 24
A19: 14 | B19: Bùi Thị Dung | G19: 3 | H19: 24
A20: 15 | B20: Phạm Đình Huệ | C20: Tốc mái | D20: 80 | G20: 5 | H20: 54
A21: 16 | B21: Nguyễn Văn Thìn | G21: 1.12 | H21: 36
A22: 17 | B22: Hoàng Văn Đợi | G22: 8 | H22: 30
A23: 18 | B23: Hoàng Thanh Cảnh | G23: 6.2 | H23: 96
A24: 19 | B24: Vũ Văn Dũng | C24: Tốc mái | D24: 30 | G24: 1.5 | H24: 24
A25: 20 | B25: Vũ Văn Sự | G25: 3 | H25: 24
A26: 21 | B26: Nguyễn Văn Đoài | G26: 2 | H26: 24
A27: 22 | B27: Lê Đình Hùng | G27: 1 | H27: 24
A28: 23 | B28: Nguyễn Văn Hà | E28: Bếp nấu | F28: 50 | G28: 1 | H28: 24
A29: 24 | B29: Hoàng Văn Huề | G29: 0.6 | H29: 48
A30: 25 | B30: Hoàng thị Khành | C30: Tốc mái | D30: 40
A31: 26 | B31: Lê Công Minh | G31: 2 | H31: 24 | M31: 5000 | N31: 5000 | P31: 60
A32: 27 | B32: Nguyễn Anh Ngọc | G32: 4 | H32: 30 | M32: 2000 | N32: 2000 | P32: 120
A33: 28 | B33: Nguyễn Tiến Cường | C33: Tốc mái | D33: 50 | G33: 1.5 | H33: 30
A34: 29 | B34: Đặng Văn Cường | G34: 5 | H34: 24
A35: 30 | B35: Hoàng văn Hiển | G35: 2 | H35: 24
A36: 31 | B36: Nguyễn Thị Lộc | C36: Tốc mái | D36: 30
A37: 32 | B37: Hoàng Văn Lợi | G37: 1 | H37: 24
A38: 33 | B38: Hoàng Đức Thắng | G38: 3.6 | H38: 369
A39: 34 | B39: Nguyễn Thị Hiệu | C39: Tốc mái | D39: 50
A40: 35 | B40: Nguyễn Văn Lộc | G40: 20 | H40: 24 | I40: 3000 | J40: 3000 | L40: 180 | M40: 25000 | N40: 25000 | P40: 120
A41: 36 | B41: Đào Văn Bình | G41: 6 | H41: 42
A42: 37 | B42: Hoàng Thị Huệ | C42: Tốc mái | D42: 65 | E42: Công trình phụ | F42: 70 | G42: 2 | H42: 24
A43: 38 | B43: Phan Văn Tiến | C43: Tốc mái | D43: 70 | I43: 1000 | J43: 1000 | L43: 84
A44: 39 | B44: Đặng văn Dũng | C44: Tốc mái | D44: 10 | G44: 6 | H44: 36
A45: 40 | B45: Trần Đình Nam | G45: 3.5 | H45: 24
A46: 41 | B46: Nguyễn Đình Thắng | E46: Tốc mái ông trình phụ | F46: 100 | G46: 2 | H46: 24
A47: 42 | B47: Nguyễn Thị Toàn | G47: 4.5 | H47: 24
A48: 43 | B48: Phạm Văn Hùng | C48: Tốc mái | D48: 70 | G48: 2 | H48: 36
A49: 44 | B49: Nguyễn Thị Lý | E49: Xưởng mộc | F49: 100
A50: 45 | B50: Hoàng Xuân Hoà | G50: 12 | H50: 30
A51: 46 | B51: Hoàng Văn Toàn | G51: 0.25 | H51: 30
A52: 47 | B52: Nguyễn Văn Diễn | C52: Tốc mái | D52: 30 | E52: Nhà bếp | F52: 40 | G52: 0.1 | H52: 24
A53: 48 | B53: Nguyễn Đình Tiến | C53: Tốc mái | D53: 30 | G53: 0.03 | H53: 24
A54: 49 | B54: Phạm Thị Chiến | G54: 0.1 | H54: 12
A55: 50 | B55: Nguyễn Đức Toàn | G55: 0.1 | H55: 24
A56: 51 | B56: Đặng Thị Hoà | G56: 0.5 | H56: 24
A57: 52 | B57: Hoàng Thị Thanh | C57: Tốc mái | D57: 30 | G57: 3 | H57: 48
A58: 53 | B58: Thái Hữu Biểu | C58: Tốc mái | D58: 20 | G58: 0.1 | H58: 24
A59: 54 | B59: Nguyễn Văn Hảo | E59: Rạp nắng | F59: 30
A60: 55 | B60: Đặng Thị Lĩnh | C60: Tốc mái | D60: 50 | E60: Nhà bếp | F60: 60 | G60: 2 | H60: 18
A61: 56 | B61: Phạm Thị Hạnh | C61: Tốc mái | D61: 90 | G61: 1.5 | H61: 24
A62: 57 | B62: Phan Thanh Hương | C62: Tốc mái | D62: 80 | E62: Nhà bếp | F62: 80 | G62: 2 | H62: 24
A63: 58 | B63: Phan Văn Nam | C63: Tốc mái | D63: 50 | E63: Chuồng trại | F63: 100 | G63: 2 | H63: 18 | I63: 1000 | J63: 1000 | L63: 78
A64: 59 | B64: Lê Thị Lâm | E64: Rạp nắng | F64: 30
A65: 60 | B65: Thái Thị Lương | C65: Tốc mái | D65: 30 | G65: 2 | H65: 24
A66: 61 | B66: Hoàng Xuân Sữu | C66: Tốc mái | D66: 80 | E66: Công trình phụ | F66: 80 | I66: 300 | J66: 300 | L66: 60 | M66: 300 | N66: 300 | P66: 60
A67: 62 | B67: Lê Đình Sáng | G67: 6 | H67: 36
A68: 63 | B68: Nguyễn Xuân Hương | E68: Chuồng trại | F68: 90 | G68: 11 | H68: 36
A69: 64 | B69: Lê Thị Hoa | E69: Chuồng trại | F69: 50 | G69: 3 | H69: 48
A70: 65 | B70: Nguyễn Khánh Dư | G70: 19 | H70: 30
A71: 66 | B71: Nguyễn Văn Đức | G71: 1 | H71: 36
A72: 67 | B72: Đặng Thị Nguyên | C72: Tốc mái | D72: 80 | E72: Cồn trình phụ | F72: 60 | I72: 400 | J72: 400 | L72: 18 | M72: 100 | N72: 100 | P72: 84
A73: 68 | B73: Trần Thị Kiệm | E73: Rạp nắng | F73: 80
A74: 69 | B74: Nguyễn Quốc Lộc | G74: 5.6 | H74: 30
A75: 70 | B75: Nguyễn Văn Thảo | G75: 3.5 | H75: 40
A76: 71 | B76: Độ Thị Lan | C76: Tốc mái | D76: 40 | E76: Nhà bếp | F76: 30 | I76: 140 | J76: 140 | L76: 90
A77: 72 | B77: Tăng Văn Hùng | G77: 10 | H77: 30
A78: 73 | B78: Nguyễn Quốc Tiến | G78: 5 | H78: 18
A79: 74 | B79: Nguyễn Văn Hoà | C79: Tốc mái | D79: 60 | E79: Công trình phụ | F79: 50 | G79: 0.55 | H79: 36
A80: 75 | B80: Lê Văn Giáp | C80: Tốc mái | D80: 50 | E80: Công trình phụ | F80: 80
A81: 76 | B81: Nguyễn Hồng Thắng | G81: 3 | H81: 54
A82: 77 | B82: Nguyễn Văn Hoàn | G82: 0.4 | H82: 36
A83: 78 | B83: Lê Xuân Hoà | C83: Tốc mái | D83: 50
A84: 79 | B84: Nguyễn Văn Huê | G84: 3 | H84: 48
A85: 80 | B85: Nguyễn Tiến Cung | C85: Tốc mái | D85: 20 | E85: Công trình phụ | F85: 20 | G85: 2 | H85: 36 | M85: 500 | N85: 500 | P85: 60
A86: 81 | B86: Nguyễn Công Thành | C86: Tốc mái | D86: 30 | E86: Công trình phụ | F86: 40 | I86: 100 | J86: 100 | L86: 60 | M86: 300 | N86: 300 | P86: 60
A87: 82 | B87: Nguyễn Thị Quế | G87: 4 | H87: 24
A88: 83 | B88: Lê Văn Cử | G88: 2 | H88: 36
A89: 84 | B89: Phan Thị Ánh Nguyệt | C89: Tốc mái | D89: 50 | G89: 0.15 | H89: 36
A90: 85 | B90: Lê Thanh Hoà | C90: Tốc mái | D90: 20 | G90: 0.05 | H90: 36
A91: 86 | B91: Thái Xuân Danh | G91: 2.5 | H91: 36
A92: 87 | B92: Thái Hữu Tiến | G92: 7 | H92: 36
A93: 88 | B93: Nguyễn Thị Xuân | G93: 1 | H93: 24
A94: 89 | B94: Trương Văn Hứng | G94: 4 | H94: 24
A95: 90 | B95: Nguyễn Văn Việt | G95: 2.7 | H95: 12
A96: 91 | B96: Nguyễn Thị Tâm | E96: Rạp nắng | F96: 30
A97: 92 | B97: Nguyễn Cao Kỳ | E97: Rạp nắng | F97: 40
A98: 93 | B98: Nguyễn Văn Cảnh | C98: Tốc mái | D98: 30 | G98: 1 | H98: 18
A99: 94 | B99: Lê Thị Thuý | G99: 0.1 | H99: 30
A100: 95 | B100: Đặng Thị Thuý | C100: Tốc mái | D100: 30 | G100: 3 | H100: 24 | I100: 1000 | J100: 1000 | L100: 180 | M100: 548 | N100: 548 | P100: 144
...

Sheet ĐÔNG VĂN
A1: THÔN ĐÔNG VĂN
A2: BIỂU II: DANH SÁCH THIỆT HẠI VỀ CÂY TRỒNG DO BÃO SỐ 10
A3: TT | B3: Tên chủ hộ | C3: Thiệt hại nhà ở | E3: Công trình phụ trợ | G3: Thiệt hại cây lâm nghiệp | I3: Thiệt hại cây hằng năm (dưa hấu, vừng, khoai, ……) | M3: Thiệt hại cây lâu năm (các loại cây ăn quả)
C4: Loại nhà (kiên cố, bán kiên cố, đơn sơ) | D4: Mức độ thiệt hại (%) | E4: Loại công trình | F4: Mức độ thiệt hại (%) | G4: Diện tích (ha) | H4: Thời gian trồng (tháng) | I4: Diện tích (m2) | J4: Mức độ thiệt hại | L4: Thời gian trồng (ngày) | M4: Diện tích (m2) | N4: Mức độ thiệt hại | P4: Thời gian trồng (tháng)
J5: Thiệt hại trên 70% | K5: Thiệt hại từ 30- 70% | N5: Thiệt hại trên 70% | O5: Thiệt hại từ 30- 70%
A6: 1 | B6: Võ Thị Hạo | C6: Bán kiên cố | D6: 50 | E6: Rạp nắng | F6: 100
A7: 2 | B7: Nguyễn Thị Thuỵn | C7: Bán kiên cố | D7: 10 | E7: Rạp nắng | F7: 50
A8: 3 | B8: Lê Trung Đình | G8: 3 | H8: 36
A9: 4 | B9: Nguyễn Ngọc Quỳnh | G9: 3 | H9: 36
A10: 5 | B10: Trương Xuân Việt | E10: Quán | F10: 35 | I10: 100 | K10: 100
A11: 6 | B11: Nguyễn Cao Thắng | C11: Bán kiên cố | D11: 10 | E11: Rạp nắng | F11: 30
A12: 7 | B12: Trần Văn Hùng | C12: Bán kiên cố | D12: 20 | E12: Rạp nắng | F12: 100
A13: 8 | B13: Nguyễn Hữu Thọ | C13: Bán kiên cố | D13: 10 | E13: Nhà bếp | F13: 30 | M13: 2000 | N13: 2000 | P13: 60
A14: 9 | B14: Phạm Trọng Nhân | E14: Nhà bếp | F14: 50 | M14: 100 | N14: 100 | P14: 60
A15: 10 | B15: Phạm Xuân Biên | G15: 25 | H15: 36
A16: 11 | B16: Nguyễn Tiến Khoa | E16: Nhà bếp | F16: 70 | M16: 120 | N16: 120 | P16: 132
A17: 12 | B17: Nguyễn Anh Nhật | C17: Bán kiên cố | D17: 40 | E17: Rạp nắng | F17: 50 | G17: 3.5 | H17: 24
A18: 13 | B18: Nguyễn Thị Lài | C18: Bán kiên cố | D18: 20 | E18: Rạp nắng | F18: 70
A19: 14 | B19: Nguyễn Trọng Mính | C19: Bán kiên cố | D19: 30 | E19: Rạp nắng | F19: 100
A20: 15 | B20: Phạm Hồng Thuận | G20: 2.5 | H20: 24
A21: 16 | B21: Nguyễn Xuân Huyến | G21: 1 | H21: 24
A22: 17 | B22: Nguyễn Lý Huỳnh | C22: Bán kiên cố | D22: 10 | G22: 3 | H22: 40
A23: 18 | B23: Nguyễn Anh Sơn | G23: 2 | H23: 36
A24: 19 | B24: Thái Thị Quế | C24: Bán kiên cố | D24: 50 | E24: Rạp nắng | F24: 50
A25: 20 | B25: Nguyễn Thị Khánh | E25: Rạp nắng | F25: 100 | G25: 1 | H25: 36
A26: 21 | B26: Lê Thị Hoà | C26: Nhà Tốc mái | D26: 80
A27: 22 | B27: Đào Thị Thanh Lam | E27: Rạp nắng | F27: 20 | G27: 3 | H27: 36
A28: 23 | B28: Trương Văn Hiệp | G28: 1.5 | H28: 36
A29: 24 | B29: Nguyễn Văn Thành | G29: 10 | H29: 48
A30: 25 | B30: Nguyễn Phúc Trinh | G30: 10 | H30: 48
A31: 26 | B31: Nguyễn Tiến Sau | G31: 0.5 | H31: 48
A32: 27 | B32: Nguyễn Văn Bằng | G32: 6 | H32: 48
A33: 28 | B33: Nguyễn Thị Lợi | C33: Bán kiên cố | D33: 15 | E33: Rạp nắng | F33: 25
A34: 29 | B34: Nguyễn Văn cừ | C34: Bán kiên cố | D34: 15 | E34: Công trình phụ | F34: 100 | G34: 0.04 | H34: 48
A35: 30 | B35: Nguyễn Hoa Long | C35: Nhà tốc mái | D35: 40 | G35: 0.05 | H35: 60
A36: 31 | B36: Võ Minh Thế | G36: 1 | H36: 48
A37: 32 | B37: Võ Minh Xuân | G37: 0.1 | H37: 36
A38: 33 | B38: Lê Xuân Hồng | C38: Bán kiên cố | D38: 15 | E38: Công trình phụ | F38: 40 | G38: 1.7 | H38: 54
A39: 34 | B39: Lê Hữu Tình | E39: Công trình phụ | F39: 40 | G39: 2.4 | H39: 30 | I39: 500 | J39: 500
A40: 35 | B40: Nguyễn Thị Hương | G40: 1 | H40: 36
A41: 36 | B41: Nguyễn Huy Hoàng | G41: 1.5 | H41: 42
A42: 37 | B42: Hoàng Thị Chung | G42: 3 | H42: 48
A43: 38 | B43: Nguyễn Thị Minh Trâm | G43: 2 | H43: 42
A44: 39 | B44: Nguyễn Thị Hồng | G44: 2 | H44: 30
A45: 40 | B45: Hoàng Văn Thợi | E45: Nhà bếp | F45: 100
A46: 41 | B46: Nguyễn Thị Tiếp | E46: Rạp nắng | F46: 20
A47: 42 | B47: Tô Ngọc Huy | E47: Xưởng đá | F47: 50
A48: 43 | B48: Nguyễn Thị Hạnh | E48: Rạp nắng | F48: 30
A49: 44 | B49: Lê Đăng Lưu | E49: Rạp nắng | F49: 80
A50: 45 | B50: Nguyễn Tiến Miên | C50: Bán kiên cố | D50: 15 | G50: 9 | H50: 36
A51: 46 | B51: Nguyễn Trọng Xuyn | C51: Bán kiên cố | D51: 15 | E51: Cônng trình phụ | F51: 30
A52: 47 | B52: Nguyễn Chí Thanh | C52: Bán kiên cố | D52: 20
A53: 48 | B53: Phạm Hải Lý | C53: Bán kiên cố | D53: 20 | E53: Cônng trình phụ | F53: 70
A54: 49 | B54: Nguyễn Thị Lương | G54: 1 | H54: 30
A55: 50 | B55: Võ Xuân Hương | G55: 1 | H55: 36
A56: 51 | B56: Nguyễn Văn Thuyết | G56: 2 | H56: 36 | Q56: Sửa tên
A57: 52 | B57: Nguyễn Thị Sơn | G57: 1 | H57: 36
A58: 53 | B58: Nguyễn Xuân Duyên | C58: Bán kiên cố | D58: 20 | E58: Rạp nắng | F58: 30
A59: 54 | B59: Phạm Thị Liên | C59: Bán kiên cố | D59: 20 | E59: Nhà bếp | F59: 10
A60: 55 | B60: Võ Xuân Thuỷ | G60: 10 | H60: 48
A61: 56 | B61: Tô Ngọc Hanh | C61: Bán kiên cố | D61: 15 | E61: Xưởng đá | F61: 30
A62: 57 | B62: Nguyễn Thị Thu | C62: Bị bốc mái | D62: 25
A63: 58 | B63: Nguyễn TiếnNghị | E63: Trang trại | F63: 30 | G63: 8 | H63: 36 | M63: 10000 | N63: 10000 | P63: 180
A64: 59 | B64: Nguyễn Văn Chiểu | G64: 2 | H64: 24
A65: 60 | B65: Phan Công Mậu | G65: 2 | H65: 30 | M65: 100 | N65: 100 | P65: 60
A66: 61 | B66: Lê Tân Thành | C66: Bị bốc ngói | D66: 50 | E66: Rạp nắng | F66: 30
A67: 62 | B67: Nguyễn Văn Ba | C67: Bán kiên cố | D67: 20 | E67: Công trình phụ | F67: 40
A68: 63 | B68: Nguyễn Văn Trung | G68: 5 | H68: 36
A69: 64 | B69: Lê Thị Hà | C69: Bán kiên cố | D69: 20 | G69: 2 | H69: 30
A70: 65 | B70: Nguyễn Thị Thu | C70: Bị bốc mái | D70: 40 | E70: Rạp nắng | F70: 60
A71: 66 | B71: Nguyễn Đình Phấn | I71: 100 | J71: 100 | M71: 200 | N71: 200 | P71: 120
A72: 67 | B72: Hoàng Thị Đào | E72: Rạp nắng | F72: 40
A73: 68 | B73: Hoàng Thị Hợi | E73: Trang trại | F73: 60 | G73: 3 | H73: 36
A74: 69 | B74: Nguyễn Văn Hoa | G74: 10 | H74: 36
A75: 70 | B75: Đậu Thị Sen | G75: 1 | H75: 24
A76: 71 | B76: Nguyễn Văn Thuần | C76: Bị bốc ngói | D76: 30 | G76: 1.15 | H76: 40
A77: 72 | B77: Nguyễn Văn Tùng | E77: Rạp nắng | F77: 15
A78: 73 | B78: Nguyễn Thị Cúc | C78: Bị bốc ngói | D78: 20 | E78: Rạp nắng | F78: 30
A79: 74 | B79: Nguyễn Văn Thỉ | E79: Rạp nắng | F79: 100
A80: 75 | B80: Phạm Thị Niêm | E80: Rạp nắng | F80: 100
A81: 76 | B81: Đặng Thị Thuỷ | E81: Rạp nắng | F81: 30
A82: 77 | B82: Nguyễn Thị Khuân | C82: Bán kiên cố | D82: 15 | E82: Nhà bếp | F82: 20
A83: 78 | B83: Nguyễn Tiến Linh | G83: 2 | H83: 36
A84: 79 | B84: Lê Thị Hà | C84: Bán kiên cố | D84: 15
A85: 80 | B85: Nguyễn Đức Luyến | G85: 1.3 | H85: 54
A86: 81 | B86: Phạm Hồng Hải | G86: 4.4 | H86: 54
A87: 82 | B87: Nguyễn Văn Huê | E87: Nhà bếp | F87: 40
A88: 83 | B88: Nguyễn Văn Bảo | G88: 5 | H88: 48
A89: 84 | B89: Nguyễn Văn Thiết | G89: 8 | H89: 42
A90: 85 | B90: Võ Thị Hồng | G90: 3 | H90: 36 | M90: 2000 | N90: 2000 | P90: 180
A91: 86 | B91: Nguyễn Tiến Tuấn | G91: 2 | H91: 12 | I91: 1500 | J91: 1500 | L91: 60
A92: 87 | B92: Nguyễn Văn Quang | C92: Bị bốc ngói | D92: 25 | G92: 1 | H92: 36
A93: 88 | B93: Nguyễn Văn Lai | G93: 1.5 | H93: 36
A94: 89 | B94: Nguyễn Đình Luân | E94: Trang trại | F94: 70 | G94: 0.5 | H94: 24 | M94: 500 | N94: 500 | P94: 180
A95: 90 | B95: Lê Xuân Lý | C95: Bị bốc ngói | D95: 40 | E95: Rạp nắng | F95: 30 | G95: 1.5 | H95: 48
A96: 91 | B96: Trần Thị Sâm | C96: Bị bốc ngói | D96: 25 | E96: Rạp nắng | F96: 30 | G96: 1.7 | H96: 24 | M96: 150 | N96: 150 | P96: 144
A97: 92 | B97: Chu Thị Sen | E97: Công trình phụ | F97: 30 | G97: 1 | H97: 42
A98: 93 | B98: Nguyễn Tiến Sinh | E98: Công trình phụ | F98: 70 | G98: 1 | H98: 36
A99: 94 | B99: Hoàng Văn Thành | E99: Đỗ hàng rào | F99: 15
A100: 95 | B100: Nguyễn Xuân Hương | C100: Tốc mái | D100: 20 | G100: 0.1 | H100: 42
...

Sheet TÂN THẮNG
A1: THÔN TÂN THẮNG
A2: BIỂU II: DANH SÁCH THIỆT HẠI VỀ CÂY TRỒNG DO BÃO SỐ 10
A3: TT | B3: Tên chủ hộ | C3: Thiệt hại nhà ở | E3: Công trình phụ trợ | G3: Thiệt hại cây lâm nghiệp | I3: Thiệt hại cây hằng năm (dưa hấu, vừng, khoai, ……) | M3: Thiệt hại cây lâu năm (các loại cây ăn quả)
C4: Loại nhà (kiên cố, bán kiên cố, đơn sơ) | D4: Mức độ thiệt hại (%) | E4: Loại công trình | F4: Mức độ thiệt hại (%) | G4: Diện tích (ha) | H4: Thời gian trồng (tháng) | I4: Diện tích (m2) | J4: Mức độ thiệt hại | L4: Thời gian trồng (ngày) | M4: Diện tích (m2) | N4: Mức độ thiệt hại | P4: Thời gian trồng (tháng)
J5: Thiệt hại trên 70% | K5: Thiệt hại từ 30- 70% | N5: Thiệt hại trên 70% | O5: Thiệt hại từ 30- 70%
A6: 1 | B6: Phạm Đắc Quỳnh | G6: 2 | H6: 36
A7: 2 | B7: Phạm Văn Hoà | G7: 0.1 | H7: 30
A8: 3 | B8: Phạm Văn Tiến | G8: 0.25 | H8: 36
A9: 4 | B9: Trương Thị Thuỷ | G9: 0.3 | H9: 36
A10: 5 | B10: Hồ Xuân Niêm | G10: 1.6 | H10: 24
A11: 6 | B11: Lê Thị Thự | G11: 0.16 | H11: 12
A12: 7 | B12: Nguyễn Tiến Sơn | G12: 0.27 | H12: 36
A13: 8 | B13: Hồ Sơn | G13: 1.5 | H13: 36
A14: 9 | B14: Nguyễn Văn Tiến | G14: 0.5 | H14: 36
A15: 10 | B15: Nguyễn Văn Định | G15: 0.2 | H15: 24
A16: 11 | B16: Nguyễn Văn Duẫn | G16: 0.35 | H16: 30
A17: 12 | B17: Nguyễn Thị Lập | G17: 0.6 | H17: 24
... A30: 25 | B30: Trương Thị Sâm | G30: 2 | H30: 36
A31: 26 | B31: Võ Thị Thảo | C31: Tốc mái | D31: 20
A32: 27 | B32: Nguyễn Tiến Huận | E32: Rạp nắng | F32: 50 | M32: 100 | N32: 100 | P32: 90
A33: 28 | B33: Nguyễn Thị Khuê
A34: 29 | B34: Nguyễn Văn Châu | G34: 2.5 | H34: 36
A35: 30 | B35: Phạm Xuân Hiệp | G35: 0.5 | H35: 12
A36: 31 | B36: Nguyễn Đại Nghĩa | G36: 1.5 | H36: 36
A37: 32 | B37: Nguyễn Văn Vũ | G37: 2 | H37: 24
A38: 33 | B38: Trương Đình Tình | G38: 0.5 | H38: 18
A39: 34 | B39: Hoàng Thị Sen (Tứ) | G39: 1.7 | H39: 24
A40: 35 | B40: Lê Văn Canh | G40: 0.08 | H40: 24
A41: 36 | B41: Võ Đức Thuận | G41: 0.4 | H41: 24
A42: 37 | B42: Võ Văn Linh | G42: 1 | H42: 24
A43: 38 | B43: Nguyễn Văn Sơn | G43: 1.2 | H43: 12
A44: 39 | B44: Nguyễn Đức Thuỷ | G44: 0.45 | H44: 36
A45: 40 | B45: Nguyễn Văn Đức | G45: 1.5 | H45: 30
... A47: 42 | B47: Lê Văn Hồng | G47: 2 | H47: 24
A48: 43 | B48: Nguyễn Văn Thắng | C48: Tốc mái | D48: 80 | E48: Rạp sân | F48: 100
A49: 44 | B49: Hoàng Lưu Huỳnh | G49: 1.9 | H49: 24
A50: 45 | B50: Nguyễn Trung Tuyến | G50: 0.27 | H50: 36
A51: 46 | B51: Trần Xuân Đạo | G51: 2 | H51: 24
A52: 47 | B52: Nguyễn Thị Linh | G52: 0.3 | H52: 36
A53: 48 | B53: Lê Thị Nhuần | G53: 1 | H53: 36
A54: 49 | B54: Nguyễn Văn Linh (Hải) | G54: 0.46 | H54: 24
A55: 50 | B55: Đặng Thị Lan | G55: 0.05 | H55: 12
A56: 51 | B56: Nguyễn Tiến Văn | G56: 0.1 | H56: 36
A57: 52 | B57: Hoàng Thị Ninh | G57: 1.5 | H57: 24
A58: 53 | B58: Trương Văn Đức | G58: 0.3 | H58: 36
A59: 54 | B59: Nguyễn Văn Hào | C59: Tốc mái | D59: 15
A60: 55 | B60: Phạm Thị Hiền | G60: 0.15 | H60: 36
A61: 56 | B61: Nguyễn Tiến Luận | G61: 0.1 | H61: 12
A62: 57 | B62: Nguyễn Đình Thắng | G62: 0.37 | H62: 24
A63: 58 | B63: Hà Đức Cường | G63: 0.7 | H63: 36
B64: TỔNG | G64: =SUM(G:G6:G63) -> #NAME? | H64: =SUM(H6:H63) -> 1536 | I64: =SUM(I6:I63) -> 0 | J64: =SUM(J6:J63) -> 0 | K64: =SUM(K6:K63) -> 0 | L64: =SUM(L6:L63) -> 0 | M64: =SUM(M6:M63) -> 100 | N64: =SUM(N6:N63) -> 100 | O64: =SUM(O6:O63) -> 0
J65: Ngày tháng 10 năm 2025
A66: ĐOÀN CÔNG TÁC | J66: TRƯỞNG THÔN

Sheet XUÂN DỤC
A1: THÔN XUÂN DỤC
A2: BIỂU II: DANH SÁCH THIỆT HẠI VỀ CÂY TRỒNG DO BÃO SỐ 10
A3: TT | B3: Tên chủ hộ | C3: Thiệt hại nhà ở | E3: Công trình phụ trợ | G3: Thiệt hại cây lâm nghiệp | I3: Thiệt hại cây hằng năm (dưa hấu, vừng, khoai, ……) | M3: Thiệt hại cây lâu năm (các loại cây ăn quả)
C4: Loại nhà (kiên cố, bán kiên cố, đơn sơ) | D4: Mức độ thiệt hại (%) | E4: Loại công trình | F4: Mức độ thiệt hại (%) | G4: Diện tích (ha) | H4: Thời gian trồng (tháng) | I4: Diện tích (m2) | J4: Mức độ thiệt hại | L4: Thời gian trồng (ngày) | M4: Diện tích (m2) | N4: Mức độ thiệt hại | P4: Thời gian trồng (tháng)
J5: Thiệt hại trên 70% | K5: Thiệt hại từ 30- 70% | N5: Thiệt hại trên 70% | O5: Thiệt hại từ 30- 70%
A6: 1 | B6: Lê Thị Mỹ | G6: 1.5 | H6: 36
A7: 2 | B7: Nguyễn Tiến Thành | G7: 0.2 | H7: 36
A8: 3 | B8: Nguyễn Tiến Quân | G8: 2.5 | H8: 24
A9: 4 | B9: Lê Thị Thương | G9: 4 | H9: 24
A10: 5 | B10: Nguyễn Văn Thuận | E10: Nhà bếp | F10: 26
A11: 6 | B11: Nguyễn Thị Hồng | G11: 0.35 | H11: 24
A12: 7 | B12: Phạm Văn Mính | E12: Rạp nắng | F12: 100
A13: 8 | B13: Phạm Văn Tuấn | G13: 1.2 | H13: 24
A14: 9 | B14: Phạm Thị Khuê | G14: 2.7 | H14: 24
A15: 10 | B15: Nguyễn Tiến Ba | G15: 2 | H15: 24
A16: 11 | B16: Nguyễn Xuân Tuyên | G16: 5 | H16: 36
A17: 12 | B17: Đặng Thị Minh | G17: 0.05 | H17: 36 | M17: 110 | N17: 110 | P17: 360
A18: 13 | B18: Phạm Hồng Khanh | E18: Công trình phụ | F18: 50 | M18: 200 | N18: 200 | P18: 24
A19: 14 | B19: Lê Đình Long | E19: Tường rào | F19: 25
A20: 15 | B20: Nguyễn Quốc Bão | G20: 1.3 | H20: 48
A21: 16 | B21: Trần Đình Thảo | C21: Bị bốc ngói | D21: 10 | G21: 1 | H21: 12
A22: 17 | B22: Phạm Văn Chu | G22: 1.5 | H22: 48 | I22: 330 | J22: 330 | L22: 60
A23: 18 | B23: Nguyễn Văn Min | E23: Rạp nắng | F23: 50
A24: 19 | B24: Nguyễn Thị Thuận | C24: Bị bốc ngói | D24: 30
A25: 20 | B25: Lê Quang Luyến | C25: Bị bốc ngói | D25: 50 | G25: 0.15 | H25: 24
A26: 21 | B26: Trần Trọng Quyền | C26: Bán kiên có | D26: 30 | E26: Công trình phụ | F26: 100 | G26: 2.3 | H26: 30
A27: 22 | B27: Phan Thị Thu | E27: Nhà kho | F27: 20
A28: 23 | B28: Hoàng Thanh Luyến | G28: 2.3 | H28: 48
A29: 24 | B29: Lê Thị Huấn | C29: Bị bốc mái | D29: 80 | G29: 4 | H29: 48 | I29: 1000 | J29: 1000 | L29: 60
A30: 25 | B30: Nguyễn Thị Hoa | C30: Bán kiên có | D30: 10
A31: 26 | B31: Nguyễn Minh Đức | C31: Bốc mái | D31: 20 | E31: Công trình phụ | F31: 40 | I31: 3500 | J31: 3500 | L31: 30
A32: 27 | B32: Nguyễn Thị Mùi | C32: Bán kiên có | D32: 30 | I32: 300 | J32: 300 | L32: 30
A33: 28 | B33: Lê Văn Dũng | G33: 3 | H33: 12
A34: 29 | B34: Hoàng Xuân Thể | C34: Bán kiên có | D34: 100 | G34: 1.5 | H34: 36 | I34: 350 | J34: 350 | L34: 60
A35: 30 | B35: Hoàng Thanh Duyên | C35: Bị bốc mái | D35: 30 | G35: 2.3 | H35: 48 | M35: 100 | N35: 100 | P35: 120
A36: 31 | B36: Lê Thị Lợi | C36: Bán kiên có | D36: 10 | E36: Nhà bếp | F36: 50
A37: 32 | B37: Trần Quý Công | G37: 4.5 | H37: 36
A38: 33 | B38: Phạm Xuân Hiền | G38: 0.5 | H38: 240
A39: 34 | B39: Phạm văn Min | I39: 165 | J39: 165 | L39: 60
A40: 35 | B40: Nguyễn Tiến Luận | C40: Bán kiên có | D40: 25
A41: 36 | B41: Nguyễn Văn Quý | G41: 10 | H41: 42
A42: 37 | B42: Phạm Ngọc Long | C42: Bán kiên có | D42: 80
A43: 38 | B43: Phạm Văn Vị | C43: Bán kiên có | D43: 50 | I43: 300 | J43: 300 | L43: 20
A44: 39 | B44: Phạm Văn Quý | C44: Bán kiên có | D44: 30 | I44: 500 | J44: 500 | L44: 20
A45: 40 | B45: Phạm Thị Hương | C45: Bán kiên có | D45: 50
A46: 41 | B46: Hoàng Xuân Hùng | E46: Công trình phụ | F46: 30 | G46: 0.5 | H46: 48
A47: 42 | B47: Hoàng Văn Minh | C47: Bán kiên có | D47: 30 | G47: 3 | H47: 48
A48: 43 | B48: Thái Văn Thắng | C48: Bán kiên có | D48: 90
A49: 44 | B49: Nguyễn Trọng Tài | G49: 2 | H49: 36
A50: 45 | B50: Nguyễn Tiến Nam | E50: Đỗ hàng rào | F50: 25m | G50: 3 | H50: 36
A51: 46 | B51: Nguyễn Văn Đức | C51: Bán kiên có | D51: 10
A52: 47 | B52: Lê Công Mậu | C52: Bán kiên có | D52: 50 | E52: Công trình phụ | F52: 70 | G52: 0.1 | H52: 36 | M52: 1000 | N52: 1000 | P52: 120
A53: 48 | B53: Phạm Văn Lộc | C53: Bán kiên có | D53: 30 | E53: Công trình phụ | F53: 70 | G53: 2 | H53: 24
A54: 49 | B54: Lê Thị Tuần | C54: Bán kiên có | D54: 30 | E54: Công trình phụ | F54: 71 | G54: 2 | H54: 24
A55: 50 | B55: Hoàng Đình Công | G55: 3.4 | H55: 36
A56: 51 | B56: Thái Hữu Bàng | G56: 0.4 | H56: 48
A57: 52 | B57: Nguyễn Trọng Thể | C57: Bán kiên có | D57: 30
A58: 53 | B58: Trần Thị Khánh | E58: Đỗ hàng rào | F58: 30m | M58: 200 | N58: 200 | P58: 36
A59: 54 | B59: Nguyễn Văn Nam | C59: Kiên cố | D59: 50 | E59: Công trình phụ | F59: 60 | G59: 0.25 | H59: 36 | M59: 200 | N59: 200 | P59: 84
A60: 55 | B60: Hoàng Trọng Lượng | G60: 4 | H60: 24
A61: 56 | B61: Hoàng Thị Nhung | G61: 1 | H61: 36
A62: 57 | B62: Hoàng Trọng Dũng | G62: 2 | H62: 24
A63: 58 | B63: Phạm Văn Anh | G63: 8 | H63: 84
A64: 59 | B64: Nguyễn Văn Nông | M64: 1000 | N64: 1000 | P64: 120
A65: 60 | B65: Hoàng Xuân Lành | G65: 3.8 | H65: 36
B66: Tổng | G66: =SUM(G6:G65) -> 89.3 | I66: =SUM(I6:I65) -> 6445 | J66: =SUM(J6:J65) -> 6445 | K66: =SUM(K6:K65) -> 0 | M66: =SUM(M6:M65) -> 2810 | N66: =SUM(N6:N65) -> 2810 | O66: =SUM(O6:O65) -> 0
J67: Ngày tháng 10 năm 2025
A68: ĐOÀN CÔNG TÁC | J68: TRƯỞNG THÔN

Sheet TRUNG ĐỨC
A1: THÔN TRUNG ĐỨC
A2: BIỂU II: DANH SÁCH THIỆT HẠI VỀ CÂY TRỒNG DO BÃO SỐ 10
A3: TT | B3: Tên chủ hộ | C3: Thiệt hại nhà ở | E3: Công trình phụ trợ | G3: Thiệt hại cây lâm nghiệp | I3: Thiệt hại cây hằng năm (dưa hấu, vừng, khoai, ……) | M3: Thiệt hại cây lâu năm (các loại cây ăn quả)
C4: Loại nhà (kiên cố, bán kiên cố, đơn sơ) | D4: Mức độ thiệt hại (%) | E4: Loại công trình | F4: Mức độ thiệt hại (%) | G4: Diện tích (ha) | H4: Thời gian trồng (tháng) | I4: Diện tích (m2) | J4: Mức độ thiệt hại | L4: Thời gian trồng (ngày) | M4: Diện tích (m2) | N4: Mức độ thiệt hại | P4: Thời gian trồng (tháng)
J5: Thiệt hại trên 70% | K5: Thiệt hại từ 30- 70% | N5: Thiệt hại trên 70% | O5: Thiệt hại từ 30- 70%
A6: 1 | B6: Trần Xuân Bốn | E6: Tốc mái Công trình phụ | F6: 100 | G6: 1 | H6: 30
A7: 2 | B7: Nguyễn Trọng Hùng | E7: Tốc mái rạp nắng, đỗ 15m hàng rào | F7: 100 | G7: 0.4 | H7: 18 | I7: 300 | J7: 300 | L7: 60 | M7: 100 | N7: 100 | O7: 24
A8: 3 | B8: Nguyễn Thị Lan | G8: 2.1 | H8: 30
A9: 4 | B9: Nguyễn Văn Tào | C9: Tốc mái | D9: 50 | E9: Tốc mái Công trình phụ | F9: 60 | I9: 170 | J9: 170 | L9: 60 | M9: 50 | N9: 50 | P9: 60
A10: 5 | B10: Trương Công Mậu | G10: 0.15 | H10: 24
A11: 6 | B11: Hoàng Xuân Văn | E11: Tốc mái chuồng ràn | F11: 50 | G11: 0.65 | H11: 30
A12: 7 | B12: Nguyễn Văn Điền | E12: Tốc mái chuồng ràn | F12: 80 | G12: 0.25 | H12: 30
A13: 8 | B13: Nguyễn Như Ý | G13: 4.2 | H13: 36
A14: 9 | B14: Hoàng Thị Thuỷ | G14: 3.7 | H14: 36
A15: 10 | B15: Phan Văn Tịnh | G15: 3 | H15: 24
A16: 11 | B16: Nguyễn Thị Định | C16: Tốc mái | D16: 100 | E16: Tốc mái chuồng ràn | F16: 60
A17: 12 | B17: Nguyễn Xuân Thịnh | G17: 1.6 | H17: 36 | M17: 100 | N17: 100 | P17: 36
A18: 13 | B18: Nguyễn Tiến Dũng | G18: 13 | H18: 36
A19: 14 | B19: Nguyễn Tiến Lự | E19: Tốc mái raph nắng | F19: 50 | G19: 6 | H19: 30
A20: 15 | B20: Trần đình Thắng | G20: 1 | H20: 36
A21: 16 | B21: Hoàng văn Khuân | E21: Tốc mái chuồng ràn | F21: 50 | G21: 3.5 | H21: 30
A22: 17 | B22: Nguyễn Thị Hoàn | C22: Tốc mái | D22: 50 | G22: 2 | H22: 24 | M22: 500 | N22: 500 | P22: 180
A23: 18 | B23: Phan Văn Niên | E23: Tốc mái raph nắng | F23: 80 | G23: 1.6 | H23: 36
A24: 19 | B24: Nguyễn Văn Thư | C24: Tốc mái | D24: 50 | G24: 2 | H24: 24
A25: 20 | B25: Lê Thị Lan | G25: 0.25 | H25: 36 | M25: 500 | N25: 500 | P25: 180
A26: 21 | B26: Phan Văn Thắng | C26: Tốc mái | D26: 50 | G26: 0.25 | H26: 36
A27: 22 | B27: Hoàng Văn Bảo | G27: 1.7 | H27: 36
A28: 23 | B28: Hoàng Đức Cường | E28: Tốc mái chuồng ràn | F28: 100 | G28: 3.1 | H28: 36 | M28: 100 | N28: 100 | P28: 60
A29: 24 | B29: Nguyễn Xuân Tình | E29: Tốc mái chuồng ràn | F29: 100 | G29: 2 | H29: 30 | M29: 2500 | N29: 2500 | P29: 24
A30: 25 | B30: Nguyễn Văn Tân | C30: Tốc mái | D30: 30 | E30: Tốc mái rạp nắng | F30: 70 | G30: 1.95 | H30: 36
A31: 26 | B31: Nguyễn Thanh Hải | G31: 3 | H31: 36
A32: 27 | B32: Nguyễn Tiến Văn | E32: Tốc mái rạp nắng, công trình phụ | F32: 30
A33: 28 | B33: Nguyễn Tiến Phương | G33: 10 | H33: 24
A34: 29 | B34: Nguyễn Tiến Thành | G34: 4 | H34: 24
A35: 30 | B35: Nguyễn Tiến Đường | C35: Tốc mái | D35: 15 | E35: Tốc mái công trình phụ | F35: 25 | G35: 0.15 | H35: 36 | M35: 1000 | N35: 1000 | P35: 96
A36: 31 | B36: Hoàng Đức Thắng | G36: 4 | H36: 36
A37: 32 | B37: Hoàng Thị Lợi | C37: Tốc mái | D37: 30 | E37: Tốc mái công trình phụ | F37: 100 | G37: 1.6 | H37: 36
A38: 33 | B38: Nguyễn Văn Hà | C38: Tốc mái | D38: 50 | E38: Tốc mái raph nắng | F38: 20 | G38: 0.1 | H38: 36
A39: 34 | B39: Phan Thị Hà | E39: Tốc mái nhà bếp | F39: 80
A40: 35 | B40: Trần Thị Ngân | E40: Tốc mái công trình phụ | F40: 50 | G40: 0.1 | H40: 24
A41: 36 | B41: Nguyễn Tiến Nghị | E41: Tốc mái công trình phụ | F41: 50 | G41: 2 | H41: 30
A42: 37 | B42: Phạm Văn Đồng | G42: 0.3 | H42: 36
A43: 38 | B43: Đỗ Quang Phú | G43: 1 | H43: 24
A44: 39 | B44: Võ Xuân Minh | G44: 1 | H44: 48
A45: 40 | B45: Đinh Xuân Hợi | G45: 0.15 | H45: 30
A46: 41 | B46: Nguyễn Công Quý | E46: Tốc mái công trình phụ | F46: 30 | G46: 0.1 | H46: 42 | I46: 120 | J46: 120 | L46: 15 | M46: 100 | N46: 100 | P46: 120
A47: 42 | B47: Nguyễn Thị Lương | C47: Tốc mái | D47: 50 | E47: Tốc mái rạp nắng | F47: 80 | G47: 0.65 | H47: 18
A48: 43 | B48: Nguyễn Văn Giáo | C48: Tốc mái | D48: 30 | E48: Tốc mái công trình phụ | F48: 50 | G48: 1.5 | H48: 48 | I48: 1100 | J48: 1100 | L48: 60
A49: 44 | B49: Hoàng Thị Khuy | C49: Tốc mái | D49: 50 | E49: Tốc mái công trình phụ | F49: 50 | G49: 0.2 | H49: 36 | I49: 750 | J49: 750 | L49: 180 | M49: 500 | N49: 500 | P49: 60
A50: 45 | B50: Hà Thị Thơ | C50: Tốc mái | D50: 30 | E50: Tốc mái công trình phụ | F50: 100 | G50: 0.25 | H50: 36
A51: 46 | B51: Lê Hồng Đính | G51: 0.5 | H51: 24
A52: 47 | B52: Hoàng Xuân Thuỷ | C52: Tốc mái | D52: 30 | E52: Tốc mái công trình phụ | F52: 70 | G52: 0.77 | H52: 30 | M52: 400 | N52: 400 | P52: 108
A53: 48 | B53: Trần Thị Hà | G53: 1 | H53: 12
A54: 49 | B54: Lê Văn Tám | G54: 1.2 | H54: 24
A55: 50 | B55: Nguyễn Quang Phấn | E55: Tốc mái công trình phụ | F55: 60 | G55: 6 | H55: 24
A56: 51 | B56: Phạm Ngọc Thơ | E56: Tốc mái công trình phụ | F56: 100 | G56: 0.3 | H56: 36
A57: 52 | B57: Hà Xuân Hoa | E57: Tốc mái công trình phụ | F57: 60 | G57: 0.05 | H57: 24
A58: 53 | B58: Lê Thị Trinh | C58: Tốc mái | D58: 40 | G58: 3 | H58: 18
A59: 54 | B59: Đỗ Văn Hoa | G59: 1 | H59: 24
A60: 55 | B60: Nguyễn Văn Yến | G60: 1 | H60: 36 | M60: 50 | N60: 50 | P60: 240
A61: 56 | B61: Nguyễn Thị Luyến
A62: 57 | B62: Trần Xuân Bắc | E62: Tốc mái công trình phụ | F62: 100 | G62: 1 | H62: 42
A63: 58 | B63: Nguyễn Tiến Anh | C63: Tốc mái | D63: 40 | E63: Tốc mái công trình phụ | F63: 100 | G63: 7 | H63: 36
A64: 59 | B64: Trần Thị Minh | C64: Tốc mái | D64: 80
A65: 60 | B65: Nguyễn Thanh Hải | C65: Tốc mái | D65: 80
A66: 61 | B66: Hoàng Trọng Nghĩa | C66: Tốc mái | D66: 20 | E66: Tốc mái công trình phụ | F66: 30 | I66: 500 | J66: 500 | L66: 180
A67: 62 | B67: Nguyễn Thị Dạng | E67: Tốc mái rạp nắng | F67: 60 | G67: 0.15 | H67: 36
A68: 63 | B68: Nguyễn Thanh Tình | G68: 0.3 | H68: 36
A69: 64 | B69: Nguyễn Chí Sinh | C69: Tốc mái | D69: 30 | E69: Tốc mái công trình phụ | F69: 50
A70: 65 | B70: Nguyễn Quang Phấn | E70: Tốc mái công trình phụ | F70: 100 | G70: 0.35 | H70: 24
A71: 66 | B71: Hoàng Thị Bình | G71: 1 | H71: 30
A72: 67 | B72: Nguyễn Văn Giang | E72: Tốc mái nhà Bếp | F72: 80 | G72: 3 | H72: 48
A73: 68 | B73: Nguyễn Tiến Văn | E73: Tốc mái công trình phụ | F73: 100 | G73: 1 | H73: 36 | I73: 1000 | J73: 1000 | L73: 30 | M73: 500 | N73: 500 | P73: 180
A74: 69 | B74: Phạm Văn Lĩnh | E74: Tốc mái công trình phụ | F74: 75 | G74: 0.2 | H74: 30
A75: 70 | B75: Nguyễn Xuân Duẫn | C75: Tốc mái | D75: 40 | E75: Tốc mái công trình phụ | F75: 80 | G75: 0.3 | H75: 36
A76: 71 | B76: Nguyễn Văn Long | E76: Tốc mái công trình phụ | F76: 70 | G76: 0.25 | H76: 24
A77: 72 | B77: Nguyễn Thị Kỷ | E77: Tốc mái công trình phụ | F77: 50 | G77: 0.15 | H77: 36 | M77: 50 | N77: 50 | P77: 84
A78: 73 | B78: Phan Văn Khánh | E78: Tốc mái công trình phụ | F78: 100 | G78: 1.5 | H78: 42
A79: 74 | B79: Nguyễn Thị Duệ | C79: Tốc mái | D79: 50 | E79: Tốc mái rạp nắng | F79: 50 | G79: 3 | H79: 42
A80: 75 | B80: Trần Văn Ba | C80: Tốc mái | D80: 30 | E80: Tốc mái rạp nắng | F80: 100 | I80: 300 | J80: 300 | L80: 30 | M80: 300 | N80: 300 | P80: 84
A81: 76 | B81: Nguyễn Trọng Khương | G81: 0.2 | H81: 24
A82: 77 | B82: Nguyễn Công Vỵ | E82: Tốc mái công trình phụ | F82: 30
A83: 78 | B83: Hà Thị Lập | C83: Tốc mái | D83: 50 | I83: 300 | J83: 300 | L83: 30
A84: 79 | B84: Võ Thị Chức | G84: 0.2 | H84: 24
A85: 80 | B85: Nguyễn Tiến Hiệp | G85: 1.65 | H85: 30
A86: 81 | B86: Lê Công Tuyển | G86: 1.7 | H86: 36
A87: 82 | B87: Lê Xuân Tiếp | C87: Tốc mái | D87: 80 | E87: Tốc mái công trình phụ | F87: 100
A88: 83 | B88: Trần Xuân Hoà | C88: Tốc mái | D88: 80 | E88: Tốc mái nhà bếp | F88: 100 | M88: 500 | N88: 500 | P88: 60
A89: 84 | B89: Trần Thị Liến | C89: Tốc mái | D89: 70 | E89: Tốc mái công trình phụ | F89: 60 | I89: 180 | J89: 180 | L89: 30
A90: 85 | B90: Lê Đức Thuận | E90: Tốc mái công trình phụ | F90: 80 | G90: 0.1 | H90: 48
A91: 86 | B91: Lê Thị Dung | C91: Tốc mái | D91: 50 | E91: Tốc mái công trình phụ | F91: 50 | G91: 0.1 | H91: 24
A92: 87 | B92: Lê Sỹ Nghĩa | C92: Tốc mái | D92: 30 | G92: 0.35 | H92: 24 | M92: 100 | N92: 100 | P92: 84
A93: 88 | B93: Trần Văn Chuẩn | C93: Tốc mái | D93: 50 | E93: Tốc mái công trình phụ | F93: 70 | I93: 100 | J93: 100 | L93: 30 | M93: 300 | N93: 300 | P93: 84
A94: 89 | B94: Phan Thị Lý | C94: Tốc mái | D94: 100 | G94: 3 | H94: 30 | M94: 100 | N94: 100 | P94: 36
A95: 90 | B95: Trương Văn Thắng | I95: 1000 | J95: 1000 | L95: 270
A96: 91 | B96: Nguyễn Đức Tuấn | E96: Tốc mái công trình phụ | F96: 50 | I96: 500 | J96: 500 | L96: 90
A97: 92 | B97: Nguyễn Tiến Xuân | C97: Tốc mái | D97: 100 | I97: 500 | J97: 500 | L97: 30
A98: 93 | B98: Lê Văn Ký | E98: Tốc mái công trình phụ | F98: 60 | G98: 1 | H98: 24
A99: 94 | B99: Nguyễn Văn Thể | C99: Tốc mái | D99: 30 | E99: Tốc mái công trình phụ | F99: 50 | G99: 2 | H99: 24
A100: 95 | B100: Lê Thị Sen | C100: Tốc mái | D100: 70 | I100: 100 | J100: 100 | L100: 30
...

Sheet TRƯỜNG LẠC
A1: THÔN TRƯỜNG LẠC
A2: BIỂU II: DANH SÁCH THIỆT HẠI VỀ CÂY TRỒNG DO BÃO SỐ 10
A3: TT | B3: Tên chủ hộ | C3: Thiệt hại nhà ở | E3: Công trình phụ trợ | G3: Thiệt hại cây lâm nghiệp | I3: Thiệt hại cây hằng năm (dưa hấu, vừng, khoai, ……) | M3: Thiệt hại cây lâu năm (các loại cây ăn quả)
C4: Loại nhà (kiên cố, bán kiên cố, đơn sơ) | D4: Mức độ thiệt hại (%) | E4: Loại công trình | F4: Mức độ thiệt hại (%) | G4: Diện tích (ha) | H4: Thời gian trồng (tháng) | I4: Diện tích (m2) | J4: Mức độ thiệt hại | L4: Thời gian trồng (ngày) | M4: Diện tích (m2) | N4: Mức độ thiệt hại | P4: Thời gian trồng (tháng)
J5: Thiệt hại trên 70% | K5: Thiệt hại từ 30- 70% | N5: Thiệt hại trên 70% | O5: Thiệt hại từ 30- 70%
A6: 1 | B6: Đậu Thị Mòi | E6: Rạp nắng | F6: 80
A7: 2 | B7: Đậu Đình Phương | C7: Tốc mái | D7: 40
A8: 3 | B8: Đậu Đức Tùng | E8: Rạp nắng | F8: 30 | G8: 1 | H8: 48
A9: 4 | B9: Hoàng Xuân Hoè | G9: 1 | H9: 24
A10: 5 | B10: Lê Hồng Kỳ | C10: Tốc mái | D10: 20 | G10: 2.05 | H10: 30
A11: 6 | B11: Hoàng Trung Hiếu | G11: 3 | H11: 36
A12: 7 | B12: Hoàng Thị Hoa | E12: Công trình phụ | F12: 50 | G12: 4 | H12: 48 | M12: 500 | N12: 500 | P12: 84
A13: 8 | B13: Nguyễn Đình Lâm | E13: Công trình phụ | F13: 50 | G13: 7 | H13: 48 | I13: 30000 | J13: 30000 | M13: 10000 | N13: 10000 | P13: 84
A14: 9 | B14: Hoàng Văn Dũng | G14: 3 | H14: 36
A15: 10 | B15: Hoàng Thị Lan | G15: 1 | H15: 24
A16: 11 | B16: Mai Văn Thuỵn | C16: Tốc mái | D16: 50 | G16: 1 | H16: 36
A17: 12 | B17: Đào Công Xuyên | C17: Tốc mái | D17: 60 | E17: Công trình phụ | F17: 100
A18: 13 | B18: Đào Văn Ngọ | C18: Tốc mái | D18: 80
A19: 14 | B19: Đào Văn Cảnh | C19: Tốc mái | D19: 95 | E19: Công trình phụ | F19: 100
A20: 15 | B20: Hoàng Đặm | C20: Tốc mái | D20: 100 | G20: 4.5 | H20: 30
A21: 16 | B21: Lê Văn Phúc | G21: 2.5 | H21: 30
A22: 17 | B22: Nguyễn Văn Lành | C22: Tốc mái | D22: 50 | G22: 3 | H22: 24
A23: 18 | B23: Lê Văn Tài | G23: 0.18 | H23: 24 | M23: 300 | N23: 300 | P23: 48
A24: 19 | B24: Lê Xuân Duyệt | C24: Tốc mái | D24: 30 | G24: 0.6 | H24: 24
A25: 20 | B25: Đào Công Hùng | C25: Tốc mái | D25: 60 | G25: 0.7 | H25: 24 | I25: 500 | J25: 500 | L25: 240
A26: 21 | B26: Đào Công Dụng | C26: Tốc mái | D26: 40
A27: 22 | B27: Lê Thị Quyền | E27: Công trình phụ | F27: 50 | G27: 1 | H27: 36
A28: 23 | B28: Đào Công Sơn | C28: Tốc mái | D28: 50
A29: 24 | B29: Nguyễn Văn Xường | C29: Tốc mái | D29: 50 | G29: 3 | H29: 24
A30: 25 | B30: Nguyễn Văn Lưu | E30: Công trình phụ | G30: 0.3 | H30: 30
A31: 26 | B31: Lê Thị Quyên | E31: Công trình phụ | F31: 100 | G31: 0.06 | H31: 24
A32: 27 | B32: Hoàng Văn Hạnh | G32: 4 | H32: 36
A33: 28 | B33: Nguyễn Văn Thía | C33: Tốc mái | D33: 50
A34: 29 | B34: Nguyễn Phong Quyền | G34: 4.5 | H34: 36
A35: 30 | B35: Nguyễn Thị Bình | E35: Rạp nắng | F35: 60 | G35: 2 | H35: 24
A36: 31 | B36: Nguyễn Văn Thành | C36: Tốc mái | D36: 20 | E36: Công trình phụ | F36: 100 | G36: 2 | H36: 36 | M36: 250 | N36: 250 | P36: 84
A37: 32 | B37: Lê Văn Minh | E37: Công trình phụ | F37: 50 | G37: 0.25 | H37: 48
A38: 33 | B38: Nguyễn Văn Linh | E38: Rạp nắng | F38: 100
A39: 34 | B39: Nguyễn Thị Kim Sen | G39: 3 | H39: 48
A40: 35 | B40: Lê Văn Thuận | C40: Tốc mái | D40: 20 | E40: Công trình phụ | F40: 30
A41: 36 | B41: Phạm Văn Dinh | C41: Tốc mái | D41: 30 | E41: Công trình phụ | F41: 20 | G41: 1 | H41: 18
A42: 37 | B42: Lê Thị Lý | C42: Tốc mái | D42: 20
A43: 38 | B43: Nguyễn Văn Đắc | E43: Công trình phụ | F43: 50 | G43: 2 | H43: 36 | M43: 1500 | N43: 1500 | P43: 48
A44: 39 | B44: Nguyễn Thị Yến | E44: Công trình phụ | F44: 70 | I44: 500 | J44: 500 | L44: 60
A45: 40 | B45: Lê Văn Đồng | G45: 5 | H45: 48 | Q45: Kỳ Khang
A46: 41 | B46: Nguyễn Hồng Quảng | C46: Tốc mái | D46: 30 | E46: Công trình phụ | F46: 40 | G46: 1 | H46: 24
A47: 42 | B47: Đậu Xuân Thỉ | E47: Công trình phụ | F47: 30 | G47: 2 | H47: 60
A48: 43 | B48: Nguyễn Thị Việt | E48: Công trình phụ | F48: 50
A49: 44 | B49: Đào Thị Nhước | C49: Tốc mái | D49: 70 | E49: Công trình phụ | F49: 50
A50: 45 | B50: Thái Thị Minh | C50: Tốc mái | D50: 50
A51: 46 | B51: Hoàng Văn Điền | G51: 2 | H51: 36
A52: 47 | B52: Nguyễn Thị Bình | E52: Công trình phụ | F52: 20
A53: 48 | B53: Hoàng Xuân Thuỷ | C53: Tốc mái | D53: 30 | E53: Công trình phụ | F53: 70 | G53: 3 | H53: 30 | M53: 300 | N53: 300 | P53: 36
A54: 49 | B54: Lê Quang Thống | G54: 0.15 | H54: 72
A55: 50 | B55: Hoàng Đức Toàn | G55: 5 | H55: 48
A56: 51 | B56: Hoàng Văn Thoan | G56: 3 | H56: 48
A57: 52 | B57: Thái Xuân Sương | C57: Tốc mái | D57: 40 | E57: Công trình phụ | F57: 70 | G57: 12 | H57: 30
A58: 53 | B58: Hoàng Xuân Linh | G58: 1.3 | H58: 36
A59: 54 | B59: Đậu Thị Lộc | G59: 3 | H59: 24
A60: 55 | B60: Lê Văn Phâng | E60: Đỗ hàng rào | F60: 20m
A61: 56 | B61: Thái Hữu Sâm | E61: Công trình phụ | F61: 35 | G61: 1 | H61: 24
A62: 57 | B62: Đào Công Xuyến | C62: Tốc mái | D62: 20 | G62: 1.7 | H62: 12 | M62: 100 | N62: 100 | P62: 36
A63: 58 | B63: Lê Hải Đường | C63: Tốc mái | D63: 20 | E63: Công trình phụ | F63: 70 | G63: 4.5 | H63: 42 | M63: 400 | N63: 400 | P63: 36
A64: 59 | B64: Võ Thị Huề | E64: Đỗ hàng rào | F64: 23m | G64: 1 | H64: 24 | M64: 500 | N64: 500 | P64: 36
A65: 60 | B65: Ngô Truang Trung | C65: Tốc mái | D65: 10 | E65: Công trình phụ | F65: 10
A66: 61 | B66: Nguyễn Văn Bình | C66: Tốc mái | D66: 85 | E66: Công trình phụ | F66: 50
A67: 62 | B67: Lê Khắc Hoàn | C67: Tốc mái | D67: 30 | E67: Công trình phụ | F67: 10
A68: 63 | B68: Lê Đình Lân | C68: Tốc mái | D68: 50 | E68: Công trình phụ | F68: 30
A69: 64 | B69: Lê Xuân Sang | E69: Xưởng mộc | F69: 80
B74: TỔNG | G74: =SUM(G6:G69) -> 103.29 | I74: =SUM(I12:I69) -> 31000 | J74: =SUM(J13:J69) -> 31000 | K74: =SUM(K13:K69) -> 0 | M74: =SUM(M12:M69) -> 13850 | N74: =SUM(N12:N69) -> 13850 | O74: =SUM(O12:O69) -> 0
J75: Ngày tháng 10 năm 2025
A76: ĐOÀN CÔNG TÁC | J76: TRƯỞNG THÔN

Sheet TRUNG THƯỢNG
A1: THÔN TRUNG THƯỢNG
A2: BIỂU II: DANH SÁCH THIỆT HẠI VỀ CÂY TRỒNG DO BÃO SỐ 10
A3: TT | B3: Tên chủ hộ | C3: Thiệt hại nhà ở | E3: Công trình phụ trợ | G3: Thiệt hại cây lâm nghiệp | I3: Thiệt hại cây hằng năm (dưa hấu, vừng, khoai, ……) | M3: Thiệt hại cây lâu năm (các loại cây ăn quả)
C4: Loại nhà (kiên cố, bán kiên cố, đơn sơ) | D4: Mức độ thiệt hại (%) | E4: Loại công trình | F4: Mức độ thiệt hại (%) | G4: Diện tích (ha) | H4: Thời gian trồng (tháng) | I4: Diện tích (m2) | J4: Mức độ thiệt hại | L4: Thời gian trồng (ngày) | M4: Diện tích (m2) | N4: Mức độ thiệt hại | P4: Thời gian trồng (tháng)
J5: Thiệt hại trên 70% | K5: Thiệt hại từ 30- 70% | N5: Thiệt hại trên 70% | O5: Thiệt hại từ 30- 70%
A6: 1 | B6: Lê Thanh Thuỷ | G6: 9.4 | H6: 40
A7: 2 | B7: Trương Xuân Hạnh | E7: Rạp nắng, bếp | F7: 80 | G7: 2 | H7: 48 | M7: 100 | N7: 100 | P7: 60
A8: 3 | B8: Tăng Văn Tiến | G8: 8.1 | H8: 60
A9: 4 | B9: Phan Thị Minh | C9: Kiên cố | D9: 30 | E9: Công trình phụ | F9: 50 | G9: 1 | H9: 24 | M9: 500 | N9: 500 | P9: 84
A10: 5 | B10: Lê Thanh Diễn | E10: Công trình phụ | F10: 40 | G10: 3 | H10: 36
A11: 6 | B11: Hoàng Thị Hoa | G11: 1.5 | H11: 42
A12: 7 | B12: Nguyễn Văn Đông | G12: 5 | H12: 24
A13: 8 | B13: Hoàng Văn Trung | C13: Kiên cố | D13: 30 | G13: 0.05 | H13: 60
A14: 9 | B14: Trương Thị Nhường | G14: 2 | H14: 48
A15: 10 | B15: Hoàng văn Thân | G15: 2 | H15: 48
A16: 11 | B16: Hoàng Thị Hoa (71) | G16: 1 | H16: 60
A17: 12 | B17: Tăng Văn Lộc | G17: 2.9 | H17: 54
A18: 13 | B18: Thân Đình Quang | C18: Bán kiên cố | D18: 10 | G18: 1.6 | H18: 48
A19: 14 | B19: Nguyễn Văn Hạnh | C19: Bán kiên cố | D19: 40 | E19: Rạp nắng, | F19: 50 | G19: 1.5 | H19: 36
A20: 15 | B20: Trương Đình Nghĩa | E20: Rạp nắng, | F20: 60 | G20: 3 | H20: 24
A21: 16 | B21: Hoàng Thị Phú | G21: 1 | H21: 36
A22: 17 | B22: Lê Văn Thới | E22: Rạp nắng | F22: 100
A23: 18 | B23: Lê Văn Tiệm | E23: Rạp nắng | F23: 50 | G23: 2.5 | H23: 48 | M23: 70 | N23: 70 | P23: 180
A24: 19 | B24: Nguyễn Văn Tiến | G24: 21 | H24: 36
A25: 20 | B25: Nguyễn Văn Đức | G25: 1 | H25: 36
A26: 21 | B26: Nguyễn Trường Minh | C26: Bán kiên cố | D26: 60 | E26: Công trình phụ | F26: 70 | G26: 2.3 | H26: 18 | I26: 1500 | J26: 1500 | L26: 108 | M26: 500 | N26: 500 | P26: 36
A27: 22 | B27: Tăng Văn Lợi | E27: Công trình phụ | F27: 10 | G27: 2.2 | H27: 36 | I27: 300 | J27: 300 | L27: 60 | M27: 250 | N27: 250 | P27: 36
A28: 23 | B28: Lê Văn Thạo | G28: 1.6 | H28: 36
A29: 24 | B29: Đào Trung Đại | E29: Trang trại | F29: 70 | G29: 12 | H29: 24 | M29: 500 | N29: 500 | P29: 24
A30: 25 | B30: Trần Văn Lập | G30: 0.8 | H30: 48
A31: 26 | B31: Nguyễn Xuân Lĩnh | E31: Công trình phụ | F31: 70 | G31: 13 | H31: 36
A32: 27 | B32: Nguyễn Văn Hành | E32: Rạp nắng | F32: 50 | G32: 0.25 | H32: 24
A33: 28 | B33: Lê Thị Thi | C33: Bốc mái | D33: 10 | G33: 1 | H33: 12
A34: 29 | B34: Hoàng Xuân Sơn | C34: Bốc mái | D34: 50 | E34: Công trình phụ | F34: 50 | G34: 3 | H34: 24
A35: 30 | B35: Nguyễn Thị Quế | C35: Bốc mái | D35: 40 | E35: Rạp nắng | F35: 100 | G35: 0.25 | H35: 36
A36: 31 | B36: Lê Đức Nam | G36: 0.7 | H36: 84
A37: 32 | B37: Hoàng Vĩnh Khường | C37: Bốc mái | D37: 50 | E37: Công trình phụ | F37: 20 | G37: 1 | H37: 24
A38: 33 | B38: Phạm Văn Thái | G38: 1 | H38: 40
A39: 34 | B39: Trương Văn Quế | C39: Bốc mái | D39: 15 | E39: Công trình phụ | F39: 30 | G39: 3.5 | H39: 36 | I39: 500 | J39: 500 | L39: 90
A40: 35 | B40: Nguyễn Văn Dương | G40: 20.5 | H40: 48
A41: 36 | B41: Nguyễn Văn Trường | E41: Công trình phụ | F41: 50 | G41: 5 | H41: 40
A42: 37 | B42: Lê Thị Lý | E42: Công trình phụ | F42: 60 | M42: 76 | N42: 76 | P42: 120
A43: 38 | B43: Hoàng Văn Thoả | C43: Bốc mái | D43: 20 | G43: 8 | H43: 24
A44: 39 | B44: Hoàng Hữu Tình | C44: Bốc mái | D44: 40 | E44: Công trình phụ | F44: 80 | M44: 50 | N44: 50 | P44: 60
A45: 40 | B45: Nguyễn Đức Lâm | G45: 0.17 | H45: 40
A46: 41 | B46: Trương Thị Tương | G46: 3 | H46: 22
A47: 42 | B47: Nguyễn Xuân | E47: Trang Trại | F47: 40 | G47: 8 | H47: 48
A48: 43 | B48: Hoàng thị Thiện | G48: 4 | H48: 48
A49: 44 | B49: Hoàng Văn Anh | G49: 9 | H49: 60 | I49: 18500 | J49: 18500 | L49: 75
A50: 45 | B50: Hoàng Thị Lương | G50: 4 | H50: 48 | I50: 2000 | J50: 2000 | L50: 75
A51: 46 | B51: Nguyễn Thanh Hoá | G51: 1 | H51: 48
A52: 47 | B52: Thân Văn Quân | G52: 2.1 | H52: 36 | M52: 15000 | N52: 15000 | P52: 480
A53: 48 | B53: Trương Công Sơn | G53: 2 | H53: 36
A54: 49 | B54: Nguyễn Tiến Quang | G54: 1.75 | H54: 36
A55: 50 | B55: Nguyễn Văn Hảo | G55: 6 | H55: 48
A56: 51 | B56: Nguyễn Văn Hanh | G56: 3.75 | H56: 48
A57: 52 | B57: Nguyễn Văn Phong | E57: Công trình phụ | F57: 40 | G57: 5 | H57: 42
A58: 53 | B58: Nguyễn Thị Chiệu | C58: Bốc mái | D58: 50
A59: 54 | B59: Hoàng Thị Lương | G59: 4.5 | H59: 24
A60: 55 | B60: Nguyễn Văn Trinh | C60: Kiên cố | D60: 10 | E60: Rạp nắng | F60: 50 | G60: 13 | H60: 32 | M60: 200 | N60: 200 | P60: 180
A61: 56 | B61: Hoàng Văn Hiếu | C61: Tốc mái | D61: 20 | E61: Công trình phụ | F61: 90 | G61: 14.6 | H61: 48 | M61: 500 | N61: 500 | P61: 120
A62: 57 | B62: Nguyễn Thị Thường | C62: Tốc mái | D62: 50 | E62: Đỗ hàng rào | F62: 25 | G62: 1.05 | H62: 36 | I62: 1100 | J62: 1100 | L62: 30 | M62: 1500 | N62: 1500 | P62: 48
A63: 58 | B63: Nguyễn Tiến Hưng | C63: Tốc mái | D63: 30 | E63: Nhà bếp | F63: 100 | G63: 2 | H63: 24
A64: 59 | B64: Lê Thị Ánh | G64: 3 | H64: 36
A65: 60 | B65: Trương Đình Cương | C65: Bán kiên cố | D65: 50 | E65: Công trình phụ | F65: 70 | G65: 2 | H65: 32 | I65: 2000 | J65: 2000 | L65: 240 | M65: 300 | N65: 300 | P65: 540
A66: 61 | B66: Hoàng Thị Miên
A67: 62 | B67: Nguyễn Vũ Quang Trung | G67: 3.5 | H67: 48
A68: 63 | B68: Hoàng Văn Sau | E68: Chuồng trại | F68: 100 | G68: 10 | H68: 36
A69: 64 | B69: Phan Thị Châu | E69: Rạp nắng | F69: 50
A70: 65 | B70: Nguyễn Tiến Nga | G70: 0.69 | H70: 32
A71: 66 | B71: Nguyễn Văn Thế | C71: Bán kiên cố | D71: 50 | E71: rạp nắng | F71: 60
A72: 67 | B72: Trương Mạnh Tường | C72: Tốc mái | D72: 20 | G72: 4 | H72: 36
A73: 68 | B73: Nguyễn Huy Hoàng | G73: 2 | H73: 36
A74: 69 | B74: Phan Thị Thái | G74: 1 | H74: 36
A75: 70 | B75: Lê Văn Lợi | G75: 1 | H75: 12
A76: 71 | B76: Tăng Văn Luân | G76: 3 | H76: 32
A77: 72 | B77: Nguyễn Văn Duyên | E77: Rạp nắng | F77: 60
A78: 73 | B78: Thái Văn Quang | G78: 5 | H78: 32
A79: 74 | B79: Hoàng Văn Vinh | G79: 6 | H79: 36 | M79: 1500 | N79: 1500 | P79: 120
A80: 75 | B80: Trương Văn Đỉnh | G80: 1 | H80: 24
A81: 76 | B81: Nguyễn Thị Liệu | E81: Công trình phụ | F81: 10 | G81: 1 | H81: 24
A82: 77 | B82: Hoàng Văn Hà | E82: Công trình phụ | F82: 30 | G82: 3 | H82: 32
A83: 78 | B83: Lê Xuân Quý | C83: Bán kiên cố | D83: 20 | E83: Công trình phụ | F83: 30 | G83: 5 | H83: 36
A84: 79 | B84: Trần Bá Hương | C84: Tốc mái | D84: 40 | E84: Công trình phụ | F84: 50
A85: 80 | B85: Nguyễn Tiến Vinh | G85: 3.62 | H85: 48
A86: 81 | B86: Thái Văn Trinh | G86: 5 | H86: 42
A87: 82 | B87: Trương Văn Cường | G87: 1 | H87: 18
A88: 83 | B88: Trương Xuân Hoà | C88: Tốc mái | D88: 50 | E88: Rạp nắng | F88: 30 | G88: 5.04 | H88: 24
A89: 84 | B89: Trương Đình Xuân | C89: Tốc mái | D89: 30
A90: 85 | B90: Trần Văn Cảnh | G90: 5.5 | H90: 42
A91: 86 | B91: Hoàng Văn Tú | G91: 12.5 | H91: 42
A92: 87 | B92: Lê Anh Văn | G92: 1 | H92: 36
A93: 88 | B93: Hoàng Văn Trân | G93: 1 | H93: 36
A94: 89 | B94: Nguyễn Văn Mày (Hải) | G94: 1.98 | H94: 36
A95: 90 | B95: Nguyễn Thị Thuỷ | E95: Công trình phụ | F95: 30
A96: 91 | B96: Lê Văn Khiền | G96: 2 | H96: 36
A97: 92 | B97: Nguyễn Chí Văn | G97: 1.1 | H97: 36
A98: 93 | B98: Hoàng Trung Tuyến | G98: 1 | H98: 32 | M98: 1000 | N98: 1000 | P98: 48
A99: 94 | B99: Nguyễn Thu Hoài | G99: 0.3 | H99: 36
A100: 95 | B100: Nguyễn Văn Dương | C100: Tốc mái | D100: 25 | E100: Rạp nắng | F100: 30 | G100: 2 | H100: 48
...

Sheet DS 5 HA
A1: UBND XÃ KỲ HOA | D1: CỘNG HÒA XÃ HỘI CHỦ NGHĨA VIỆT NAM
A2: PHÒNG KINH TẾ | D2: Độc - lập - Tự do - Hạnh phúc
A4: DANH SÁCH
A5: Các hộ có diện tích đất lâm nghiệp từ 4,5 ha trở lên bị thiệt hại nặng do bão số 10 năm 2025
A6: TT | B6: Họ và tên chủ hộ | C6: Chổ ở hiên nay | D6: Diện tich (ha) | E6: Số cây trồng/ha | F6: Tổng số cây | G6: Đơn gia | H6: Thành tiền
A7: 1 | B7: Đào Hải Nam | C7: Hoa Đông | D7: 5 | E7: 700 | F7: =E7*D7 -> 3500 | G7: 850 | H7: =G7*F7 -> 2975000
A8: 2 | B8: Nguyễn Tiến Thược | C8: Hoa Đông | D8: 4.5 | E8: 700 | F8: =E8*D8 -> 3150 | G8: 850 | H8: =G8*F8 -> 2677500
A9: 3 | B9: Thiều Hải Dương | C9: Hoa Đông | D9: 5 | E9: 700 | F9: =E9*D9 -> 3500 | G9: 850 | H9: =G9*F9 -> 2975000
A10: 4 | B10: Nguyễn Thị Oanh | C10: Hoa Đông | D10: 5 | E10: 700 | F10: =E10*D10 -> 3500 | G10: 850 | H10: =G10*F10 -> 2975000
A11: 5 | B11: Nguyễn Tiến Sáng | C11: Hoa Đông | D11: 5 | E11: 700 | F11: =E11*D11 -> 3500 | G11: 850 | H11: =G11*F11 -> 2975000
A12: 6 | B12: Đào Thị Dung | C12: Hoa Đông | D12: 20 | E12: 700 | F12: =E12*D12 -> 14000 | G12: 850 | H12: =G12*F12 -> 11900000
A13: 7 | B13: Lê Quốc Trị | C13: Hoa Đông | D13: 6 | E13: 700 | F13: =E13*D13 -> 4200 | G13: 850 | H13: =G13*F13 -> 3570000
A14: 8 | B14: Lê Như Hường | C14: Hoa Đông | D14: 10 | E14: 700 | F14: =E14*D14 -> 7000 | G14: 850 | H14: =G14*F14 -> 5950000
A15: 9 | B15: Nguyễn Tiến Việt | C15: Hoa Đông | D15: 7 | E15: 700 | F15: =E15*D15 -> 4900 | G15: 850 | H15: =G15*F15 -> 4165000
A16: 10 | B16: Lê Quốc Việt | C16: Hoa Đông | D16: 5 | E16: 700 | F16: =E16*D16 -> 3500 | G16: 850 | H16: =G16*F16 -> 2975000
A17: 11 | B17: Đào Minh Trí | C17: Hoa Trung | D17: 5 | E17: 700 | F17: =E17*D17 -> 3500 | G17: 850 | H17: =G17*F17 -> 2975000
A18: 12 | B18: Trần Đức Thịnh | C18: Hoa Trung | D18: 7 | E18: 700 | F18: =E18*D18 -> 4900 | G18: 850 | H18: =G18*F18 -> 4165000
... A164: 158 | B164: Nguyễn Tiến Phúc | C164: Tấn Sơn | D164: 10 | E164: 700 | F164: =E164*D164 -> 7000 | G164: 850 | H164: =G164*F164 -> 5950000
D165: =SUM(D7:D164) -> 1247.12 | H165: =SUM(H7:H164) -> 742036400
